Workbook

Sheet ТО15000
A1: Pajero IV (BK) | D1: ТО15000
D2: Норма времени, н/ч | E2: Стоимость нормочаса, руб. | G2: Стоимость работ, руб.
A3: Обязательные работы | B3: 3,2 DI-D | C3: МКПП | D3: 1.9 | E3: =[1]Лист1!$B$5 -> 2499 | G3: =D3*E3 -> 4748.1
C4: АКПП | D4: 1.9 | G4: =D4*E3 -> 4748.1
B5: 3 | C5: МКПП | D5: 1.6 | G5: =D5*E3 -> 3998.4
C6: АКПП | D6: 1.6 | G6: =D6*E3 -> 3998.4
B7: 3,8 MIVEC | C7: МКПП
C8: АКПП | D8: 1.6 | G8: =D8*E3 -> 3998.4
A9: Рекомендованные работы | B9: Сход-развал | D9: 1.6 | E9: =[1]Лист1!$B$5 -> 2499 | G9: =D9*E9 -> 3998.4
B10: Мотор-тестер | D10: 0.5 | E10: =[1]Лист1!$B$5 -> 2499 | G10: =D10*E10 -> 1249.5
D11: Вид | E11: Наименование/кат.номер | F11: Количество, л(шт) | G11: Стоимость единицы наименования | H11: Стоимость запчастей, руб.
A12: Расходные материалы | B12: =B3 -> 3,2 DI-D | C12: МКПП | D12: Моторное масло | E12: Mobil-1 5W50 | F12: 9.3 | G12: ='[2]Масла и технические жидкости'!$C$4 -> 522 | H12: =F12*G12 -> 4854.6
D13: Масляный фильтр | E13: 1230A046 | F13: 1 | G13: =[2]Запчасти!$C$155 -> 858 | H13: =F13*G13 -> 858
D14: Салонный фильтр | E14: 7803A028 | F14: 1 | G14: =[2]Запчасти!$C$149 -> 1310 | H14: =F14*G14 -> 1310
D15: Топливный фильтр | E15: 1770A053 | F15: 1 | G15: =[2]Запчасти!$C$157 -> 1782 | H15: =F15*G15 -> 1782
H16: =F16*G16 -> 0
H17: =F17*G17 -> 0
H18: =F18*G18 -> 0
H19: =F19*G19 -> 0
H20: =F20*G20 -> 0
H21: =F21*G21 -> 0
D22: Итого | H22: =SUM(H12:H21) -> 8804.6
C23: АКПП | D23: Моторное масло | E23: Mobil-1 5W50 | F23: 9.3 | G23: ='[2]Масла и технические жидкости'!$C$4 -> 522 | H23: =F23*G23 -> 4854.6
D24: Масляный фильтр | E24: 1230A046 | F24: 1 | G24: =[2]Запчасти!$C$155 -> 858 | H24: =F24*G24 -> 858
D25: Салонный фильтр | E25: 7803A028 | F25: 1 | G25: =[2]Запчасти!$C$149 -> 1310 | H25: =F25*G25 -> 1310
D26: Топливный фильтр | E26: 1770A053 | F26: 1 | G26: =[2]Запчасти!$C$157 -> 1782 | H26: =F26*G26 -> 1782
H27: =F27*G27 -> 0
H28: =F28*G28 -> 0
H29: =F29*G29 -> 0
H30: =F30*G30 -> 0
H31: =F31*G31 -> 0
H32: =F32*G32 -> 0
D33: Итого | H33: =SUM(H23:H32) -> 8804.6
B34: 3 | C34: МКПП | D34: Моторное масло | E34: Mobil-1 0W40 | F34: 4.9 | G34: ='[2]Масла и технические жидкости'!$C$5 -> 711.46 | H34: =F34*G34 -> 3486.154
D35: Масляный фильтр | E35: =[2]Запчасти!$B$148 -> MD352626 | F35: 1 | G35: =[2]Запчасти!$C$148 -> 753 | H35: =F35*G35 -> 753
D36: Салонный фильтр | E36: =[2]Запчасти!$B$149 -> 7803A028 | F36: 1 | G36: =[2]Запчасти!$C$149 -> 1310 | H36: =F36*G36 -> 1310
H37: =F37*G37 -> 0
H38: =F38*G38 -> 0
H39: =F39*G39 -> 0
H40: =F40*G40 -> 0
...

Sheet ТО30000
A1: =ТО15000!A1 -> Pajero IV (BK) | D1: ТО30000
D2: Норма времени, н/ч | E2: Стоимость нормочаса, руб. | G2: Стоимость работ, руб.
A3: Обязательные работы | B3: =ТО15000!B3 -> 3,2 DI-D | C3: МКПП | D3: 2.8 | E3: =ТО15000!E3 -> 2499 | G3: =D3*E3 -> 6997.2
C4: АКПП | D4: 2.6 | G4: =D4*E3 -> 6497.4
B5: 3 | C5: МКПП | D5: 2.3 | G5: =D5*E3 -> 5747.7
C6: АКПП | D6: 2.1 | G6: =D6*E3 -> 5247.9
B7: =ТО15000!B7 -> 3,8 MIVEC | C7: МКПП
C8: АКПП | D8: 2.1 | G8: =D8*E3 -> 5247.9
A9: Рекомендованные работы
B10: Мотор-тестер | D10: =ТО15000!D10 -> 0.5 | E10: =ТО15000!E10 -> 2499 | G10: =D10*E10 -> 1249.5
D11: Вид | E11: Наименование/кат.номер | F11: Количество, л(шт) | G11: Стоимость единицы наименования | H11: Стоимость запчастей, руб.
A12: Расходные материалы | B12: =ТО15000!B12 -> 3,2 DI-D | C12: МКПП | D12: Моторное масло | E12: Mobil-1 5W50 | F12: 9.3 | G12: ='[2]Масла и технические жидкости'!$C$4 -> 522 | H12: =F12*G12 -> 4854.6
D13: Масляный фильтр | E13: 1230A046 | F13: 1 | G13: =[2]Запчасти!$C$155 -> 858 | H13: =F13*G13 -> 858
D14: Салонный фильтр | E14: 7803A028 | F14: 1 | G14: =[2]Запчасти!$C$149 -> 1310 | H14: =F14*G14 -> 1310
D15: Топливный фильтр | E15: 1770A053 | F15: 1 | G15: =[2]Запчасти!$C$157 -> 1782 | H15: =F15*G15 -> 1782
D16: Жидкость гидропривода тормозов и сцепления | E16: Mobil DOT4 | F16: 1 | G16: ='[2]Масла и технические жидкости'!$C$6 -> 275 | H16: =F16*G16 -> 275
D17: Воздушный фильтр | E17: MR404847 | F17: 1 | G17: =[2]Запчасти!$C$156 -> 1993 | H17: =F17*G17 -> 1993
H18: =F18*G18 -> 0
H19: =F19*G19 -> 0
H20: =F20*G20 -> 0
D21: Итого | H21: =SUM(H12:H20) -> 11072.6
C22: АКПП | D22: Моторное масло | E22: Mobil-1 5W50 | F22: 9.3 | G22: ='[2]Масла и технические жидкости'!$C$4 -> 522 | H22: =F22*G22 -> 4854.6
D23: Масляный фильтр | E23: 1230A046 | F23: 1 | G23: =[2]Запчасти!$C$155 -> 858 | H23: =F23*G23 -> 858
D24: Салонный фильтр | E24: 7803A028 | F24: 1 | G24: =[2]Запчасти!$C$149 -> 1310 | H24: =F24*G24 -> 1310
D25: Топливный фильтр | E25: 1770A053 | F25: 1 | G25: =[2]Запчасти!$C$157 -> 1782 | H25: =F25*G25 -> 1782
D26: Жидкость гидропривода тормозов | E26: Mobil DOT4 | F26: 1 | G26: ='[2]Масла и технические жидкости'!$C$6 -> 275 | H26: =F26*G26 -> 275
D27: Воздушный фильтр | E27: MR404847 | F27: 1 | G27: =[2]Запчасти!$C$156 -> 1993 | H27: =F27*G27 -> 1993
H28: =F28*G28 -> 0
H29: =F29*G29 -> 0
H30: =F30*G30 -> 0
D31: Итого | H31: =SUM(H22:H30) -> 11072.6
B32: 3 | C32: МКПП | D32: Моторное масло | E32: ='[2]Масла и технические жидкости'!$B$5 -> Mobil-1 0W40 | F32: 4.9 | G32: ='[2]Масла и технические жидкости'!$C$5 -> 711.46 | H32: =F32*G32 -> 3486.154
D33: Масляный фильтр | E33: =[2]Запчасти!$B$148 -> MD352626 | F33: 1 | G33: =[2]Запчасти!$C$148 -> 753 | H33: =F33*G33 -> 753
D34: Салонный фильтр | E34: =[2]Запчасти!$B$149 -> 7803A028 | F34: 1 | G34: =[2]Запчасти!$C$149 -> 1310 | H34: =F34*G34 -> 1310
D35: Жидкость гидропривода тормозов и сцепления | E35: ='[2]Масла и технические жидкости'!$B$6 -> Mobil DOT4 | F35: 1 | G35: ='[2]Масла и технические жидкости'!$C$6 -> 275 | H35: =F35*G35 -> 275
D36: Воздушный фильтр | E36: =[2]Запчасти!$B$150 -> MR571476 | F36: 1 | G36: =[2]Запчасти!$C$150 -> 2159 | H36: =F36*G36 -> 2159
H37: =F37*G37 -> 0
H38: =F38*G38 -> 0
H39: =F39*G39 -> 0
H40: =F40*G40 -> 0
...

Sheet ТО45000
A1: =ТО15000!A1 -> Pajero IV (BK) | D1: ТО45000
D2: Норма времени, н/ч | E2: Стоимость нормочаса, руб. | G2: Стоимость работ, руб.
A3: Обязательные работы | B3: =ТО30000!B3 -> 3,2 DI-D | C3: МКПП | D3: 2.6 | E3: =[1]Лист1!$B$5 -> 2499 | G3: =D3*E3 -> 6497.4
C4: АКПП | D4: 2.4 | G4: =D4*E3 -> 5997.6
B5: 3 | C5: МКПП | D5: 2 | G5: =D5*E3 -> 4998
C6: АКПП | D6: 1.9 | G6: =D6*E3 -> 4748.1
B7: =ТО30000!B7 -> 3,8 MIVEC | C7: МКПП
C8: АКПП | D8: 1.9 | G8: =D8*E3 -> 4748.1
A9: Рекомендованные работы | B9: Сход-развал | D9: =ТО15000!D9 -> 1.6 | E9: =[1]Лист1!$B$5 -> 2499 | G9: =D9*E9 -> 3998.4
B10: Мотор-тестер | D10: =ТО15000!D10 -> 0.5 | E10: =[1]Лист1!$B$5 -> 2499 | G10: =D10*E10 -> 1249.5
D11: Вид | E11: Наименование/кат.номер | F11: Количество, л(шт) | G11: Стоимость единицы наименования | H11: Стоимость запчастей, руб.
A12: Расходные материалы | B12: =ТО30000!B12 -> 3,2 DI-D | C12: МКПП | D12: Моторное масло | E12: Mobil-1 5W50 | F12: 9.3 | G12: ='[2]Масла и технические жидкости'!$C$4 -> 522 | H12: =F12*G12 -> 4854.6
D13: Масляный фильтр | E13: 1230A046 | F13: 1 | G13: =[2]Запчасти!$C$155 -> 858 | H13: =F13*G13 -> 858
D14: Салонный фильтр | E14: 7803A028 | F14: 1 | G14: =[2]Запчасти!$C$149 -> 1310 | H14: =F14*G14 -> 1310
D15: Топливный фильтр | E15: 1770A053 | F15: 1 | G15: =[2]Запчасти!$C$157 -> 1782 | H15: =F15*G15 -> 1782
D16: Масло МКПП | E16: ='[2]Масла и технические жидкости'!$B$8 -> Mobilube 1-SHC 75W90 | F16: 3.2 | G16: ='[2]Масла и технические жидкости'!$C$8 -> 648.33 | H16: =F16*G16 -> 2074.656
D17: Масло РК | E17: ='[2]Масла и технические жидкости'!$B$8 -> Mobilube 1-SHC 75W90 | F17: 2.8 | G17: ='[2]Масла и технические жидкости'!$C$8 -> 648.33 | H17: =F17*G17 -> 1815.324
D18: Масло задн. дифф. | E18: ='[2]Масла и технические жидкости'!$B$8 -> Mobilube 1-SHC 75W90 | F18: 1.6 | G18: ='[2]Масла и технические жидкости'!$C$8 -> 648.33 | H18: =F18*G18 -> 1037.328
H19: =F19*G19 -> 0
H20: =F20*G20 -> 0
D21: Итого | H21: =SUM(H12:H20) -> 13731.908
C22: АКПП | D22: Моторное масло | E22: Mobil-1 5W50 | F22: 9.3 | G22: ='[2]Масла и технические жидкости'!$C$4 -> 522 | H22: =F22*G22 -> 4854.6
D23: Масляный фильтр | E23: 1230A046 | F23: 1 | G23: =[2]Запчасти!$C$155 -> 858 | H23: =F23*G23 -> 858
D24: Салонный фильтр | E24: 7803A028 | F24: 1 | G24: =[2]Запчасти!$C$149 -> 1310 | H24: =F24*G24 -> 1310
D25: Топливный фильтр | E25: 1770A053 | F25: 1 | G25: =[2]Запчасти!$C$157 -> 1782 | H25: =F25*G25 -> 1782
D26: Масло РК | E26: ='[2]Масла и технические жидкости'!$B$8 -> Mobilube 1-SHC 75W90 | F26: 2.8 | G26: ='[2]Масла и технические жидкости'!$C$8 -> 648.33 | H26: =F26*G26 -> 1815.324
D27: Масло задн. дифф. | E27: ='[2]Масла и технические жидкости'!$B$8 -> Mobilube 1-SHC 75W90 | F27: 1.6 | G27: ='[2]Масла и технические жидкости'!$C$8 -> 648.33 | H27: =F27*G27 -> 1037.328
H28: =F28*G28 -> 0
H29: =F29*G29 -> 0
D30: Итого | H30: =SUM(H22:H29) -> 11657.252
B31: 3 | C31: МКПП | D31: Моторное масло | E31: Mobil-1 0W40 | F31: 4.9 | G31: ='[2]Масла и технические жидкости'!$C$5 -> 711.46 | H31: =F31*G31 -> 3486.154
D32: Масляный фильтр | E32: =[2]Запчасти!$B$148 -> MD352626 | F32: 1 | G32: =[2]Запчасти!$C$148 -> 753 | H32: =F32*G32 -> 753
D33: Салонный фильтр | E33: =[2]Запчасти!$B$149 -> 7803A028 | F33: 1 | G33: =[2]Запчасти!$C$149 -> 1310 | H33: =F33*G33 -> 1310
D34: Масло МКПП | E34: ='[2]Масла и технические жидкости'!$B$8 -> Mobilube 1-SHC 75W90 | F34: 3.2 | G34: ='[2]Масла и технические жидкости'!$C$8 -> 648.33 | H34: =F34*G34 -> 2074.656
D35: Масло РК | E35: ='[2]Масла и технические жидкости'!$B$8 -> Mobilube 1-SHC 75W90 | F35: 2.8 | G35: =G34 -> 648.33 | H35: =F35*G35 -> 1815.324
D36: Масло задн. дифф. | E36: ='[2]Масла и технические жидкости'!$B$8 -> Mobilube 1-SHC 75W90 | F36: 1.6 | G36: =G34 -> 648.33 | H36: =F36*G36 -> 1037.328
H37: =F37*G37 -> 0
H38: =F38*G38 -> 0
H39: =F39*G39 -> 0
D40: Итого | H40: =SUM(H31:H39) -> 10476.462
...

Sheet ТО60000
A1: =ТО15000!A1 -> Pajero IV (BK) | D1: ТО60000
D2: Норма времени, н/ч | E2: Стоимость нормочаса, руб. | G2: Стоимость работ, руб.
A3: Обязательные работы | B3: =ТО45000!B3 -> 3,2 DI-D | C3: МКПП | D3: 5 | E3: =ТО15000!E3 -> 2499 | G3: =D3*E3 -> 12495
C4: АКПП | D4: 4.8 | G4: =D4*E3 -> 11995.2
B5: 3 | C5: МКПП | D5: 4.4 | G5: =D5*E3 -> 10995.6
C6: АКПП | D6: 4.4 | G6: =D6*E3 -> 10995.6
B7: =ТО45000!B7 -> 3,8 MIVEC | C7: МКПП
C8: АКПП | D8: 4.5 | G8: =D8*E3 -> 11245.5
A9: Рекомендованные работы
B10: Мотор-тестер | D10: =ТО15000!D10 -> 0.5 | E10: =ТО15000!E10 -> 2499 | G10: =D10*E10 -> 1249.5
D11: Вид | E11: Наименование/кат.номер | F11: Количество, л(шт) | G11: Стоимость единицы наименования | H11: Стоимость запчастей, руб.
A12: Расходные материалы | B12: =B3 -> 3,2 DI-D | C12: МКПП | D12: Моторное масло | E12: Mobil-1 5W50 | F12: 9.3 | G12: ='[2]Масла и технические жидкости'!$C$4 -> 522 | H12: =F12*G12 -> 4854.6
D13: Масляный фильтр | E13: 1230A046 | F13: 1 | G13: =[2]Запчасти!$C$155 -> 858 | H13: =F13*G13 -> 858
D14: Салонный фильтр | E14: 7803A028 | F14: 1 | G14: =[2]Запчасти!$C$149 -> 1310 | H14: =F14*G14 -> 1310
D15: Топливный фильтр | E15: 1770A053 | F15: 1 | G15: =[2]Запчасти!$C$157 -> 1782 | H15: =F15*G15 -> 1782
D16: Жидкость гидропривода тормозов и сцепления | E16: Mobil DOT4 | F16: 1 | G16: ='[2]Масла и технические жидкости'!$C$6 -> 275 | H16: =F16*G16 -> 275
D17: Воздушный фильтр | E17: MR404847 | F17: 1 | G17: =[2]Запчасти!$C$156 -> 1993 | H17: =F17*G17 -> 1993
D18: Охлаждающая жидкость | E18: ='[2]Масла и технические жидкости'!$B$14 -> Antifreeze Extra | F18: 11 | G18: ='[2]Масла и технические жидкости'!$C$14 -> 332 | H18: =F18*G18 -> 3652
H19: =F19*G19 -> 0
H20: =F20*G20 -> 0
D21: Итого | H21: =SUM(H12:H20) -> 14724.6
C22: АКПП | D22: Моторное масло | E22: Mobil-1 5W50 | F22: 9.3 | G22: ='[2]Масла и технические жидкости'!$C$4 -> 522 | H22: =F22*G22 -> 4854.6
D23: Масляный фильтр | E23: 1230A046 | F23: 1 | G23: =[2]Запчасти!$C$155 -> 858 | H23: =F23*G23 -> 858
D24: Салонный фильтр | E24: 7803A028 | F24: 1 | G24: =[2]Запчасти!$C$149 -> 1310 | H24: =F24*G24 -> 1310
D25: Топливный фильтр | E25: 1770A053 | F25: 1 | G25: =[2]Запчасти!$C$157 -> 1782 | H25: =F25*G25 -> 1782
D26: Жидкость гидропривода тормозов | E26: Mobil DOT4 | F26: 1 | G26: ='[2]Масла и технические жидкости'!$C$6 -> 275 | H26: =F26*G26 -> 275
D27: Воздушный фильтр | E27: MR404847 | F27: 1 | G27: =[2]Запчасти!$C$156 -> 1993 | H27: =F27*G27 -> 1993
D28: Охлаждающая жидкость | E28: ='[2]Масла и технические жидкости'!$B$14 -> Antifreeze Extra | F28: 11 | G28: ='[2]Масла и технические жидкости'!$C$14 -> 332 | H28: =F28*G28 -> 3652
H29: =F29*G29 -> 0
H30: =F30*G30 -> 0
D31: Итого | H31: =SUM(H22:H30) -> 14724.6
B32: 3 | C32: МКПП | D32: Моторное масло | E32: Mobil-1 0W40 | F32: 4.9 | G32: ='[2]Масла и технические жидкости'!$C$5 -> 711.46 | H32: =F32*G32 -> 3486.154
D33: Масляный фильтр | E33: =[2]Запчасти!$B$194 -> MD352626 | F33: 1 | G33: =[2]Запчасти!$C$194 -> 753 | H33: =F33*G33 -> 753
D34: Салонный фильтр | E34: =[2]Запчасти!$B$195 -> 7803A028 | F34: 1 | G34: =[2]Запчасти!$C$195 -> 1310 | H34: =F34*G34 -> 1310
D35: Свечи зажигания | E35: =[2]Запчасти!$B$198 -> 1822A002 | F35: 6 | G35: =[2]Запчасти!$C$198 -> 1099 | H35: =F35*G35 -> 6594
D36: Охлаждающая жидкость | E36: =E68 -> Antifreeze Extra | F36: 11 | G36: =G68 -> 332 | H36: =F36*G36 -> 3652
D37: Жидкость гидропривода тормозов | E37: =E69 -> Mobil DOT4 | F37: 1 | G37: =G69 -> 275 | H37: =F37*G37 -> 275
D38: Воздушный фильтр | E38: =[2]Запчасти!$B$150 -> MR571476 | F38: 1 | G38: =[2]Запчасти!$C$150 -> 2159 | H38: =F38*G38 -> 2159
D39: Прокладка впускного коллектора | E39: =[2]Запчасти!$B$161 -> MD199282 | F39: 1 | G39: =[2]Запчасти!$C$161 -> 557 | H39: =F39*G39 -> 557
H40: =F40*G40 -> 0
...

Sheet ТО75000
A1: =ТО15000!A1 -> Pajero IV (BK) | D1: ТО75000
D2: Норма времени, н/ч | E2: Стоимость нормочаса, руб. | G2: Стоимость работ, руб.
A3: Обязательные работы | B3: =ТО60000!B3 -> 3,2 DI-D | C3: МКПП | D3: 1.9 | E3: =[1]Лист1!$B$5 -> 2499 | G3: =D3*E3 -> 4748.1
C4: АКПП | D4: 1.9 | G4: =D4*E3 -> 4748.1
B5: 3 | C5: МКПП | D5: 1.6 | G5: =D5*E3 -> 3998.4
C6: АКПП | D6: 1.6 | G6: =D6*E3 -> 3998.4
B7: =ТО60000!B7 -> 3,8 MIVEC | C7: МКПП
C8: АКПП | D8: 1.6 | G8: =D8*E3 -> 3998.4
A9: Рекомендованные работы | B9: Сход-развал | D9: =ТО15000!D9 -> 1.6 | E9: =[1]Лист1!$B$5 -> 2499 | G9: =D9*E9 -> 3998.4
B10: Мотор-тестер | D10: =ТО15000!D10 -> 0.5 | E10: =[1]Лист1!$B$5 -> 2499 | G10: =D10*E10 -> 1249.5
D11: Вид | E11: Наименование/кат.номер | F11: Количество, л(шт) | G11: Стоимость единицы наименования | H11: Стоимость запчастей, руб.
A12: Расходные материалы | B12: =B3 -> 3,2 DI-D | C12: МКПП | D12: Моторное масло | E12: Mobil-1 5W50 | F12: 9.3 | G12: ='[2]Масла и технические жидкости'!$C$4 -> 522 | H12: =F12*G12 -> 4854.6
D13: Масляный фильтр | E13: 1230A046 | F13: 1 | G13: =[2]Запчасти!$C$155 -> 858 | H13: =F13*G13 -> 858
D14: Салонный фильтр | E14: 7803A028 | F14: 1 | G14: =[2]Запчасти!$C$149 -> 1310 | H14: =F14*G14 -> 1310
D15: Топливный фильтр | E15: 1770A053 | F15: 1 | G15: =[2]Запчасти!$C$157 -> 1782 | H15: =F15*G15 -> 1782
H16: =F16*G16 -> 0
H17: =F17*G17 -> 0
H18: =F18*G18 -> 0
H19: =F19*G19 -> 0
H20: =F20*G20 -> 0
H21: =F21*G21 -> 0
D22: Итого | H22: =SUM(H12:H21) -> 8804.6
C23: АКПП | D23: Моторное масло | E23: Mobil-1 5W50 | F23: 9.3 | G23: ='[2]Масла и технические жидкости'!$C$4 -> 522 | H23: =F23*G23 -> 4854.6
D24: Масляный фильтр | E24: 1230A046 | F24: 1 | G24: =[2]Запчасти!$C$155 -> 858 | H24: =F24*G24 -> 858
D25: Салонный фильтр | E25: 7803A028 | F25: 1 | G25: =[2]Запчасти!$C$149 -> 1310 | H25: =F25*G25 -> 1310
D26: Топливный фильтр | E26: 1770A053 | F26: 1 | G26: =[2]Запчасти!$C$157 -> 1782 | H26: =F26*G26 -> 1782
H27: =F27*G27 -> 0
H28: =F28*G28 -> 0
H29: =F29*G29 -> 0
H30: =F30*G30 -> 0
H31: =F31*G31 -> 0
H32: =F32*G32 -> 0
D33: Итого | H33: =SUM(H23:H32) -> 8804.6
B34: 3 | C34: МКПП | D34: Моторное масло | E34: Mobil-1 0W40 | F34: 4.9 | G34: ='[2]Масла и технические жидкости'!$C$5 -> 711.46 | H34: =F34*G34 -> 3486.154
D35: Масляный фильтр | E35: =[2]Запчасти!$B$148 -> MD352626 | F35: 1 | G35: =[2]Запчасти!$C$148 -> 753 | H35: =F35*G35 -> 753
D36: Салонный фильтр | E36: =[2]Запчасти!$B$149 -> 7803A028 | F36: 1 | G36: =[2]Запчасти!$C$149 -> 1310 | H36: =F36*G36 -> 1310
H37: =F37*G37 -> 0
H38: =F38*G38 -> 0
H39: =F39*G39 -> 0
H40: =F40*G40 -> 0
...

Sheet ТО90000
A1: =ТО15000!A1 -> Pajero IV (BK) | D1: ТО90000
D2: Норма времени, н/ч | E2: Стоимость нормочаса, руб. | G2: Стоимость работ, руб.
A3: Обязательные работы | B3: =ТО75000!B3 -> 3,2 DI-D | C3: МКПП | D3: 3.8 | E3: =ТО15000!E3 -> 2499 | G3: =D3*E3 -> 9496.2
C4: АКПП | D4: 4.1 | G4: =D4*E3 -> 10245.9
B5: 3 | C5: МКПП | D5: 5.2 | G5: =D5*E3 -> 12994.8
C6: АКПП | D6: 5.2 | G6: =D6*E3 -> 12994.8
B7: =ТО75000!B7 -> 3,8 MIVEC | C7: МКПП
C8: АКПП | D8: 5.2 | G8: =D8*E3 -> 12994.8
B9: =B7 -> 3,8 MIVEC | C9: Замена реком. з/ч | D9: 1.5 | E9: =E10 -> 2499 | G9: =D9*E9 -> 3748.5
B10: Мотор-тестер | D10: =ТО15000!D10 -> 0.5 | E10: =ТО15000!E10 -> 2499 | G10: =D10*E10 -> 1249.5
D11: Вид | E11: Наименование/кат.номер | F11: Количество, л(шт) | G11: Стоимость единицы наименования | H11: Стоимость запчастей, руб.
A12: Расходные материалы | B12: =B3 -> 3,2 DI-D | C12: МКПП | D12: Моторное масло | E12: Mobil-1 5W50 | F12: 9.3 | G12: ='[2]Масла и технические жидкости'!$C$4 -> 522 | H12: =F12*G12 -> 4854.6
D13: Масляный фильтр | E13: 1230A046 | F13: 1 | G13: =[2]Запчасти!$C$155 -> 858 | H13: =F13*G13 -> 858
D14: Салонный фильтр | E14: 7803A028 | F14: 1 | G14: =[2]Запчасти!$C$149 -> 1310 | H14: =F14*G14 -> 1310
D15: Топливный фильтр | E15: 1770A053 | F15: 1 | G15: =[2]Запчасти!$C$157 -> 1782 | H15: =F15*G15 -> 1782
D16: Жидкость гидропривода тормозов и сцепления | E16: Mobil DOT4 | F16: 1 | G16: ='[2]Масла и технические жидкости'!$C$6 -> 275 | H16: =F16*G16 -> 275
D17: Воздушный фильтр | E17: MR404847 | F17: 1 | G17: =[2]Запчасти!$C$156 -> 1993 | H17: =F17*G17 -> 1993
D18: Масло МКПП | E18: ='[2]Масла и технические жидкости'!$B$8 -> Mobilube 1-SHC 75W90 | F18: 3.2 | G18: ='[2]Масла и технические жидкости'!$C$8 -> 648.33 | H18: =F18*G18 -> 2074.656
D19: Масло РК | E19: ='[2]Масла и технические жидкости'!$B$8 -> Mobilube 1-SHC 75W90 | F19: 2.8 | G19: ='[2]Масла и технические жидкости'!$C$8 -> 648.33 | H19: =F19*G19 -> 1815.324
D20: Масло задн. дифф. | E20: ='[2]Масла и технические жидкости'!$B$8 -> Mobilube 1-SHC 75W90 | F20: 1.6 | G20: ='[2]Масла и технические жидкости'!$C$8 -> 648.33 | H20: =F20*G20 -> 1037.328
D21: Масло пер. дифф. | E21: ='[2]Масла и технические жидкости'!$B$8 -> Mobilube 1-SHC 75W90 | F21: 1.15 | G21: ='[2]Масла и технические жидкости'!$C$8 -> 648.33 | H21: =F21*G21 -> 745.5795
D22: Итого | H22: =SUM(H12:H21) -> 16745.488
C23: АКПП | D23: Моторное масло | E23: Mobil-1 5W50 | F23: 9.3 | G23: ='[2]Масла и технические жидкости'!$C$4 -> 522 | H23: =F23*G23 -> 4854.6
D24: Масляный фильтр | E24: 1230A046 | F24: 1 | G24: =[2]Запчасти!$C$155 -> 858 | H24: =F24*G24 -> 858
D25: Салонный фильтр | E25: 7803A028 | F25: 1 | G25: =[2]Запчасти!$C$149 -> 1310 | H25: =F25*G25 -> 1310
D26: Топливный фильтр | E26: 1770A053 | F26: 1 | G26: =[2]Запчасти!$C$157 -> 1782 | H26: =F26*G26 -> 1782
D27: Жидкость гидропривода тормозов | E27: Mobil DOT4 | F27: 1 | G27: ='[2]Масла и технические жидкости'!$C$6 -> 275 | H27: =F27*G27 -> 275
D28: Воздушный фильтр | E28: MR404847 | F28: 1 | G28: =[2]Запчасти!$C$156 -> 1993 | H28: =F28*G28 -> 1993
D29: Масло РК | E29: ='[2]Масла и технические жидкости'!$B$8 -> Mobilube 1-SHC 75W90 | F29: 2.8 | G29: ='[2]Масла и технические жидкости'!$C$8 -> 648.33 | H29: =F29*G29 -> 1815.324
D30: Масло задн. дифф. | E30: ='[2]Масла и технические жидкости'!$B$8 -> Mobilube 1-SHC 75W90 | F30: 1.6 | G30: ='[2]Масла и технические жидкости'!$C$8 -> 648.33 | H30: =F30*G30 -> 1037.328
D31: Масло пер. дифф. | E31: ='[2]Масла и технические жидкости'!$B$8 -> Mobilube 1-SHC 75W90 | F31: 1.15 | G31: ='[2]Масла и технические жидкости'!$C$8 -> 648.33 | H31: =F31*G31 -> 745.5795
D32: Масло АКПП | E32: ='[2]Масла и технические жидкости'!$B$11 -> BP ATF SP-III | F32: 9.7 | G32: ='[2]Масла и технические жидкости'!$C$11 -> 419.3 | H32: =F32*G32 -> 4067.21
D33: Итого | H33: =SUM(H23:H31) -> 14670.832
B34: 3 | C34: МКПП | D34: Моторное масло | E34: =ТО15000!E34 -> Mobil-1 0W40 | F34: =ТО15000!F34 -> 4.9 | G34: =ТО15000!G34 -> 711.46 | H34: =F34*G34 -> 3486.154
D35: Масляный фильтр | E35: =ТО15000!E35 -> MD352626 | F35: =ТО15000!F35 -> 1 | G35: =ТО15000!G35 -> 753 | H35: =F35*G35 -> 753 | J35: Запчасти, рекомендуемые к замене
D36: Салонный фильтр | E36: =ТО15000!E36 -> 7803A028 | F36: =ТО15000!F36 -> 1 | G36: =ТО15000!G36 -> 1310 | H36: =F36*G36 -> 1310 | I36: Наименование | J36: Каталожный номер | K36: Стоимость
D37: Ремень ГРМ | E37: =[2]Запчасти!$B$200 -> MD358557 | F37: 1 | G37: =[2]Запчасти!$C$200 -> 10019 | H37: =F37*G37 -> 10019 | I37: Натяжит. ремня ГРМ | J37: =[2]Запчасти!$F$194 -> MD362861 | K37: =[2]Запчасти!$G$194 -> 4259
D38: Жидкость гидропривода тормозов и сцепления | E38: =E49 -> Mobil DOT4 | F38: 1 | G38: ='[2]Масла и технические жидкости'!$C$6 -> 275 | H38: =F38*G38 -> 275 | I38: Ролик натяжителя | J38: =[2]Запчасти!$F$195 -> MD140071 | K38: =[2]Запчасти!$G$195 -> 2873
D39: Воздушный фильтр | E39: =[2]Запчасти!$B$196 -> MR571476 | F39: 1 | G39: =[2]Запчасти!$C$196 -> 2159 | H39: =F39*G39 -> 2159 | I39: Ролик обводной | J39: =[2]Запчасти!$F$196 -> MD319022 | K39: =[2]Запчасти!$G$196 -> 2427
D40: Масло МКПП | E40: ='[2]Масла и технические жидкости'!$B$8 -> Mobilube 1-SHC 75W90 | F40: 3.2 | G40: ='[2]Масла и технические жидкости'!$C$8 -> 648.33 | H40: =F40*G40 -> 2074.656 | I40: Итого | K40: =SUM(K37:K39) -> 9559
...

Sheet ТО105000
A1: =ТО15000!A1 -> Pajero IV (BK) | D1: ТО105000
D2: Норма времени, н/ч | E2: Стоимость нормочаса, руб. | G2: Стоимость работ, руб.
A3: Обязательные работы | B3: =ТО90000!B3 -> 3,2 DI-D | C3: МКПП | D3: 2 | E3: =[1]Лист1!$B$5 -> 2499 | G3: =D3*E3 -> 4998
C4: АКПП | D4: 2 | G4: =D4*E3 -> 4998
B5: 3 | C5: МКПП | D5: 1.6 | G5: =D5*E3 -> 3998.4
C6: АКПП | D6: 1.6 | G6: =D6*E3 -> 3998.4
B7: =ТО90000!B7 -> 3,8 MIVEC | C7: МКПП
C8: АКПП | D8: 1.7 | G8: =D8*E3 -> 4248.3
A9: Рекомендованные работы | B9: Сход-развал | D9: =ТО15000!D9 -> 1.6 | E9: =[1]Лист1!$B$5 -> 2499 | G9: =D9*E9 -> 3998.4
B10: Мотор-тестер | D10: =ТО15000!D10 -> 0.5 | E10: =[1]Лист1!$B$5 -> 2499 | G10: =D10*E10 -> 1249.5
D11: Вид | E11: Наименование/кат.номер | F11: Количество, л(шт) | G11: Стоимость единицы наименования | H11: Стоимость запчастей, руб.
A12: Расходные материалы | B12: =B3 -> 3,2 DI-D | C12: МКПП | D12: Моторное масло | E12: Mobil-1 5W50 | F12: 9.3 | G12: ='[2]Масла и технические жидкости'!$C$4 -> 522 | H12: =F12*G12 -> 4854.6
D13: Масляный фильтр | E13: 1230A046 | F13: 1 | G13: =[2]Запчасти!$C$155 -> 858 | H13: =F13*G13 -> 858
D14: Салонный фильтр | E14: 7803A028 | F14: 1 | G14: =[2]Запчасти!$C$149 -> 1310 | H14: =F14*G14 -> 1310
D15: Топливный фильтр | E15: 1770A053 | F15: 1 | G15: =[2]Запчасти!$C$157 -> 1782 | H15: =F15*G15 -> 1782
H16: =F16*G16 -> 0
H17: =F17*G17 -> 0
H18: =F18*G18 -> 0
H19: =F19*G19 -> 0
H20: =F20*G20 -> 0
H21: =F21*G21 -> 0
D22: Итого | H22: =SUM(H12:H21) -> 8804.6
C23: АКПП | D23: Моторное масло | E23: Mobil-1 5W50 | F23: 9.3 | G23: ='[2]Масла и технические жидкости'!$C$4 -> 522 | H23: =F23*G23 -> 4854.6
D24: Масляный фильтр | E24: 1230A046 | F24: 1 | G24: =[2]Запчасти!$C$155 -> 858 | H24: =F24*G24 -> 858
D25: Салонный фильтр | E25: 7803A028 | F25: 1 | G25: =[2]Запчасти!$C$149 -> 1310 | H25: =F25*G25 -> 1310
D26: Топливный фильтр | E26: 1770A053 | F26: 1 | G26: =[2]Запчасти!$C$157 -> 1782 | H26: =F26*G26 -> 1782
H27: =F27*G27 -> 0
H28: =F28*G28 -> 0
H29: =F29*G29 -> 0
H30: =F30*G30 -> 0
H31: =F31*G31 -> 0
H32: =F32*G32 -> 0
D33: Итого | H33: =SUM(H23:H32) -> 8804.6
B34: 3 | C34: МКПП | D34: Моторное масло | E34: ='[2]Масла и технические жидкости'!$B$5 -> Mobil-1 0W40 | F34: 4.9 | G34: ='[2]Масла и технические жидкости'!$C$5 -> 711.46 | H34: =F34*G34 -> 3486.154
D35: Масляный фильтр | E35: =[2]Запчасти!$B$194 -> MD352626 | F35: 1 | G35: =[2]Запчасти!$C$194 -> 753 | H35: =F35*G35 -> 753
D36: Салонный фильтр | E36: =[2]Запчасти!$B$195 -> 7803A028 | F36: 1 | G36: =[2]Запчасти!$C$195 -> 1310 | H36: =F36*G36 -> 1310
H37: =F37*G37 -> 0
H38: =F38*G38 -> 0
H39: =F39*G39 -> 0
H40: =F40*G40 -> 0
...

Sheet ТО120000
A1: =ТО15000!A1 -> Pajero IV (BK) | D1: ТО120000
D2: Норма времени, н/ч | E2: Стоимость нормочаса, руб. | G2: Стоимость работ, руб.
A3: Обязательные работы | B3: =ТО105000!B3 -> 3,2 DI-D | C3: МКПП | D3: 5 | E3: =ТО15000!E3 -> 2499 | G3: =D3*E3 -> 12495
C4: АКПП | D4: 4.8 | G4: =D4*E3 -> 11995.2
B5: 3 | C5: МКПП | D5: 5 | G5: =D5*E3 -> 12495
C6: АКПП | D6: 5 | G6: =D6*E3 -> 12495
B7: =ТО105000!B7 -> 3,8 MIVEC | C7: МКПП
C8: АКПП | D8: 5.1 | G8: =D8*E3 -> 12744.9
A9: Рекомендованные работы
B10: Мотор-тестер | D10: =ТО15000!D10 -> 0.5 | E10: =ТО15000!E10 -> 2499 | G10: =D10*E10 -> 1249.5
D11: Вид | E11: Наименование/кат.номер | F11: Количество, л(шт) | G11: Стоимость единицы наименования | H11: Стоимость запчастей, руб.
A12: Расходные материалы | B12: =B3 -> 3,2 DI-D | C12: МКПП | D12: Моторное масло | E12: Mobil-1 5W50 | F12: 9.3 | G12: ='[2]Масла и технические жидкости'!$C$4 -> 522 | H12: =F12*G12 -> 4854.6
D13: Масляный фильтр | E13: 1230A046 | F13: 1 | G13: =[2]Запчасти!$C$155 -> 858 | H13: =F13*G13 -> 858
D14: Салонный фильтр | E14: 7803A028 | F14: 1 | G14: =[2]Запчасти!$C$149 -> 1310 | H14: =F14*G14 -> 1310
D15: Топливный фильтр | E15: 1770A053 | F15: 1 | G15: =[2]Запчасти!$C$157 -> 1782 | H15: =F15*G15 -> 1782
D16: Жидкость гидропривода тормозов и сцепления | E16: Mobil DOT4 | F16: 1 | G16: ='[2]Масла и технические жидкости'!$C$6 -> 275 | H16: =F16*G16 -> 275
D17: Воздушный фильтр | E17: MR404847 | F17: 1 | G17: =[2]Запчасти!$C$156 -> 1993 | H17: =F17*G17 -> 1993
D18: Охлаждающая жидкость | E18: ='[2]Масла и технические жидкости'!$B$14 -> Antifreeze Extra | F18: 11 | G18: ='[2]Масла и технические жидкости'!$C$14 -> 332 | H18: =F18*G18 -> 3652
D19: Топливный фильтр в баке | E19: =[2]Запчасти!$B$158 -> MR556587 | F19: 1 | G19: =[2]Запчасти!$C$158 -> 1201 | H19: =F19*G19 -> 1201
D20: Прокладка топливного фильтра | E20: =[2]Запчасти!$B$159 -> MN106046 | F20: 1 | G20: =[2]Запчасти!$C$159 -> 320 | H20: =F20*G20 -> 320
H21: =F21*G21 -> 0
D22: Итого | H22: =SUM(H12:H21) -> 16245.6
C23: АКПП | D23: Моторное масло | E23: Mobil-1 5W50 | F23: 9.3 | G23: ='[2]Масла и технические жидкости'!$C$4 -> 522 | H23: =F23*G23 -> 4854.6
D24: Масляный фильтр | E24: 1230A046 | F24: 1 | G24: =[2]Запчасти!$C$155 -> 858 | H24: =F24*G24 -> 858
D25: Салонный фильтр | E25: 7803A028 | F25: 1 | G25: =[2]Запчасти!$C$149 -> 1310 | H25: =F25*G25 -> 1310
D26: Топливный фильтр | E26: 1770A053 | F26: 1 | G26: =[2]Запчасти!$C$157 -> 1782 | H26: =F26*G26 -> 1782
D27: Жидкость гидропривода тормозов | E27: Mobil DOT4 | F27: 1 | G27: ='[2]Масла и технические жидкости'!$C$6 -> 275 | H27: =F27*G27 -> 275
D28: Воздушный фильтр | E28: MR404847 | F28: 1 | G28: =[2]Запчасти!$C$156 -> 1993 | H28: =F28*G28 -> 1993
D29: Охлаждающая жидкость | E29: ='[2]Масла и технические жидкости'!$B$14 -> Antifreeze Extra | F29: 11 | G29: ='[2]Масла и технические жидкости'!$C$14 -> 332 | H29: =F29*G29 -> 3652
D30: Топливный фильтр в баке | E30: =[2]Запчасти!$B$158 -> MR556587 | F30: 1 | G30: =[2]Запчасти!$C$158 -> 1201 | H30: =F30*G30 -> 1201
D31: Прокладка топливного фильтра | E31: =[2]Запчасти!$B$159 -> MN106046 | F31: 1 | G31: =[2]Запчасти!$C$159 -> 320 | H31: =F31*G31 -> 320
H32: =F32*G32 -> 0
D33: Итого | H33: =SUM(H23:H32) -> 16245.6
B34: 3 | C34: МКПП | D34: Моторное масло | E34: ='[2]Масла и технические жидкости'!$B$5 -> Mobil-1 0W40 | F34: 4.9 | G34: ='[2]Масла и технические жидкости'!$C$5 -> 711.46 | H34: =F34*G34 -> 3486.154
D35: Масляный фильтр | E35: =[2]Запчасти!$B$194 -> MD352626 | F35: 1 | G35: =[2]Запчасти!$C$194 -> 753 | H35: =F35*G35 -> 753
D36: Салонный фильтр | E36: =[2]Запчасти!$B$195 -> 7803A028 | F36: 1 | G36: =[2]Запчасти!$C$195 -> 1310 | H36: =F36*G36 -> 1310
D37: Свечи зажигания | E37: =[2]Запчасти!$B$198 -> 1822A002 | F37: 6 | G37: =[2]Запчасти!$C$198 -> 1099 | H37: =F37*G37 -> 6594
D38: Жидкость гидропривода тормозов и сцепления | E38: Mobil DOT4 | F38: 1 | G38: ='[2]Масла и технические жидкости'!$C$6 -> 275 | H38: =F38*G38 -> 275
D39: Воздушный фильтр | E39: =[2]Запчасти!$B$196 -> MR571476 | F39: 1 | G39: =[2]Запчасти!$C$196 -> 2159 | H39: =F39*G39 -> 2159
D40: Охлаждающая жидкость | E40: ='[2]Масла и технические жидкости'!$B$14 -> Antifreeze Extra | F40: 11 | G40: ='[2]Масла и технические жидкости'!$C$14 -> 332 | H40: =F40*G40 -> 3652
...

Sheet ТО135000
A1: =ТО15000!A1 -> Pajero IV (BK) | D1: ТО135000
D2: Норма времени, н/ч | E2: Стоимость нормочаса, руб. | G2: Стоимость работ, руб.
A3: Обязательные работы | B3: =ТО120000!B3 -> 3,2 DI-D | C3: МКПП | D3: 2.6 | E3: =[1]Лист1!$B$5 -> 2499 | G3: =D3*E3 -> 6497.4
C4: АКПП | D4: 2.4 | G4: =D4*E3 -> 5997.6
B5: 3 | C5: МКПП | D5: 2 | G5: =D5*E3 -> 4998
C6: АКПП | D6: 1.9 | G6: =D6*E3 -> 4748.1
B7: =ТО120000!B7 -> 3,8 MIVEC | C7: МКПП
C8: АКПП | D8: 1.9 | G8: =D8*E3 -> 4748.1
A9: Рекомендованные работы | B9: Сход-развал | D9: =ТО15000!D9 -> 1.6 | E9: =[1]Лист1!$B$5 -> 2499 | G9: =D9*E9 -> 3998.4
B10: Мотор-тестер | D10: =ТО15000!D10 -> 0.5 | E10: =[1]Лист1!$B$5 -> 2499 | G10: =D10*E10 -> 1249.5
D11: Вид | E11: Наименование/кат.номер | F11: Количество, л(шт) | G11: Стоимость единицы наименования | H11: Стоимость запчастей, руб.
A12: Расходные материалы | B12: =B3 -> 3,2 DI-D | C12: МКПП | D12: Моторное масло | E12: Mobil-1 5W50 | F12: 9.3 | G12: ='[2]Масла и технические жидкости'!$C$4 -> 522 | H12: =F12*G12 -> 4854.6
D13: Масляный фильтр | E13: 1230A046 | F13: 1 | G13: =[2]Запчасти!$C$155 -> 858 | H13: =F13*G13 -> 858
D14: Салонный фильтр | E14: 7803A028 | F14: 1 | G14: =[2]Запчасти!$C$149 -> 1310 | H14: =F14*G14 -> 1310
D15: Топливный фильтр | E15: 1770A053 | F15: 1 | G15: =[2]Запчасти!$C$157 -> 1782 | H15: =F15*G15 -> 1782
D16: Масло МКПП | E16: ='[2]Масла и технические жидкости'!$B$8 -> Mobilube 1-SHC 75W90 | F16: 3.2 | G16: ='[2]Масла и технические жидкости'!$C$8 -> 648.33 | H16: =F16*G16 -> 2074.656
D17: Масло РК | E17: ='[2]Масла и технические жидкости'!$B$8 -> Mobilube 1-SHC 75W90 | F17: 2.8 | G17: ='[2]Масла и технические жидкости'!$C$8 -> 648.33 | H17: =F17*G17 -> 1815.324
D18: Масло задн. дифф. | E18: ='[2]Масла и технические жидкости'!$B$8 -> Mobilube 1-SHC 75W90 | F18: 1.6 | G18: ='[2]Масла и технические жидкости'!$C$8 -> 648.33 | H18: =F18*G18 -> 1037.328
H19: =F19*G19 -> 0
H20: =F20*G20 -> 0
D21: Итого | H21: =SUM(H12:H20) -> 13731.908
C22: АКПП | D22: Моторное масло | E22: Mobil-1 5W50 | F22: 9.3 | G22: ='[2]Масла и технические жидкости'!$C$4 -> 522 | H22: =F22*G22 -> 4854.6
D23: Масляный фильтр | E23: 1230A046 | F23: 1 | G23: =[2]Запчасти!$C$155 -> 858 | H23: =F23*G23 -> 858
D24: Салонный фильтр | E24: 7803A028 | F24: 1 | G24: =[2]Запчасти!$C$149 -> 1310 | H24: =F24*G24 -> 1310
D25: Топливный фильтр | E25: 1770A053 | F25: 1 | G25: =[2]Запчасти!$C$157 -> 1782 | H25: =F25*G25 -> 1782
D26: Масло РК | E26: ='[2]Масла и технические жидкости'!$B$8 -> Mobilube 1-SHC 75W90 | F26: 2.8 | G26: ='[2]Масла и технические жидкости'!$C$8 -> 648.33 | H26: =F26*G26 -> 1815.324
D27: Масло задн. дифф. | E27: ='[2]Масла и технические жидкости'!$B$8 -> Mobilube 1-SHC 75W90 | F27: 1.6 | G27: ='[2]Масла и технические жидкости'!$C$8 -> 648.33 | H27: =F27*G27 -> 1037.328
H28: =F28*G28 -> 0
H29: =F29*G29 -> 0
D30: Итого | H30: =SUM(H22:H29) -> 11657.252
B31: 3 | C31: МКПП | D31: Моторное масло | E31: Mobil-1 0W40 | F31: 4.9 | G31: ='[2]Масла и технические жидкости'!$C$5 -> 711.46 | H31: =F31*G31 -> 3486.154
D32: Масляный фильтр | E32: =[2]Запчасти!$B$148 -> MD352626 | F32: 1 | G32: =[2]Запчасти!$C$148 -> 753 | H32: =F32*G32 -> 753
D33: Салонный фильтр | E33: =[2]Запчасти!$B$149 -> 7803A028 | F33: 1 | G33: =[2]Запчасти!$C$149 -> 1310 | H33: =F33*G33 -> 1310
D34: Масло МКПП | E34: ='[2]Масла и технические жидкости'!$B$8 -> Mobilube 1-SHC 75W90 | F34: 3.2 | G34: ='[2]Масла и технические жидкости'!$C$8 -> 648.33 | H34: =F34*G34 -> 2074.656
D35: Масло РК | E35: ='[2]Масла и технические жидкости'!$B$8 -> Mobilube 1-SHC 75W90 | F35: 2.8 | G35: =G34 -> 648.33 | H35: =F35*G35 -> 1815.324
D36: Масло задн. дифф. | E36: ='[2]Масла и технические жидкости'!$B$8 -> Mobilube 1-SHC 75W90 | F36: 1.6 | G36: =G34 -> 648.33 | H36: =F36*G36 -> 1037.328
H37: =F37*G37 -> 0
H38: =F38*G38 -> 0
H39: =F39*G39 -> 0
D40: Итого | H40: =SUM(H31:H39) -> 10476.462
...

Sheet ТО150000
A1: =ТО15000!A1 -> Pajero IV (BK) | D1: ТО150000
D2: Норма времени, н/ч | E2: Стоимость нормочаса, руб. | G2: Стоимость работ, руб.
A3: Обязательные работы | B3: =ТО135000!B3 -> 3,2 DI-D | C3: МКПП | D3: 2.8 | E3: =ТО15000!E3 -> 2499 | G3: =D3*E3 -> 6997.2
C4: АКПП | D4: 2.6 | G4: =D4*E3 -> 6497.4
B5: 3 | C5: МКПП | D5: 2.1 | G5: =D5*E3 -> 5247.9
C6: АКПП | D6: 2.1 | G6: =D6*E3 -> 5247.9
B7: =ТО135000!B7 -> 3,8 MIVEC | C7: МКПП
C8: АКПП | D8: 2.1 | G8: =D8*E3 -> 5247.9
A9: Рекомендованные работы
B10: Мотор-тестер | D10: =ТО15000!D10 -> 0.5 | E10: =ТО15000!E10 -> 2499 | G10: =D10*E10 -> 1249.5
D11: Вид | E11: Наименование/кат.номер | F11: Количество, л(шт) | G11: Стоимость единицы наименования | H11: Стоимость запчастей, руб.
A12: Расходные материалы | B12: =B3 -> 3,2 DI-D | C12: МКПП | D12: Моторное масло | E12: Mobil-1 5W50 | F12: 9.3 | G12: ='[2]Масла и технические жидкости'!$C$4 -> 522 | H12: =F12*G12 -> 4854.6
D13: Масляный фильтр | E13: 1230A046 | F13: 1 | G13: =[2]Запчасти!$C$155 -> 858 | H13: =F13*G13 -> 858
D14: Салонный фильтр | E14: 7803A028 | F14: 1 | G14: =[2]Запчасти!$C$149 -> 1310 | H14: =F14*G14 -> 1310
D15: Топливный фильтр | E15: 1770A053 | F15: 1 | G15: =[2]Запчасти!$C$157 -> 1782 | H15: =F15*G15 -> 1782
D16: Жидкость гидропривода тормозов и сцепления | E16: Mobil DOT4 | F16: 1 | G16: ='[2]Масла и технические жидкости'!$C$6 -> 275 | H16: =F16*G16 -> 275
D17: Воздушный фильтр | E17: MR404847 | F17: 1 | G17: =[2]Запчасти!$C$156 -> 1993 | H17: =F17*G17 -> 1993
H18: =F18*G18 -> 0
H19: =F19*G19 -> 0
H20: =F20*G20 -> 0
D21: Итого | H21: =SUM(H12:H20) -> 11072.6
C22: АКПП | D22: Моторное масло | E22: Mobil-1 5W50 | F22: 9.3 | G22: ='[2]Масла и технические жидкости'!$C$4 -> 522 | H22: =F22*G22 -> 4854.6
D23: Масляный фильтр | E23: 1230A046 | F23: 1 | G23: =[2]Запчасти!$C$155 -> 858 | H23: =F23*G23 -> 858
D24: Салонный фильтр | E24: 7803A028 | F24: 1 | G24: =[2]Запчасти!$C$149 -> 1310 | H24: =F24*G24 -> 1310
D25: Топливный фильтр | E25: 1770A053 | F25: 1 | G25: =[2]Запчасти!$C$157 -> 1782 | H25: =F25*G25 -> 1782
D26: Жидкость гидропривода тормозов | E26: Mobil DOT4 | F26: 1 | G26: ='[2]Масла и технические жидкости'!$C$6 -> 275 | H26: =F26*G26 -> 275
D27: Воздушный фильтр | E27: MR404847 | F27: 1 | G27: =[2]Запчасти!$C$156 -> 1993 | H27: =F27*G27 -> 1993
H28: =F28*G28 -> 0
H29: =F29*G29 -> 0
H30: =F30*G30 -> 0
D31: Итого | H31: =SUM(H22:H30) -> 11072.6
B32: 3 | C32: МКПП | D32: Моторное масло | E32: ='[2]Масла и технические жидкости'!$B$5 -> Mobil-1 0W40 | F32: 4.9 | G32: ='[2]Масла и технические жидкости'!$C$5 -> 711.46 | H32: =F32*G32 -> 3486.154
D33: Масляный фильтр | E33: =[2]Запчасти!$B$148 -> MD352626 | F33: 1 | G33: =[2]Запчасти!$C$148 -> 753 | H33: =F33*G33 -> 753
D34: Салонный фильтр | E34: =[2]Запчасти!$B$149 -> 7803A028 | F34: 1 | G34: =[2]Запчасти!$C$149 -> 1310 | H34: =F34*G34 -> 1310
D35: Жидкость гидропривода тормозов и сцепления | E35: ='[2]Масла и технические жидкости'!$B$6 -> Mobil DOT4 | F35: 1 | G35: ='[2]Масла и технические жидкости'!$C$6 -> 275 | H35: =F35*G35 -> 275
D36: Воздушный фильтр | E36: =[2]Запчасти!$B$150 -> MR571476 | F36: 1 | G36: =[2]Запчасти!$C$150 -> 2159 | H36: =F36*G36 -> 2159
H37: =F37*G37 -> 0
H38: =F38*G38 -> 0
H39: =F39*G39 -> 0
H40: =F40*G40 -> 0
...

Sheet ТО165000
A1: =ТО15000!A1 -> Pajero IV (BK) | D1: ТО165000
D2: Норма времени, н/ч | E2: Стоимость нормочаса, руб. | G2: Стоимость работ, руб.
A3: Обязательные работы | B3: =ТО150000!B3 -> 3,2 DI-D | C3: МКПП | D3: 1.9 | E3: =[1]Лист1!$B$5 -> 2499 | G3: =D3*E3 -> 4748.1
C4: АКПП | D4: 1.9 | G4: =D4*E3 -> 4748.1
C5: МКПП | D5: 1.6 | G5: =D5*E3 -> 3998.4
C6: АКПП | D6: 1.6 | G6: =D6*E3 -> 3998.4
B7: =ТО150000!B7 -> 3,8 MIVEC | C7: МКПП
C8: АКПП | D8: 1.6 | G8: =D8*E3 -> 3998.4
A9: Рекомендованные работы | B9: Сход-развал | D9: =ТО15000!D9 -> 1.6 | E9: =[1]Лист1!$B$5 -> 2499 | G9: =D9*E9 -> 3998.4
B10: Мотор-тестер | D10: =ТО15000!D10 -> 0.5 | E10: =[1]Лист1!$B$5 -> 2499 | G10: =D10*E10 -> 1249.5
D11: Вид | E11: Наименование/кат.номер | F11: Количество, л(шт) | G11: Стоимость единицы наименования | H11: Стоимость запчастей, руб.
A12: Расходные материалы | B12: =B3 -> 3,2 DI-D | C12: МКПП | D12: Моторное масло | E12: Mobil-1 5W50 | F12: 9.3 | G12: ='[2]Масла и технические жидкости'!$C$4 -> 522 | H12: =F12*G12 -> 4854.6
D13: Масляный фильтр | E13: 1230A046 | F13: 1 | G13: =[2]Запчасти!$C$155 -> 858 | H13: =F13*G13 -> 858
D14: Салонный фильтр | E14: 7803A028 | F14: 1 | G14: =[2]Запчасти!$C$149 -> 1310 | H14: =F14*G14 -> 1310
D15: Топливный фильтр | E15: 1770A053 | F15: 1 | G15: =[2]Запчасти!$C$157 -> 1782 | H15: =F15*G15 -> 1782
H16: =F16*G16 -> 0
H17: =F17*G17 -> 0
H18: =F18*G18 -> 0
H19: =F19*G19 -> 0
H20: =F20*G20 -> 0
H21: =F21*G21 -> 0
D22: Итого | H22: =SUM(H12:H21) -> 8804.6
C23: АКПП | D23: Моторное масло | E23: Mobil-1 5W50 | F23: 9.3 | G23: ='[2]Масла и технические жидкости'!$C$4 -> 522 | H23: =F23*G23 -> 4854.6
D24: Масляный фильтр | E24: 1230A046 | F24: 1 | G24: =[2]Запчасти!$C$155 -> 858 | H24: =F24*G24 -> 858
D25: Салонный фильтр | E25: 7803A028 | F25: 1 | G25: =[2]Запчасти!$C$149 -> 1310 | H25: =F25*G25 -> 1310
D26: Топливный фильтр | E26: 1770A053 | F26: 1 | G26: =[2]Запчасти!$C$157 -> 1782 | H26: =F26*G26 -> 1782
H27: =F27*G27 -> 0
H28: =F28*G28 -> 0
H29: =F29*G29 -> 0
H30: =F30*G30 -> 0
H31: =F31*G31 -> 0
H32: =F32*G32 -> 0
D33: Итого | H33: =SUM(H23:H32) -> 8804.6
B34: 3 | C34: МКПП | D34: Моторное масло | E34: Mobil-1 0W40 | F34: 4.9 | G34: ='[2]Масла и технические жидкости'!$C$5 -> 711.46 | H34: =F34*G34 -> 3486.154
D35: Масляный фильтр | E35: =[2]Запчасти!$B$148 -> MD352626 | F35: 1 | G35: =[2]Запчасти!$C$148 -> 753 | H35: =F35*G35 -> 753
D36: Салонный фильтр | E36: =[2]Запчасти!$B$149 -> 7803A028 | F36: 1 | G36: =[2]Запчасти!$C$149 -> 1310 | H36: =F36*G36 -> 1310
H37: =F37*G37 -> 0
H38: =F38*G38 -> 0
H39: =F39*G39 -> 0
H40: =F40*G40 -> 0
...

Sheet ТО180000
A1: =ТО15000!A1 -> Pajero IV (BK) | D1: ТО180000
D2: Норма времени, н/ч | E2: Стоимость нормочаса, руб. | G2: Стоимость работ, руб.
A3: Обязательные работы | B3: =ТО165000!B3 -> 3,2 DI-D | C3: МКПП | D3: 5.1 | E3: =ТО15000!E3 -> 2499 | G3: =D3*E3 -> 12744.9
C4: АКПП | D4: 5.4 | G4: =D4*E3 -> 13494.6
B5: 3 | C5: МКПП | D5: 6.8 | G5: =D5*E3 -> 16993.2
C6: АКПП | D6: 6.8 | G6: =D6*E3 -> 16993.2
B7: =ТО165000!B7 -> 3,8 MIVEC | C7: МКПП
C8: АКПП | D8: 7.3 | G8: =D8*E3 -> 18242.7
A9: Рекомендованные работы | B9: =B7 -> 3,8 MIVEC | C9: =ТО90000!C9 -> Замена реком. з/ч | D9: =ТО90000!D9 -> 1.5 | E9: =E10 -> 2499 | G9: =D9*E9 -> 3748.5
B10: Мотор-тестер | D10: =ТО15000!D10 -> 0.5 | E10: =ТО15000!E10 -> 2499 | G10: =D10*E10 -> 1249.5
D11: Вид | E11: Наименование/кат.номер | F11: Количество, л(шт) | G11: Стоимость единицы наименования | H11: Стоимость запчастей, руб.
A12: Расходные материалы | B12: =B3 -> 3,2 DI-D | C12: МКПП | D12: Моторное масло | E12: Mobil-1 5W50 | F12: 9.3 | G12: ='[2]Масла и технические жидкости'!$C$4 -> 522 | H12: =F12*G12 -> 4854.6
D13: Масляный фильтр | E13: 1230A046 | F13: 1 | G13: =[2]Запчасти!$C$155 -> 858 | H13: =F13*G13 -> 858
D14: Салонный фильтр | E14: 7803A028 | F14: 1 | G14: =[2]Запчасти!$C$149 -> 1310 | H14: =F14*G14 -> 1310
D15: Топливный фильтр | E15: 1770A053 | F15: 1 | G15: =[2]Запчасти!$C$157 -> 1782 | H15: =F15*G15 -> 1782
D16: Жидкость гидропривода тормозов и сцепления | E16: Mobil DOT4 | F16: 1 | G16: ='[2]Масла и технические жидкости'!$C$6 -> 275 | H16: =F16*G16 -> 275
D17: Воздушный фильтр | E17: MR404847 | F17: 1 | G17: =[2]Запчасти!$C$156 -> 1993 | H17: =F17*G17 -> 1993
D18: Масло МКПП | E18: ='[2]Масла и технические жидкости'!$B$8 -> Mobilube 1-SHC 75W90 | F18: 3.2 | G18: ='[2]Масла и технические жидкости'!$C$8 -> 648.33 | H18: =F18*G18 -> 2074.656
D19: Масло РК | E19: ='[2]Масла и технические жидкости'!$B$8 -> Mobilube 1-SHC 75W90 | F19: 2.8 | G19: ='[2]Масла и технические жидкости'!$C$8 -> 648.33 | H19: =F19*G19 -> 1815.324
D20: Масло задн. дифф. | E20: ='[2]Масла и технические жидкости'!$B$8 -> Mobilube 1-SHC 75W90 | F20: 1.6 | G20: ='[2]Масла и технические жидкости'!$C$8 -> 648.33 | H20: =F20*G20 -> 1037.328
D21: Масло пер. дифф. | E21: ='[2]Масла и технические жидкости'!$B$8 -> Mobilube 1-SHC 75W90 | F21: 1.15 | G21: ='[2]Масла и технические жидкости'!$C$8 -> 648.33 | H21: =F21*G21 -> 745.5795
D22: Охлаждающая жидкость | E22: ='[2]Масла и технические жидкости'!$B$14 -> Antifreeze Extra | F22: 11 | G22: ='[2]Масла и технические жидкости'!$C$14 -> 332 | H22: =F22*G22 -> 3652
D23: Итого | H23: =SUM(H12:H22) -> 20397.488
C24: АКПП | D24: Моторное масло | E24: Mobil-1 5W50 | F24: 9.3 | G24: ='[2]Масла и технические жидкости'!$C$4 -> 522 | H24: =F24*G24 -> 4854.6
D25: Масляный фильтр | E25: 1230A046 | F25: 1 | G25: =[2]Запчасти!$C$155 -> 858 | H25: =F25*G25 -> 858
D26: Салонный фильтр | E26: 7803A028 | F26: 1 | G26: =[2]Запчасти!$C$149 -> 1310 | H26: =F26*G26 -> 1310
D27: Топливный фильтр | E27: 1770A053 | F27: 1 | G27: =[2]Запчасти!$C$157 -> 1782 | H27: =F27*G27 -> 1782
D28: Жидкость гидропривода тормозов | E28: Mobil DOT4 | F28: 1 | G28: ='[2]Масла и технические жидкости'!$C$6 -> 275 | H28: =F28*G28 -> 275
D29: Воздушный фильтр | E29: MR404847 | F29: 1 | G29: =[2]Запчасти!$C$156 -> 1993 | H29: =F29*G29 -> 1993
D30: Масло РК | E30: ='[2]Масла и технические жидкости'!$B$8 -> Mobilube 1-SHC 75W90 | F30: 2.8 | G30: ='[2]Масла и технические жидкости'!$C$8 -> 648.33 | H30: =F30*G30 -> 1815.324
D31: Масло задн. дифф. | E31: ='[2]Масла и технические жидкости'!$B$8 -> Mobilube 1-SHC 75W90 | F31: 1.6 | G31: ='[2]Масла и технические жидкости'!$C$8 -> 648.33 | H31: =F31*G31 -> 1037.328
D32: Масло пер. дифф. | E32: ='[2]Масла и технические жидкости'!$B$8 -> Mobilube 1-SHC 75W90 | F32: 1.15 | G32: ='[2]Масла и технические жидкости'!$C$8 -> 648.33 | H32: =F32*G32 -> 745.5795
D33: Масло АКПП | E33: ='[2]Масла и технические жидкости'!$B$11 -> BP ATF SP-III | F33: 9.7 | G33: ='[2]Масла и технические жидкости'!$C$11 -> 419.3 | H33: =F33*G33 -> 4067.21
D34: Охлаждающая жидкость | E34: ='[2]Масла и технические жидкости'!$B$14 -> Antifreeze Extra | F34: 11 | G34: ='[2]Масла и технические жидкости'!$C$14 -> 332 | H34: =F34*G34 -> 3652
D35: Итого | H35: =SUM(H24:H34) -> 22390.041
B36: 3 | C36: МКПП | D36: Моторное масло | E36: Mobil-1 0W40 | F36: 4.9 | G36: ='[2]Масла и технические жидкости'!$C$5 -> 711.46 | H36: =F36*G36 -> 3486.154
D37: Масляный фильтр | E37: =[2]Запчасти!$B$148 -> MD352626 | F37: 1 | G37: =[2]Запчасти!$C$148 -> 753 | H37: =F37*G37 -> 753 | J37: Запчасти, рекомендуемые к замене
D38: Салонный фильтр | E38: =[2]Запчасти!$B$149 -> 7803A028 | F38: 1 | G38: =[2]Запчасти!$C$149 -> 1310 | H38: =F38*G38 -> 1310 | I38: Наименование | J38: Каталожный номер | K38: Стоимость
D39: Ремень ГРМ | E39: =[2]Запчасти!$B$200 -> MD358557 | F39: 1 | G39: =[2]Запчасти!$C$200 -> 10019 | H39: =F39*G39 -> 10019 | I39: Натяжит. ремня ГРМ | J39: =[2]Запчасти!$F$194 -> MD362861 | K39: =[2]Запчасти!$G$194 -> 4259
D40: Свечи зажигания | E40: =[2]Запчасти!$B$198 -> 1822A002 | F40: 6 | G40: =[2]Запчасти!$C$198 -> 1099 | H40: =F40*G40 -> 6594 | I40: Ролик натяжителя | J40: =[2]Запчасти!$F$195 -> MD140071 | K40: =[2]Запчасти!$G$195 -> 2873
...

Sheet ТО195000
A1: =ТО15000!A1 -> Pajero IV (BK) | D1: ТО195000
D2: Норма времени, н/ч | E2: Стоимость нормочаса, руб. | G2: Стоимость работ, руб.
A3: Обязательные работы | B3: =ТО180000!B3 -> 3,2 DI-D | C3: МКПП | D3: 1.9 | E3: =[1]Лист1!$B$5 -> 2499 | G3: =D3*E3 -> 4748.1
C4: АКПП | D4: 1.9 | G4: =D4*E3 -> 4748.1
B5: 3 | C5: МКПП | D5: 1.6 | G5: =D5*E3 -> 3998.4
C6: АКПП | D6: 1.6 | G6: =D6*E3 -> 3998.4
B7: =ТО180000!B7 -> 3,8 MIVEC | C7: МКПП
C8: АКПП | D8: 1.6 | G8: =D8*E3 -> 3998.4
A9: Рекомендованные работы | B9: Сход-развал | D9: =ТО15000!D9 -> 1.6 | E9: =[1]Лист1!$B$5 -> 2499 | G9: =D9*E9 -> 3998.4
B10: Мотор-тестер | D10: =ТО15000!D10 -> 0.5 | E10: =[1]Лист1!$B$5 -> 2499 | G10: =D10*E10 -> 1249.5
D11: Вид | E11: Наименование/кат.номер | F11: Количество, л(шт) | G11: Стоимость единицы наименования | H11: Стоимость запчастей, руб.
A12: Расходные материалы | B12: =B3 -> 3,2 DI-D | C12: МКПП | D12: Моторное масло | E12: Mobil-1 5W50 | F12: 9.3 | G12: ='[2]Масла и технические жидкости'!$C$4 -> 522 | H12: =F12*G12 -> 4854.6
D13: Масляный фильтр | E13: 1230A046 | F13: 1 | G13: =[2]Запчасти!$C$155 -> 858 | H13: =F13*G13 -> 858
D14: Салонный фильтр | E14: 7803A028 | F14: 1 | G14: =[2]Запчасти!$C$149 -> 1310 | H14: =F14*G14 -> 1310
D15: Топливный фильтр | E15: 1770A053 | F15: 1 | G15: =[2]Запчасти!$C$157 -> 1782 | H15: =F15*G15 -> 1782
H16: =F16*G16 -> 0
H17: =F17*G17 -> 0
H18: =F18*G18 -> 0
H19: =F19*G19 -> 0
H20: =F20*G20 -> 0
H21: =F21*G21 -> 0
D22: Итого | H22: =SUM(H12:H21) -> 8804.6
C23: АКПП | D23: Моторное масло | E23: Mobil-1 5W50 | F23: 9.3 | G23: ='[2]Масла и технические жидкости'!$C$4 -> 522 | H23: =F23*G23 -> 4854.6
D24: Масляный фильтр | E24: 1230A046 | F24: 1 | G24: =[2]Запчасти!$C$155 -> 858 | H24: =F24*G24 -> 858
D25: Салонный фильтр | E25: 7803A028 | F25: 1 | G25: =[2]Запчасти!$C$149 -> 1310 | H25: =F25*G25 -> 1310
D26: Топливный фильтр | E26: 1770A053 | F26: 1 | G26: =[2]Запчасти!$C$157 -> 1782 | H26: =F26*G26 -> 1782
H27: =F27*G27 -> 0
H28: =F28*G28 -> 0
H29: =F29*G29 -> 0
H30: =F30*G30 -> 0
H31: =F31*G31 -> 0
H32: =F32*G32 -> 0
D33: Итого | H33: =SUM(H23:H32) -> 8804.6
B34: 3 | C34: МКПП | D34: Моторное масло | E34: ='[2]Масла и технические жидкости'!$B$5 -> Mobil-1 0W40 | F34: 4.9 | G34: ='[2]Масла и технические жидкости'!$C$5 -> 711.46 | H34: =F34*G34 -> 3486.154
D35: Масляный фильтр | E35: =[2]Запчасти!$B$148 -> MD352626 | F35: 1 | G35: =[2]Запчасти!$C$148 -> 753 | H35: =F35*G35 -> 753
D36: Салонный фильтр | E36: =[2]Запчасти!$B$149 -> 7803A028 | F36: 1 | G36: =[2]Запчасти!$C$149 -> 1310 | H36: =F36*G36 -> 1310
H37: =F37*G37 -> 0
H38: =F38*G38 -> 0
H39: =F39*G39 -> 0
H40: =F40*G40 -> 0
...

Sheet ТО210000
A1: =ТО15000!A1 -> Pajero IV (BK) | D1: ТО210000
D2: Норма времени, н/ч | E2: Стоимость нормочаса, руб. | G2: Стоимость работ, руб.
A3: Обязательные работы | B3: =ТО195000!B3 -> 3,2 DI-D | C3: МКПП | D3: 2.9 | E3: =ТО15000!E3 -> 2499 | G3: =D3*E3 -> 7247.1
C4: АКПП | D4: 2.7 | G4: =D4*E3 -> 6747.3
B5: 3 | C5: МКПП | D5: 2.2 | G5: =D5*E3 -> 5497.8
C6: АКПП | D6: 2.2 | G6: =D6*E3 -> 5497.8
B7: =ТО195000!B7 -> 3,8 MIVEC | C7: МКПП
C8: АКПП | D8: 2.2 | G8: =D8*E3 -> 5497.8
A9: Рекомендованные работы
B10: Мотор-тестер | D10: =ТО15000!D10 -> 0.5 | E10: =ТО15000!E10 -> 2499 | G10: =D10*E10 -> 1249.5
D11: Вид | E11: Наименование/кат.номер | F11: Количество, л(шт) | G11: Стоимость единицы наименования | H11: Стоимость запчастей, руб.
A12: Расходные материалы | B12: =B3 -> 3,2 DI-D | C12: МКПП | D12: Моторное масло | E12: Mobil-1 5W50 | F12: 9.3 | G12: ='[2]Масла и технические жидкости'!$C$4 -> 522 | H12: =F12*G12 -> 4854.6
D13: Масляный фильтр | E13: 1230A046 | F13: 1 | G13: =[2]Запчасти!$C$155 -> 858 | H13: =F13*G13 -> 858
D14: Салонный фильтр | E14: 7803A028 | F14: 1 | G14: =[2]Запчасти!$C$149 -> 1310 | H14: =F14*G14 -> 1310
D15: Топливный фильтр | E15: 1770A053 | F15: 1 | G15: =[2]Запчасти!$C$157 -> 1782 | H15: =F15*G15 -> 1782
D16: Жидкость гидропривода тормозов и сцепления | E16: Mobil DOT4 | F16: 1 | G16: ='[2]Масла и технические жидкости'!$C$6 -> 275 | H16: =F16*G16 -> 275
D17: Воздушный фильтр | E17: MR404847 | F17: 1 | G17: =[2]Запчасти!$C$156 -> 1993 | H17: =F17*G17 -> 1993
H18: =F18*G18 -> 0
H19: =F19*G19 -> 0
H20: =F20*G20 -> 0
D21: Итого | H21: =SUM(H12:H20) -> 11072.6
C22: АКПП | D22: Моторное масло | E22: Mobil-1 5W50 | F22: 9.3 | G22: ='[2]Масла и технические жидкости'!$C$4 -> 522 | H22: =F22*G22 -> 4854.6
D23: Масляный фильтр | E23: 1230A046 | F23: 1 | G23: =[2]Запчасти!$C$155 -> 858 | H23: =F23*G23 -> 858
D24: Салонный фильтр | E24: 7803A028 | F24: 1 | G24: =[2]Запчасти!$C$149 -> 1310 | H24: =F24*G24 -> 1310
D25: Топливный фильтр | E25: 1770A053 | F25: 1 | G25: =[2]Запчасти!$C$157 -> 1782 | H25: =F25*G25 -> 1782
D26: Жидкость гидропривода тормозов | E26: Mobil DOT4 | F26: 1 | G26: ='[2]Масла и технические жидкости'!$C$6 -> 275 | H26: =F26*G26 -> 275
D27: Воздушный фильтр | E27: MR404847 | F27: 1 | G27: =[2]Запчасти!$C$156 -> 1993 | H27: =F27*G27 -> 1993
H28: =F28*G28 -> 0
H29: =F29*G29 -> 0
H30: =F30*G30 -> 0
D31: Итого | H31: =SUM(H22:H30) -> 11072.6
B32: 3 | C32: МКПП | D32: Моторное масло | E32: ='[2]Масла и технические жидкости'!$B$5 -> Mobil-1 0W40 | F32: 4.9 | G32: ='[2]Масла и технические жидкости'!$C$5 -> 711.46 | H32: =F32*G32 -> 3486.154
D33: Масляный фильтр | E33: =[2]Запчасти!$B$148 -> MD352626 | F33: 1 | G33: =[2]Запчасти!$C$148 -> 753 | H33: =F33*G33 -> 753
D34: Салонный фильтр | E34: =[2]Запчасти!$B$149 -> 7803A028 | F34: 1 | G34: =[2]Запчасти!$C$149 -> 1310 | H34: =F34*G34 -> 1310
D35: Жидкость гидропривода тормозов и сцепления | E35: ='[2]Масла и технические жидкости'!$B$6 -> Mobil DOT4 | F35: 1 | G35: ='[2]Масла и технические жидкости'!$C$6 -> 275 | H35: =F35*G35 -> 275
D36: Воздушный фильтр | E36: =[2]Запчасти!$B$150 -> MR571476 | F36: 1 | G36: =[2]Запчасти!$C$150 -> 2159 | H36: =F36*G36 -> 2159
H37: =F37*G37 -> 0
H38: =F38*G38 -> 0
H39: =F39*G39 -> 0
H40: =F40*G40 -> 0
...

Sheet ТО225000
A1: =ТО15000!A1 -> Pajero IV (BK) | D1: ТО225000
D2: Норма времени, н/ч | E2: Стоимость нормочаса, руб. | G2: Стоимость работ, руб.
A3: Обязательные работы | B3: =ТО210000!B3 -> 3,2 DI-D | C3: МКПП | D3: 2.6 | E3: =[1]Лист1!$B$5 -> 2499 | G3: =D3*E3 -> 6497.4
C4: АКПП | D4: 2.4 | G4: =D4*E3 -> 5997.6
B5: 3 | C5: МКПП | D5: 2 | G5: =D5*E3 -> 4998
C6: АКПП | D6: 1.9 | G6: =D6*E3 -> 4748.1
B7: =ТО210000!B7 -> 3,8 MIVEC | C7: МКПП
C8: АКПП | D8: 1.9 | G8: =D8*E3 -> 4748.1
A9: Рекомендованные работы | B9: Сход-развал | D9: =ТО15000!D9 -> 1.6 | E9: =[1]Лист1!$B$5 -> 2499 | G9: =D9*E9 -> 3998.4
B10: Мотор-тестер | D10: =ТО15000!D10 -> 0.5 | E10: =[1]Лист1!$B$5 -> 2499 | G10: =D10*E10 -> 1249.5
D11: Вид | E11: Наименование/кат.номер | F11: Количество, л(шт) | G11: Стоимость единицы наименования | H11: Стоимость запчастей, руб.
A12: Расходные материалы | B12: =B3 -> 3,2 DI-D | C12: МКПП | D12: Моторное масло | E12: Mobil-1 5W50 | F12: 9.3 | G12: ='[2]Масла и технические жидкости'!$C$4 -> 522 | H12: =F12*G12 -> 4854.6
D13: Масляный фильтр | E13: 1230A046 | F13: 1 | G13: =[2]Запчасти!$C$155 -> 858 | H13: =F13*G13 -> 858
D14: Салонный фильтр | E14: 7803A028 | F14: 1 | G14: =[2]Запчасти!$C$149 -> 1310 | H14: =F14*G14 -> 1310
D15: Топливный фильтр | E15: 1770A053 | F15: 1 | G15: =[2]Запчасти!$C$157 -> 1782 | H15: =F15*G15 -> 1782
D16: Масло МКПП | E16: ='[2]Масла и технические жидкости'!$B$8 -> Mobilube 1-SHC 75W90 | F16: 3.2 | G16: ='[2]Масла и технические жидкости'!$C$8 -> 648.33 | H16: =F16*G16 -> 2074.656
D17: Масло РК | E17: ='[2]Масла и технические жидкости'!$B$8 -> Mobilube 1-SHC 75W90 | F17: 2.8 | G17: ='[2]Масла и технические жидкости'!$C$8 -> 648.33 | H17: =F17*G17 -> 1815.324
D18: Масло задн. дифф. | E18: ='[2]Масла и технические жидкости'!$B$8 -> Mobilube 1-SHC 75W90 | F18: 1.6 | G18: ='[2]Масла и технические жидкости'!$C$8 -> 648.33 | H18: =F18*G18 -> 1037.328
H19: =F19*G19 -> 0
H20: =F20*G20 -> 0
D21: Итого | H21: =SUM(H12:H20) -> 13731.908
C22: АКПП | D22: Моторное масло | E22: Mobil-1 5W50 | F22: 9.3 | G22: ='[2]Масла и технические жидкости'!$C$4 -> 522 | H22: =F22*G22 -> 4854.6
D23: Масляный фильтр | E23: 1230A046 | F23: 1 | G23: =[2]Запчасти!$C$155 -> 858 | H23: =F23*G23 -> 858
D24: Салонный фильтр | E24: 7803A028 | F24: 1 | G24: =[2]Запчасти!$C$149 -> 1310 | H24: =F24*G24 -> 1310
D25: Топливный фильтр | E25: 1770A053 | F25: 1 | G25: =[2]Запчасти!$C$157 -> 1782 | H25: =F25*G25 -> 1782
D26: Масло РК | E26: ='[2]Масла и технические жидкости'!$B$8 -> Mobilube 1-SHC 75W90 | F26: 2.8 | G26: ='[2]Масла и технические жидкости'!$C$8 -> 648.33 | H26: =F26*G26 -> 1815.324
D27: Масло задн. дифф. | E27: ='[2]Масла и технические жидкости'!$B$8 -> Mobilube 1-SHC 75W90 | F27: 1.6 | G27: ='[2]Масла и технические жидкости'!$C$8 -> 648.33 | H27: =F27*G27 -> 1037.328
H28: =F28*G28 -> 0
H29: =F29*G29 -> 0
D30: Итого | H30: =SUM(H22:H29) -> 11657.252
B31: 3 | C31: МКПП | D31: Моторное масло | E31: Mobil-1 0W40 | F31: 4.9 | G31: ='[2]Масла и технические жидкости'!$C$5 -> 711.46 | H31: =F31*G31 -> 3486.154
D32: Масляный фильтр | E32: =[2]Запчасти!$B$148 -> MD352626 | F32: 1 | G32: =[2]Запчасти!$C$148 -> 753 | H32: =F32*G32 -> 753
D33: Салонный фильтр | E33: =[2]Запчасти!$B$149 -> 7803A028 | F33: 1 | G33: =[2]Запчасти!$C$149 -> 1310 | H33: =F33*G33 -> 1310
D34: Масло МКПП | E34: ='[2]Масла и технические жидкости'!$B$8 -> Mobilube 1-SHC 75W90 | F34: 3.2 | G34: ='[2]Масла и технические жидкости'!$C$8 -> 648.33 | H34: =F34*G34 -> 2074.656
D35: Масло РК | E35: ='[2]Масла и технические жидкости'!$B$8 -> Mobilube 1-SHC 75W90 | F35: 2.8 | G35: =G34 -> 648.33 | H35: =F35*G35 -> 1815.324
D36: Масло задн. дифф. | E36: ='[2]Масла и технические жидкости'!$B$8 -> Mobilube 1-SHC 75W90 | F36: 1.6 | G36: =G34 -> 648.33 | H36: =F36*G36 -> 1037.328
H37: =F37*G37 -> 0
H38: =F38*G38 -> 0
H39: =F39*G39 -> 0
D40: Итого | H40: =SUM(H31:H39) -> 10476.462
...

Sheet ТО240000
A1: =ТО15000!A1 -> Pajero IV (BK) | D1: ТО240000
D2: Норма времени, н/ч | E2: Стоимость нормочаса, руб. | G2: Стоимость работ, руб.
A3: Обязательные работы | B3: =ТО225000!B3 -> 3,2 DI-D | C3: МКПП | D3: 5 | E3: =ТО15000!E3 -> 2499 | G3: =D3*E3 -> 12495
C4: АКПП | D4: 4.8 | G4: =D4*E3 -> 11995.2
B5: 3 | C5: МКПП | D5: 4.4 | G5: =D5*E3 -> 10995.6
C6: АКПП | D6: 4.4 | G6: =D6*E3 -> 10995.6
B7: =ТО225000!B7 -> 3,8 MIVEC | C7: МКПП
C8: АКПП | D8: 5.1 | G8: =D8*E3 -> 12744.9
A9: Рекомендованные работы
B10: Мотор-тестер | D10: =ТО15000!D10 -> 0.5 | E10: =ТО15000!E10 -> 2499 | G10: =D10*E10 -> 1249.5
D11: Вид | E11: Наименование/кат.номер | F11: Количество, л(шт) | G11: Стоимость единицы наименования | H11: Стоимость запчастей, руб.
A12: Расходные материалы | B12: =ТО210000!B12 -> 3,2 DI-D | C12: МКПП | D12: Моторное масло | E12: Mobil-1 5W50 | F12: 9.3 | G12: ='[2]Масла и технические жидкости'!$C$4 -> 522 | H12: =F12*G12 -> 4854.6
D13: Масляный фильтр | E13: 1230A046 | F13: 1 | G13: =[2]Запчасти!$C$155 -> 858 | H13: =F13*G13 -> 858
D14: Салонный фильтр | E14: 7803A028 | F14: 1 | G14: =[2]Запчасти!$C$149 -> 1310 | H14: =F14*G14 -> 1310
D15: Топливный фильтр | E15: 1770A053 | F15: 1 | G15: =[2]Запчасти!$C$157 -> 1782 | H15: =F15*G15 -> 1782
D16: Жидкость гидропривода тормозов и сцепления | E16: Mobil DOT4 | F16: 1 | G16: ='[2]Масла и технические жидкости'!$C$6 -> 275 | H16: =F16*G16 -> 275
D17: Воздушный фильтр | E17: MR404847 | F17: 1 | G17: =[2]Запчасти!$C$156 -> 1993 | H17: =F17*G17 -> 1993
D18: Охлаждающая жидкость | E18: ='[2]Масла и технические жидкости'!$B$14 -> Antifreeze Extra | F18: 11 | G18: ='[2]Масла и технические жидкости'!$C$14 -> 332 | H18: =F18*G18 -> 3652
D19: Топливный фильтр в баке | E19: =[2]Запчасти!$B$158 -> MR556587 | F19: 1 | G19: 0 | H19: =F19*G19 -> 0
D20: Прокладка топливного фильтра | E20: =[2]Запчасти!$B$159 -> MN106046 | F20: 1 | G20: =[2]Запчасти!$C$159 -> 320 | H20: =F20*G20 -> 320
H21: =F21*G21 -> 0
D22: Итого | H22: =SUM(H12:H21) -> 15044.6
C23: АКПП | D23: Моторное масло | E23: Mobil-1 5W50 | F23: 9.3 | G23: ='[2]Масла и технические жидкости'!$C$4 -> 522 | H23: =F23*G23 -> 4854.6
D24: Масляный фильтр | E24: 1230A046 | F24: 1 | G24: =[2]Запчасти!$C$155 -> 858 | H24: =F24*G24 -> 858
D25: Салонный фильтр | E25: 7803A028 | F25: 1 | G25: =[2]Запчасти!$C$149 -> 1310 | H25: =F25*G25 -> 1310
D26: Топливный фильтр | E26: 1770A053 | F26: 1 | G26: =[2]Запчасти!$C$157 -> 1782 | H26: =F26*G26 -> 1782
D27: Жидкость гидропривода тормозов | E27: Mobil DOT4 | F27: 1 | G27: ='[2]Масла и технические жидкости'!$C$6 -> 275 | H27: =F27*G27 -> 275
D28: Воздушный фильтр | E28: MR404847 | F28: 1 | G28: =[2]Запчасти!$C$156 -> 1993 | H28: =F28*G28 -> 1993
D29: Охлаждающая жидкость | E29: ='[2]Масла и технические жидкости'!$B$14 -> Antifreeze Extra | F29: 11 | G29: ='[2]Масла и технические жидкости'!$C$14 -> 332 | H29: =F29*G29 -> 3652
D30: Топливный фильтр в баке | E30: =[2]Запчасти!$B$158 -> MR556587 | F30: 1 | G30: 0 | H30: =F30*G30 -> 0
D31: Прокладка топливного фильтра | E31: =[2]Запчасти!$B$159 -> MN106046 | F31: 1 | G31: =[2]Запчасти!$C$159 -> 320 | H31: =F31*G31 -> 320
H32: =F32*G32 -> 0
D33: Итого | H33: =SUM(H23:H32) -> 15044.6
B34: 3 | C34: МКПП | D34: Моторное масло | E34: ='[2]Масла и технические жидкости'!$B$5 -> Mobil-1 0W40 | F34: 4.9 | G34: ='[2]Масла и технические жидкости'!$C$5 -> 711.46 | H34: =F34*G34 -> 3486.154
D35: Масляный фильтр | E35: =[2]Запчасти!$B$194 -> MD352626 | F35: 1 | G35: =[2]Запчасти!$C$194 -> 753 | H35: =F35*G35 -> 753
D36: Салонный фильтр | E36: =[2]Запчасти!$B$195 -> 7803A028 | F36: 1 | G36: =[2]Запчасти!$C$195 -> 1310 | H36: =F36*G36 -> 1310
D37: Свечи зажигания | E37: =[2]Запчасти!$B$198 -> 1822A002 | F37: 6 | G37: =[2]Запчасти!$C$198 -> 1099 | H37: =F37*G37 -> 6594
D38: Жидкость гидропривода тормозов и сцепления | E38: Mobil DOT4 | F38: 1 | G38: ='[2]Масла и технические жидкости'!$C$6 -> 275 | H38: =F38*G38 -> 275
D39: Воздушный фильтр | E39: =[2]Запчасти!$B$196 -> MR571476 | F39: 1 | G39: =[2]Запчасти!$C$196 -> 2159 | H39: =F39*G39 -> 2159
D40: Охлаждающая жидкость | E40: ='[2]Масла и технические жидкости'!$B$14 -> Antifreeze Extra | F40: 11 | G40: ='[2]Масла и технические жидкости'!$C$14 -> 332 | H40: =F40*G40 -> 3652
...

Sheet ТО255000
A1: =ТО15000!A1 -> Pajero IV (BK) | D1: ТО255000
D2: Норма времени, н/ч | E2: Стоимость нормочаса, руб. | G2: Стоимость работ, руб.
A3: Обязательные работы | B3: =ТО240000!B3 -> 3,2 DI-D | C3: МКПП | D3: 1.9 | E3: =[1]Лист1!$B$5 -> 2499 | G3: =D3*E3 -> 4748.1
C4: АКПП | D4: 1.9 | G4: =D4*E3 -> 4748.1
B5: 3 | C5: МКПП | D5: 1.6 | G5: =D5*E3 -> 3998.4
C6: АКПП | D6: 1.6 | G6: =D6*E3 -> 3998.4
B7: =ТО240000!B7 -> 3,8 MIVEC | C7: МКПП
C8: АКПП | D8: 1.6 | G8: =D8*E3 -> 3998.4
A9: Рекомендованные работы | B9: Сход-развал | D9: =ТО15000!D9 -> 1.6 | E9: =[1]Лист1!$B$5 -> 2499 | G9: =D9*E9 -> 3998.4
B10: Мотор-тестер | D10: =ТО15000!D10 -> 0.5 | E10: =[1]Лист1!$B$5 -> 2499 | G10: =D10*E10 -> 1249.5
D11: Вид | E11: Наименование/кат.номер | F11: Количество, л(шт) | G11: Стоимость единицы наименования | H11: Стоимость запчастей, руб.
A12: Расходные материалы | B12: =ТО240000!B12 -> 3,2 DI-D | C12: МКПП | D12: Моторное масло | E12: Mobil-1 5W50 | F12: 9.3 | G12: ='[2]Масла и технические жидкости'!$C$4 -> 522 | H12: =F12*G12 -> 4854.6
D13: Масляный фильтр | E13: 1230A046 | F13: 1 | G13: =[2]Запчасти!$C$155 -> 858 | H13: =F13*G13 -> 858
D14: Салонный фильтр | E14: 7803A028 | F14: 1 | G14: =[2]Запчасти!$C$149 -> 1310 | H14: =F14*G14 -> 1310
D15: Топливный фильтр | E15: 1770A053 | F15: 1 | G15: =[2]Запчасти!$C$157 -> 1782 | H15: =F15*G15 -> 1782
H16: =F16*G16 -> 0
H17: =F17*G17 -> 0
H18: =F18*G18 -> 0
H19: =F19*G19 -> 0
H20: =F20*G20 -> 0
H21: =F21*G21 -> 0
D22: Итого | H22: =SUM(H12:H21) -> 8804.6
C23: АКПП | D23: Моторное масло | E23: Mobil-1 5W50 | F23: 9.3 | G23: ='[2]Масла и технические жидкости'!$C$4 -> 522 | H23: =F23*G23 -> 4854.6
D24: Масляный фильтр | E24: 1230A046 | F24: 1 | G24: =[2]Запчасти!$C$155 -> 858 | H24: =F24*G24 -> 858
D25: Салонный фильтр | E25: 7803A028 | F25: 1 | G25: =[2]Запчасти!$C$149 -> 1310 | H25: =F25*G25 -> 1310
D26: Топливный фильтр | E26: 1770A053 | F26: 1 | G26: =[2]Запчасти!$C$157 -> 1782 | H26: =F26*G26 -> 1782
H27: =F27*G27 -> 0
H28: =F28*G28 -> 0
H29: =F29*G29 -> 0
H30: =F30*G30 -> 0
H31: =F31*G31 -> 0
H32: =F32*G32 -> 0
D33: Итого | H33: =SUM(H23:H32) -> 8804.6
B34: =ТО240000!B34 -> 3 | C34: МКПП | D34: Моторное масло | E34: ='[2]Масла и технические жидкости'!$B$5 -> Mobil-1 0W40 | F34: 4.9 | G34: ='[2]Масла и технические жидкости'!$C$5 -> 711.46 | H34: =F34*G34 -> 3486.154
