Workbook

Sheet ТО15000
A1: Pajero IV (BK) | D1: ТО15000
D2: Норма времени, н/ч | E2: Стоимость нормочаса, руб. | G2: Стоимость работ, руб.
A3: Обязательные работы | B3: 3,2 DI-D | C3: МКПП | D3: 1.9 | E3: =[1]Лист1!$B$5 -> 2499 | G3: =D3*E3 -> 4748.1
C4: АКПП | D4: 1.9 | G4: =D4*E3 -> 4748.1
B5: 3 | C5: МКПП | D5: 1.6 | G5: =D5*E3 -> 3998.4
C6: АКПП | D6: 1.6 | G6: =D6*E3 -> 3998.4
B7: 3,8 MIVEC | C7: МКПП
C8: АКПП | D8: 1.6 | G8: =D8*E3 -> 3998.4
A9: Рекомендованные работы | B9: Сход-развал | D9: 1.6 | E9: =[1]Лист1!$B$5 -> 2499 | G9: =D9*E9 -> 3998.4
B10: Мотор-тестер | D10: 0.5 | E10: =[1]Лист1!$B$5 -> 2499 | G10: =D10*E10 -> 1249.5
D11: Вид | E11: Наименование/кат.номер | F11: Количество, л(шт) | G11: Стоимость единицы наименования | H11: Стоимость запчастей, руб.
A12: Расходные материалы | B12: =B3 -> 3,2 DI-D | C12: МКПП | D12: Моторное масло | E12: Mobil-1 5W50 | F12: 9.3 | G12: ='[2]Масла и технические жидкости'!$C$4 -> 522 | H12: =F12*G12 -> 4854.6
D13: Масляный фильтр | E13: 1230A046 | F13: 1 | G13: =[2]Запчасти!$C$155 -> 858 | H13: =F13*G13 -> 858
D14: Салонный фильтр | E14: 7803A028 | F14: 1 | G14: =[2]Запчасти!$C$149 -> 1310 | H14: =F14*G14 -> 1310
D15: Топливный фильтр | E15: 1770A053 | F15: 1 | G15: =[2]Запчасти!$C$157 -> 1782 | H15: =F15*G15 -> 1782
H16: =F16*G16 -> 0
H17: =F17*G17 -> 0
H18: =F18*G18 -> 0
H19: =F19*G19 -> 0
H20: =F20*G20 -> 0
H21: =F21*G21 -> 0
D22: Итого | H22: =SUM(H12:H21) -> 8804.6
C23: АКПП | D23: Моторное масло | E23: Mobil-1 5W50 | F23: 9.3 | G23: ='[2]Масла и технические жидкости'!$C$4 -> 522 | H23: =F23*G23 -> 4854.6
D24: Масляный фильтр | E24: 1230A046 | F24: 1 | G24: =[2]Запчасти!$C$155 -> 858 | H24: =F24*G24 -> 858
D25: Салонный фильтр | E25: 7803A028 | F25: 1 | G25: =[2]Запчасти!$C$149 -> 1310 | H25: =F25*G25 -> 1310
D26: Топливный фильтр | E26: 1770A053 | F26: 1 | G26: =[2]Запчасти!$C$157 -> 1782 | H26: =F26*G26 -> 1782
H27: =F27*G27 -> 0
H28: =F28*G28 -> 0
H29: =F29*G29 -> 0
H30: =F30*G30 -> 0
H31: =F31*G31 -> 0
H32: =F32*G32 -> 0
D33: Итого | H33: =SUM(H23:H32) -> 8804.6
B34: 3 | C34: МКПП | D34: Моторное масло | E34: Mobil-1 0W40 | F34: 4.9 | G34: ='[2]Масла и технические жидкости'!$C$5 -> 711.46 | H34: =F34*G34 -> 3486.154
D35: Масляный фильтр | E35: =[2]Запчасти!$B$148 -> MD352626 | F35: 1 | G35: =[2]Запчасти!$C$148 -> 753 | H35: =F35*G35 -> 753
D36: Салонный фильтр | E36: =[2]Запчасти!$B$149 -> 7803A028 | F36: 1 | G36: =[2]Запчасти!$C$149 -> 1310 | H36: =F36*G36 -> 1310
H37: =F37*G37 -> 0
H38: =F38*G38 -> 0
H39: =F39*G39 -> 0
H40: =F40*G40 -> 0
H41: =F41*G41 -> 0
H42: =F42*G42 -> 0
H43: =F43*G43 -> 0
D44: Итого | H44: =SUM(H34:H43) -> 5549.154
C45: АКПП | D45: Моторное масло | E45: Mobil-1 0W40 | F45: 4.9 | G45: ='[2]Масла и технические жидкости'!$C$5 -> 711.46 | H45: =F45*G45 -> 3486.154
D46: Масляный фильтр | E46: =E35 -> MD352626 | F46: 1 | G46: =G35 -> 753 | H46: =F46*G46 -> 753
D47: Салонный фильтр | E47: =E36 -> 7803A028 | F47: 1 | G47: =G36 -> 1310 | H47: =F47*G47 -> 1310
H48: =F48*G48 -> 0
H49: =F49*G49 -> 0
H50: =F50*G50 -> 0
H51: =F51*G51 -> 0
H52: =F52*G52 -> 0
H53: =F53*G53 -> 0
H54: =F54*G54 -> 0
D55: Итого | H55: =SUM(H45:H54) -> 5549.154
B56: =B7 -> 3,8 MIVEC | C56: МКПП | H56: =F56*G56 -> 0
H57: =F57*G57 -> 0
H58: =F58*G58 -> 0
H59: =F59*G59 -> 0
H60: =F60*G60 -> 0
H61: =F61*G61 -> 0
H62: =F62*G62 -> 0
H63: =F63*G63 -> 0
H64: =F64*G64 -> 0
H65: =F65*G65 -> 0
D66: Итого | H66: =SUM(H56:H65) -> 0
C67: АКПП | D67: Моторное масло | E67: ='[2]Масла и технические жидкости'!$B$5 -> Mobil-1 0W40 | F67: 4.9 | G67: ='[2]Масла и технические жидкости'!$C$5 -> 711.46 | H67: =F67*G67 -> 3486.154
D68: Масляный фильтр | E68: =[2]Запчасти!$B$148 -> MD352626 | F68: 1 | G68: =[2]Запчасти!$C$148 -> 753 | H68: =F68*G68 -> 753
D69: Салонный фильтр | E69: =[2]Запчасти!$B$149 -> 7803A028 | F69: 1 | G69: =[2]Запчасти!$C$149 -> 1310 | H69: =F69*G69 -> 1310
H70: =F70*G70 -> 0
H71: =F71*G71 -> 0
H72: =F72*G72 -> 0
H73: =F73*G73 -> 0
H74: =F74*G74 -> 0
H75: =F75*G75 -> 0
H76: =F76*G76 -> 0
D77: Итого | H77: =SUM(H67:H76) -> 5549.154
A78: Стоимость ТО+расходные материалы, руб. | B78: =B12 -> 3,2 DI-D | C78: МКПП | H78: =H22+G3 -> 13552.7
C79: АКПП | H79: =H33+G4 -> 13552.7
B80: 3 | C80: МКПП | H80: =H44+G5 -> 9547.554
C81: АКПП | H81: =H55+G6 -> 9547.554
B82: =B56 -> 3,8 MIVEC | C82: МКПП
C83: АКПП | H83: =H77+G8 -> 9547.554
A84: Стоимость ТО + расходные материалы + рекомендованные работы, руб. | B84: =B78 -> 3,2 DI-D | C84: МКПП | H84: =H78+G9+G10 -> 18800.6
C85: АКПП | H85: =H79+G9+G10 -> 18800.6
B86: 3 | C86: МКПП | H86: =H80+G9+G10 -> 14795.454
C87: АКПП | H87: =H81+G9+G10 -> 14795.454
B88: =B82 -> 3,8 MIVEC | C88: МКПП
C89: АКПП | H89: =H83+G9+G10 -> 14795.454

Sheet ТО30000
A1: =ТО15000!A1 -> Pajero IV (BK) | D1: ТО30000
D2: Норма времени, н/ч | E2: Стоимость нормочаса, руб. | G2: Стоимость работ, руб.
A3: Обязательные работы | B3: =ТО15000!B3 -> 3,2 DI-D | C3: МКПП | D3: 2.8 | E3: =ТО15000!E3 -> 2499 | G3: =D3*E3 -> 6997.2
C4: АКПП | D4: 2.6 | G4: =D4*E3 -> 6497.4
B5: 3 | C5: МКПП | D5: 2.3 | G5: =D5*E3 -> 5747.7
C6: АКПП | D6: 2.1 | G6: =D6*E3 -> 5247.9
B7: =ТО15000!B7 -> 3,8 MIVEC | C7: МКПП
C8: АКПП | D8: 2.1 | G8: =D8*E3 -> 5247.9
A9: Рекомендованные работы
B10: Мотор-тестер | D10: =ТО15000!D10 -> 0.5 | E10: =ТО15000!E10 -> 2499 | G10: =D10*E10 -> 1249.5
D11: Вид | E11: Наименование/кат.номер | F11: Количество, л(шт) | G11: Стоимость единицы наименования | H11: Стоимость запчастей, руб.
A12: Расходные материалы | B12: =ТО15000!B12 -> 3,2 DI-D | C12: МКПП | D12: Моторное масло | E12: Mobil-1 5W50 | F12: 9.3 | G12: ='[2]Масла и технические жидкости'!$C$4 -> 522 | H12: =F12*G12 -> 4854.6
D13: Масляный фильтр | E13: 1230A046 | F13: 1 | G13: =[2]Запчасти!$C$155 -> 858 | H13: =F13*G13 -> 858
D14: Салонный фильтр | E14: 7803A028 | F14: 1 | G14: =[2]Запчасти!$C$149 -> 1310 | H14: =F14*G14 -> 1310
D15: Топливный фильтр | E15: 1770A053 | F15: 1 | G15: =[2]Запчасти!$C$157 -> 1782 | H15: =F15*G15 -> 1782
D16: Жидкость гидропривода тормозов и сцепления | E16: Mobil DOT4 | F16: 1 | G16: ='[2]Масла и технические жидкости'!$C$6 -> 275 | H16: =F16*G16 -> 275
D17: Воздушный фильтр | E17: MR404847 | F17: 1 | G17: =[2]Запчасти!$C$156 -> 1993 | H17: =F17*G17 -> 1993
H18: =F18*G18 -> 0
H19: =F19*G19 -> 0
H20: =F20*G20 -> 0
D21: Итого | H21: =SUM(H12:H20) -> 11072.6
C22: АКПП | D22: Моторное масло | E22: Mobil-1 5W50 | F22: 9.3 | G22: ='[2]Масла и технические жидкости'!$C$4 -> 522 | H22: =F22*G22 -> 4854.6
D23: Масляный фильтр | E23: 1230A046 | F23: 1 | G23: =[2]Запчасти!$C$155 -> 858 | H23: =F23*G23 -> 858
D24: Салонный фильтр | E24: 7803A028 | F24: 1 | G24: =[2]Запчасти!$C$149 -> 1310 | H24: =F24*G24 -> 1310
D25: Топливный фильтр | E25: 1770A053 | F25: 1 | G25: =[2]Запчасти!$C$157 -> 1782 | H25: =F25*G25 -> 1782
D26: Жидкость гидропривода тормозов | E26: Mobil DOT4 | F26: 1 | G26: ='[2]Масла и технические жидкости'!$C$6 -> 275 | H26: =F26*G26 -> 275
D27: Воздушный фильтр | E27: MR404847 | F27: 1 | G27: =[2]Запчасти!$C$156 -> 1993 | H27: =F27*G27 -> 1993
H28: =F28*G28 -> 0
H29: =F29*G29 -> 0
H30: =F30*G30 -> 0
D31: Итого | H31: =SUM(H22:H30) -> 11072.6
B32: 3 | C32: МКПП | D32: Моторное масло | E32: ='[2]Масла и технические жидкости'!$B$5 -> Mobil-1 0W40 | F32: 4.9 | G32: ='[2]Масла и технические жидкости'!$C$5 -> 711.46 | H32: =F32*G32 -> 3486.154
D33: Масляный фильтр | E33: =[2]Запчасти!$B$148 -> MD352626 | F33: 1 | G33: =[2]Запчасти!$C$148 -> 753 | H33: =F33*G33 -> 753
D34: Салонный фильтр | E34: =[2]Запчасти!$B$149 -> 7803A028 | F34: 1 | G34: =[2]Запчасти!$C$149 -> 1310 | H34: =F34*G34 -> 1310
D35: Жидкость гидропривода тормозов и сцепления | E35: ='[2]Масла и технические жидкости'!$B$6 -> Mobil DOT4 | F35: 1 | G35: ='[2]Масла и технические жидкости'!$C$6 -> 275 | H35: =F35*G35 -> 275
D36: Воздушный фильтр | E36: =[2]Запчасти!$B$150 -> MR571476 | F36: 1 | G36: =[2]Запчасти!$C$150 -> 2159 | H36: =F36*G36 -> 2159
H37: =F37*G37 -> 0
H38: =F38*G38 -> 0
H39: =F39*G39 -> 0
H40: =F40*G40 -> 0
D41: Итого | H41: =SUM(H32:H40) -> 7983.154
C42: АКПП | D42: Моторное масло | E42: ='[2]Масла и технические жидкости'!$B$5 -> Mobil-1 0W40 | F42: 4.9 | G42: ='[2]Масла и технические жидкости'!$C$5 -> 711.46 | H42: =F42*G42 -> 3486.154
D43: Масляный фильтр | E43: =[2]Запчасти!$B$148 -> MD352626 | F43: 1 | G43: =[2]Запчасти!$C$148 -> 753 | H43: =F43*G43 -> 753
D44: Салонный фильтр | E44: =[2]Запчасти!$B$149 -> 7803A028 | F44: 1 | G44: =[2]Запчасти!$C$149 -> 1310 | H44: =F44*G44 -> 1310
D45: Жидкость гидропривода тормозов | E45: ='[2]Масла и технические жидкости'!$B$6 -> Mobil DOT4 | F45: 1 | G45: ='[2]Масла и технические жидкости'!$C$6 -> 275 | H45: =F45*G45 -> 275
D46: Воздушный фильтр | E46: =[2]Запчасти!$B$150 -> MR571476 | F46: 1 | G46: =[2]Запчасти!$C$150 -> 2159 | H46: =F46*G46 -> 2159
H47: =F47*G47 -> 0
H48: =F48*G48 -> 0
H49: =F49*G49 -> 0
H50: =F50*G50 -> 0
D51: Итого | H51: =SUM(H42:H50) -> 7983.154
B52: =ТО15000!B56 -> 3,8 MIVEC | C52: МКПП | H52: =F52*G52 -> 0
H53: =F53*G53 -> 0
H54: =F54*G54 -> 0
H55: =F55*G55 -> 0
H56: =F56*G56 -> 0
H57: =F57*G57 -> 0
H58: =F58*G58 -> 0
H59: =F59*G59 -> 0
H60: =F60*G60 -> 0
D61: Итого | H61: =SUM(H52:H60) -> 0
C62: АКПП | D62: Моторное масло | E62: ='[2]Масла и технические жидкости'!$B$5 -> Mobil-1 0W40 | F62: 4.9 | G62: ='[2]Масла и технические жидкости'!$C$5 -> 711.46 | H62: =F62*G62 -> 3486.154
D63: Масляный фильтр | E63: =[2]Запчасти!$B$148 -> MD352626 | F63: 1 | G63: =[2]Запчасти!$C$148 -> 753 | H63: =F63*G63 -> 753
D64: Салонный фильтр | E64: =[2]Запчасти!$B$149 -> 7803A028 | F64: 1 | G64: =[2]Запчасти!$C$149 -> 1310 | H64: =F64*G64 -> 1310
D65: Жидкость гидропривода тормозов | E65: ='[2]Масла и технические жидкости'!$B$6 -> Mobil DOT4 | F65: 1 | G65: ='[2]Масла и технические жидкости'!$C$6 -> 275 | H65: =F65*G65 -> 275
D66: Воздушный фильтр | E66: =[2]Запчасти!$B$150 -> MR571476 | F66: 1 | G66: =[2]Запчасти!$C$150 -> 2159 | H66: =F66*G66 -> 2159
H67: =F67*G67 -> 0
H68: =F68*G68 -> 0
H69: =F69*G69 -> 0
H70: =F70*G70 -> 0
D71: Итого | H71: =SUM(H62:H70) -> 7983.154
A72: Стоимость ТО+расходные материалы, руб. | B72: =B12 -> 3,2 DI-D | C72: МКПП | H72: =H21+G3 -> 18069.8
C73: АКПП | H73: =H31+G4 -> 17570
B74: 3 | C74: МКПП | H74: =H41+G5 -> 13730.854
C75: АКПП | H75: =H51+G6 -> 13231.054
B76: =B52 -> 3,8 MIVEC | C76: МКПП
C77: АКПП | H77: =H71+G8 -> 13231.054
A78: Стоимость ТО + расходные материалы + рекомендованные работы, руб. | B78: =B12 -> 3,2 DI-D | C78: МКПП | H78: =H72+G10 -> 19319.3
C79: АКПП | H79: =H73+G10 -> 18819.5
B80: 3 | C80: МКПП | H80: =H74+G10 -> 14980.354
C81: АКПП | H81: =H75+G10 -> 14480.554
B82: =B52 -> 3,8 MIVEC | C82: МКПП
C83: АКПП | H83: =H77+G10 -> 14480.554

Sheet ТО45000
A1: =ТО15000!A1 -> Pajero IV (BK) | D1: ТО45000
D2: Норма времени, н/ч | E2: Стоимость нормочаса, руб. | G2: Стоимость работ, руб.
A3: Обязательные работы | B3: =ТО30000!B3 -> 3,2 DI-D | C3: МКПП | D3: 2.6 | E3: =[1]Лист1!$B$5 -> 2499 | G3: =D3*E3 -> 6497.4
C4: АКПП | D4: 2.4 | G4: =D4*E3 -> 5997.6
B5: 3 | C5: МКПП | D5: 2 | G5: =D5*E3 -> 4998
C6: АКПП | D6: 1.9 | G6: =D6*E3 -> 4748.1
B7: =ТО30000!B7 -> 3,8 MIVEC | C7: МКПП
C8: АКПП | D8: 1.9 | G8: =D8*E3 -> 4748.1
A9: Рекомендованные работы | B9: Сход-развал | D9: =ТО15000!D9 -> 1.6 | E9: =[1]Лист1!$B$5 -> 2499 | G9: =D9*E9 -> 3998.4
B10: Мотор-тестер | D10: =ТО15000!D10 -> 0.5 | E10: =[1]Лист1!$B$5 -> 2499 | G10: =D10*E10 -> 1249.5
D11: Вид | E11: Наименование/кат.номер | F11: Количество, л(шт) | G11: Стоимость единицы наименования | H11: Стоимость запчастей, руб.
A12: Расходные материалы | B12: =ТО30000!B12 -> 3,2 DI-D | C12: МКПП | D12: Моторное масло | E12: Mobil-1 5W50 | F12: 9.3 | G12: ='[2]Масла и технические жидкости'!$C$4 -> 522 | H12: =F12*G12 -> 4854.6
D13: Масляный фильтр | E13: 1230A046 | F13: 1 | G13: =[2]Запчасти!$C$155 -> 858 | H13: =F13*G13 -> 858
D14: Салонный фильтр | E14: 7803A028 | F14: 1 | G14: =[2]Запчасти!$C$149 -> 1310 | H14: =F14*G14 -> 1310
D15: Топливный фильтр | E15: 1770A053 | F15: 1 | G15: =[2]Запчасти!$C$157 -> 1782 | H15: =F15*G15 -> 1782
D16: Масло МКПП | E16: ='[2]Масла и технические жидкости'!$B$8 -> Mobilube 1-SHC 75W90 | F16: 3.2 | G16: ='[2]Масла и технические жидкости'!$C$8 -> 648.33 | H16: =F16*G16 -> 2074.656
D17: Масло РК | E17: ='[2]Масла и технические жидкости'!$B$8 -> Mobilube 1-SHC 75W90 | F17: 2.8 | G17: ='[2]Масла и технические жидкости'!$C$8 -> 648.33 | H17: =F17*G17 -> 1815.324
D18: Масло задн. дифф. | E18: ='[2]Масла и технические жидкости'!$B$8 -> Mobilube 1-SHC 75W90 | F18: 1.6 | G18: ='[2]Масла и технические жидкости'!$C$8 -> 648.33 | H18: =F18*G18 -> 1037.328
H19: =F19*G19 -> 0
H20: =F20*G20 -> 0
D21: Итого | H21: =SUM(H12:H20) -> 13731.908
C22: АКПП | D22: Моторное масло | E22: Mobil-1 5W50 | F22: 9.3 | G22: ='[2]Масла и технические жидкости'!$C$4 -> 522 | H22: =F22*G22 -> 4854.6
D23: Масляный фильтр | E23: 1230A046 | F23: 1 | G23: =[2]Запчасти!$C$155 -> 858 | H23: =F23*G23 -> 858
D24: Салонный фильтр | E24: 7803A028 | F24: 1 | G24: =[2]Запчасти!$C$149 -> 1310 | H24: =F24*G24 -> 1310
D25: Топливный фильтр | E25: 1770A053 | F25: 1 | G25: =[2]Запчасти!$C$157 -> 1782 | H25: =F25*G25 -> 1782
D26: Масло РК | E26: ='[2]Масла и технические жидкости'!$B$8 -> Mobilube 1-SHC 75W90 | F26: 2.8 | G26: ='[2]Масла и технические жидкости'!$C$8 -> 648.33 | H26: =F26*G26 -> 1815.324
D27: Масло задн. дифф. | E27: ='[2]Масла и технические жидкости'!$B$8 -> Mobilube 1-SHC 75W90 | F27: 1.6 | G27: ='[2]Масла и технические жидкости'!$C$8 -> 648.33 | H27: =F27*G27 -> 1037.328
H28: =F28*G28 -> 0
H29: =F29*G29 -> 0
D30: Итого | H30: =SUM(H22:H29) -> 11657.252
B31: 3 | C31: МКПП | D31: Моторное масло | E31: Mobil-1 0W40 | F31: 4.9 | G31: ='[2]Масла и технические жидкости'!$C$5 -> 711.46 | H31: =F31*G31 -> 3486.154
D32: Масляный фильтр | E32: =[2]Запчасти!$B$148 -> MD352626 | F32: 1 | G32: =[2]Запчасти!$C$148 -> 753 | H32: =F32*G32 -> 753
D33: Салонный фильтр | E33: =[2]Запчасти!$B$149 -> 7803A028 | F33: 1 | G33: =[2]Запчасти!$C$149 -> 1310 | H33: =F33*G33 -> 1310
D34: Масло МКПП | E34: ='[2]Масла и технические жидкости'!$B$8 -> Mobilube 1-SHC 75W90 | F34: 3.2 | G34: ='[2]Масла и технические жидкости'!$C$8 -> 648.33 | H34: =F34*G34 -> 2074.656
D35: Масло РК | E35: ='[2]Масла и технические жидкости'!$B$8 -> Mobilube 1-SHC 75W90 | F35: 2.8 | G35: =G34 -> 648.33 | H35: =F35*G35 -> 1815.324
D36: Масло задн. дифф. | E36: ='[2]Масла и технические жидкости'!$B$8 -> Mobilube 1-SHC 75W90 | F36: 1.6 | G36: =G34 -> 648.33 | H36: =F36*G36 -> 1037.328
H37: =F37*G37 -> 0
H38: =F38*G38 -> 0
H39: =F39*G39 -> 0
D40: Итого | H40: =SUM(H31:H39) -> 10476.462
C41: АКПП | D41: Моторное масло | E41: Mobil-1 0W40 | F41: 4.9 | G41: ='[2]Масла и технические жидкости'!$C$5 -> 711.46 | H41: =F41*G41 -> 3486.154
D42: Масляный фильтр | E42: =[2]Запчасти!$B$148 -> MD352626 | F42: 1 | G42: =[2]Запчасти!$C$148 -> 753 | H42: =F42*G42 -> 753
D43: Салонный фильтр | E43: =[2]Запчасти!$B$149 -> 7803A028 | F43: 1 | G43: =[2]Запчасти!$C$149 -> 1310 | H43: =F43*G43 -> 1310
D44: Масло РК | E44: ='[2]Масла и технические жидкости'!$B$8 -> Mobilube 1-SHC 75W90 | F44: 2.8 | G44: =G34 -> 648.33 | H44: =F44*G44 -> 1815.324
D45: Масло задн. дифф. | E45: ='[2]Масла и технические жидкости'!$B$8 -> Mobilube 1-SHC 75W90 | F45: 1.6 | G45: =G34 -> 648.33 | H45: =F45*G45 -> 1037.328
H46: =F46*G46 -> 0
H47: =F47*G47 -> 0
H48: =F48*G48 -> 0
D49: Итого | H49: =SUM(H41:H48) -> 8401.806
B50: =ТО30000!B52 -> 3,8 MIVEC | C50: МКПП | H50: =F50*G50 -> 0
H51: =F51*G51 -> 0
H52: =F52*G52 -> 0
H53: =F53*G53 -> 0
H54: =F54*G54 -> 0
H55: =F55*G55 -> 0
H56: =F56*G56 -> 0
H57: =F57*G57 -> 0
H58: =F58*G58 -> 0
D59: Итого | H59: =SUM(H50:H58) -> 0
C60: АКПП | D60: Моторное масло | E60: ='[2]Масла и технические жидкости'!$B$5 -> Mobil-1 0W40 | F60: 4.9 | G60: ='[2]Масла и технические жидкости'!$C$5 -> 711.46 | H60: =F60*G60 -> 3486.154
D61: Масляный фильтр | E61: =ТО15000!E68 -> MD352626 | F61: 1 | G61: =ТО15000!G68 -> 753 | H61: =F61*G61 -> 753
D62: Салонный фильтр | E62: =ТО15000!E69 -> 7803A028 | F62: 1 | G62: =ТО15000!G69 -> 1310 | H62: =F62*G62 -> 1310
D63: Масло РК | E63: ='[2]Масла и технические жидкости'!$B$8 -> Mobilube 1-SHC 75W90 | F63: 2.8 | G63: ='[2]Масла и технические жидкости'!$C$8 -> 648.33 | H63: =F63*G63 -> 1815.324
D64: Масло задн. дифф. | E64: ='[2]Масла и технические жидкости'!$B$8 -> Mobilube 1-SHC 75W90 | F64: 1.6 | G64: ='[2]Масла и технические жидкости'!$C$8 -> 648.33 | H64: =F64*G64 -> 1037.328
H65: =F65*G65 -> 0
H66: =F66*G66 -> 0
H67: =F67*G67 -> 0
D68: Итого | H68: =SUM(H60:H67) -> 8401.806
A69: Стоимость ТО+расходные материалы, руб. | B69: =B12 -> 3,2 DI-D | C69: МКПП | H69: =H21+G3 -> 20229.308
C70: АКПП | H70: =H30+G4 -> 17654.852
B71: 3 | C71: МКПП | H71: =H40+G5 -> 15474.462
C72: АКПП | H72: =H49+G6 -> 13149.906
B73: =B50 -> 3,8 MIVEC | C73: МКПП
C74: АКПП | H74: =H68+G8 -> 13149.906
A75: Стоимость ТО + расходные материалы + рекомендованные работы, руб. | B75: =B69 -> 3,2 DI-D | C75: МКПП | H75: =H69+G9+G10 -> 25477.208
C76: АКПП | H76: =H70+G9+G10 -> 22902.752
B77: 3 | C77: МКПП | H77: =H71+G9+G10 -> 20722.362
C78: АКПП | H78: =H72+G9+G10 -> 18397.806
B79: =B73 -> 3,8 MIVEC | C79: МКПП
C80: АКПП | H80: =H74+G9+G10 -> 18397.806

Sheet ТО60000
A1: =ТО15000!A1 -> Pajero IV (BK) | D1: ТО60000
D2: Норма времени, н/ч | E2: Стоимость нормочаса, руб. | G2: Стоимость работ, руб.
A3: Обязательные работы | B3: =ТО45000!B3 -> 3,2 DI-D | C3: МКПП | D3: 5 | E3: =ТО15000!E3 -> 2499 | G3: =D3*E3 -> 12495
C4: АКПП | D4: 4.8 | G4: =D4*E3 -> 11995.2
B5: 3 | C5: МКПП | D5: 4.4 | G5: =D5*E3 -> 10995.6
C6: АКПП | D6: 4.4 | G6: =D6*E3 -> 10995.6
B7: =ТО45000!B7 -> 3,8 MIVEC | C7: МКПП
C8: АКПП | D8: 4.5 | G8: =D8*E3 -> 11245.5
A9: Рекомендованные работы
B10: Мотор-тестер | D10: =ТО15000!D10 -> 0.5 | E10: =ТО15000!E10 -> 2499 | G10: =D10*E10 -> 1249.5
D11: Вид | E11: Наименование/кат.номер | F11: Количество, л(шт) | G11: Стоимость единицы наименования | H11: Стоимость запчастей, руб.
A12: Расходные материалы | B12: =B3 -> 3,2 DI-D | C12: МКПП | D12: Моторное масло | E12: Mobil-1 5W50 | F12: 9.3 | G12: ='[2]Масла и технические жидкости'!$C$4 -> 522 | H12: =F12*G12 -> 4854.6
D13: Масляный фильтр | E13: 1230A046 | F13: 1 | G13: =[2]Запчасти!$C$155 -> 858 | H13: =F13*G13 -> 858
D14: Салонный фильтр | E14: 7803A028 | F14: 1 | G14: =[2]Запчасти!$C$149 -> 1310 | H14: =F14*G14 -> 1310
D15: Топливный фильтр | E15: 1770A053 | F15: 1 | G15: =[2]Запчасти!$C$157 -> 1782 | H15: =F15*G15 -> 1782
D16: Жидкость гидропривода тормозов и сцепления | E16: Mobil DOT4 | F16: 1 | G16: ='[2]Масла и технические жидкости'!$C$6 -> 275 | H16: =F16*G16 -> 275
D17: Воздушный фильтр | E17: MR404847 | F17: 1 | G17: =[2]Запчасти!$C$156 -> 1993 | H17: =F17*G17 -> 1993
D18: Охлаждающая жидкость | E18: ='[2]Масла и технические жидкости'!$B$14 -> Antifreeze Extra | F18: 11 | G18: ='[2]Масла и технические жидкости'!$C$14 -> 332 | H18: =F18*G18 -> 3652
H19: =F19*G19 -> 0
H20: =F20*G20 -> 0
D21: Итого | H21: =SUM(H12:H20) -> 14724.6
C22: АКПП | D22: Моторное масло | E22: Mobil-1 5W50 | F22: 9.3 | G22: ='[2]Масла и технические жидкости'!$C$4 -> 522 | H22: =F22*G22 -> 4854.6
D23: Масляный фильтр | E23: 1230A046 | F23: 1 | G23: =[2]Запчасти!$C$155 -> 858 | H23: =F23*G23 -> 858
D24: Салонный фильтр | E24: 7803A028 | F24: 1 | G24: =[2]Запчасти!$C$149 -> 1310 | H24: =F24*G24 -> 1310
D25: Топливный фильтр | E25: 1770A053 | F25: 1 | G25: =[2]Запчасти!$C$157 -> 1782 | H25: =F25*G25 -> 1782
D26: Жидкость гидропривода тормозов | E26: Mobil DOT4 | F26: 1 | G26: ='[2]Масла и технические жидкости'!$C$6 -> 275 | H26: =F26*G26 -> 275
D27: Воздушный фильтр | E27: MR404847 | F27: 1 | G27: =[2]Запчасти!$C$156 -> 1993 | H27: =F27*G27 -> 1993
D28: Охлаждающая жидкость | E28: ='[2]Масла и технические жидкости'!$B$14 -> Antifreeze Extra | F28: 11 | G28: ='[2]Масла и технические жидкости'!$C$14 -> 332 | H28: =F28*G28 -> 3652
H29: =F29*G29 -> 0
H30: =F30*G30 -> 0
D31: Итого | H31: =SUM(H22:H30) -> 14724.6
B32: 3 | C32: МКПП | D32: Моторное масло | E32: Mobil-1 0W40 | F32: 4.9 | G32: ='[2]Масла и технические жидкости'!$C$5 -> 711.46 | H32: =F32*G32 -> 3486.154
D33: Масляный фильтр | E33: =[2]Запчасти!$B$194 -> MD352626 | F33: 1 | G33: =[2]Запчасти!$C$194 -> 753 | H33: =F33*G33 -> 753
D34: Салонный фильтр | E34: =[2]Запчасти!$B$195 -> 7803A028 | F34: 1 | G34: =[2]Запчасти!$C$195 -> 1310 | H34: =F34*G34 -> 1310
D35: Свечи зажигания | E35: =[2]Запчасти!$B$198 -> 1822A002 | F35: 6 | G35: =[2]Запчасти!$C$198 -> 1099 | H35: =F35*G35 -> 6594
D36: Охлаждающая жидкость | E36: =E68 -> Antifreeze Extra | F36: 11 | G36: =G68 -> 332 | H36: =F36*G36 -> 3652
D37: Жидкость гидропривода тормозов | E37: =E69 -> Mobil DOT4 | F37: 1 | G37: =G69 -> 275 | H37: =F37*G37 -> 275
D38: Воздушный фильтр | E38: =[2]Запчасти!$B$150 -> MR571476 | F38: 1 | G38: =[2]Запчасти!$C$150 -> 2159 | H38: =F38*G38 -> 2159
D39: Прокладка впускного коллектора | E39: =[2]Запчасти!$B$161 -> MD199282 | F39: 1 | G39: =[2]Запчасти!$C$161 -> 557 | H39: =F39*G39 -> 557
H40: =F40*G40 -> 0
D41: Итого | H41: =SUM(H32:H40) -> 18786.154
C42: АКПП | D42: Моторное масло | E42: Mobil-1 0W40 | F42: 4.9 | G42: ='[2]Масла и технические жидкости'!$C$5 -> 711.46 | H42: =F42*G42 -> 3486.154
D43: Масляный фильтр | E43: =E33 -> MD352626 | F43: 1 | G43: =G33 -> 753 | H43: =F43*G43 -> 753
D44: Салонный фильтр | E44: =E34 -> 7803A028 | F44: 1 | G44: =G34 -> 1310 | H44: =F44*G44 -> 1310
D45: Свечи зажигания | E45: =E35 -> 1822A002 | F45: 6 | G45: =G35 -> 1099 | H45: =F45*G45 -> 6594
D46: Охлаждающая жидкость | E46: =E36 -> Antifreeze Extra | F46: 11 | G46: =G36 -> 332 | H46: =F46*G46 -> 3652
D47: Жидкость гидропривода тормозов | E47: =E37 -> Mobil DOT4 | F47: 1 | G47: =G37 -> 275 | H47: =F47*G47 -> 275
D48: Воздушный фильтр | E48: =[2]Запчасти!$B$150 -> MR571476 | F48: 1 | G48: =G38 -> 2159 | H48: =F48*G48 -> 2159
D49: Прокладка впускного коллектора | E49: =E39 -> MD199282 | F49: 1 | G49: =G39 -> 557 | H49: =F49*G49 -> 557
H50: =F50*G50 -> 0
H51: =F51*G51 -> 0
D52: Итого | H52: =SUM(H42:H51) -> 18786.154
B53: =B7 -> 3,8 MIVEC | C53: МКПП | H53: =F53*G53 -> 0
H54: =F54*G54 -> 0
H55: =F55*G55 -> 0
H56: =F56*G56 -> 0
H57: =F57*G57 -> 0
H58: =F58*G58 -> 0
H59: =F59*G59 -> 0
H60: =F60*G60 -> 0
H61: =F61*G61 -> 0
H62: =F62*G62 -> 0
D63: Итого | H63: =SUM(H53:H62) -> 0
C64: АКПП | D64: Моторное масло | E64: =ТО15000!E67 -> Mobil-1 0W40 | F64: =ТО15000!F67 -> 4.9 | G64: =ТО15000!G67 -> 711.46 | H64: =F64*G64 -> 3486.154
D65: Масляный фильтр | E65: =ТО15000!E68 -> MD352626 | F65: =ТО15000!F68 -> 1 | G65: =ТО15000!G68 -> 753 | H65: =F65*G65 -> 753
D66: Салонный фильтр | E66: =ТО15000!E69 -> 7803A028 | F66: =ТО15000!F69 -> 1 | G66: =ТО15000!G69 -> 1310 | H66: =F66*G66 -> 1310
D67: Свечи зажигания | E67: =[2]Запчасти!$B$152 -> 1822A002 | F67: 6 | G67: =[2]Запчасти!$C$152 -> 1099 | H67: =F67*G67 -> 6594
D68: Охлаждающая жидкость | E68: ='[2]Масла и технические жидкости'!$B$14 -> Antifreeze Extra | F68: 11 | G68: ='[2]Масла и технические жидкости'!$C$14 -> 332 | H68: =F68*G68 -> 3652
D69: Жидкость гидропривода тормозов | E69: =ТО30000!E65 -> Mobil DOT4 | F69: =ТО30000!F65 -> 1 | G69: =ТО30000!G65 -> 275 | H69: =F69*G69 -> 275
D70: Воздушный фильтр | E70: =ТО30000!E66 -> MR571476 | F70: =ТО30000!F66 -> 1 | G70: =ТО30000!G66 -> 2159 | H70: =F70*G70 -> 2159
D71: Прокладка впускного коллектора | E71: =[2]Запчасти!$B$160 -> MR561584 | F71: 1 | G71: =[2]Запчасти!$C$160 -> 523 | H71: =F71*G71 -> 523
H72: =F72*G72 -> 0
H73: =F73*G73 -> 0
D74: Итого | H74: =SUM(H64:H73) -> 18752.154
A75: Стоимость ТО+расходные материалы, руб. | B75: =B12 -> 3,2 DI-D | C75: МКПП | H75: =H21+G3 -> 27219.6
C76: АКПП | H76: =H31+G4 -> 26719.8
B77: 3 | C77: МКПП | H77: =H41+G5 -> 29781.754
C78: АКПП | H78: =H52+G6 -> 29781.754
B79: =B53 -> 3,8 MIVEC | C79: МКПП
C80: АКПП | H80: =H74+G8 -> 29997.654
A81: Стоимость ТО + расходные материалы + рекомендованные работы, руб. | B81: =B75 -> 3,2 DI-D | C81: МКПП | H81: =H75+G10 -> 28469.1
C82: АКПП | H82: =H76+G10 -> 27969.3
B83: 3 | C83: МКПП | H83: =H77+G10 -> 31031.254
C84: АКПП | H84: =H78+G10 -> 31031.254
B85: =B79 -> 3,8 MIVEC | C85: МКПП
C86: АКПП | H86: =H80+G10 -> 31247.154

Sheet ТО75000
A1: =ТО15000!A1 -> Pajero IV (BK) | D1: ТО75000
D2: Норма времени, н/ч | E2: Стоимость нормочаса, руб. | G2: Стоимость работ, руб.
A3: Обязательные работы | B3: =ТО60000!B3 -> 3,2 DI-D | C3: МКПП | D3: 1.9 | E3: =[1]Лист1!$B$5 -> 2499 | G3: =D3*E3 -> 4748.1
C4: АКПП | D4: 1.9 | G4: =D4*E3 -> 4748.1
B5: 3 | C5: МКПП | D5: 1.6 | G5: =D5*E3 -> 3998.4
C6: АКПП | D6: 1.6 | G6: =D6*E3 -> 3998.4
B7: =ТО60000!B7 -> 3,8 MIVEC | C7: МКПП
C8: АКПП | D8: 1.6 | G8: =D8*E3 -> 3998.4
A9: Рекомендованные работы | B9: Сход-развал | D9: =ТО15000!D9 -> 1.6 | E9: =[1]Лист1!$B$5 -> 2499 | G9: =D9*E9 -> 3998.4
B10: Мотор-тестер | D10: =ТО15000!D10 -> 0.5 | E10: =[1]Лист1!$B$5 -> 2499 | G10: =D10*E10 -> 1249.5
D11: Вид | E11: Наименование/кат.номер | F11: Количество, л(шт) | G11: Стоимость единицы наименования | H11: Стоимость запчастей, руб.
A12: Расходные материалы | B12: =B3 -> 3,2 DI-D | C12: МКПП | D12: Моторное масло | E12: Mobil-1 5W50 | F12: 9.3 | G12: ='[2]Масла и технические жидкости'!$C$4 -> 522 | H12: =F12*G12 -> 4854.6
D13: Масляный фильтр | E13: 1230A046 | F13: 1 | G13: =[2]Запчасти!$C$155 -> 858 | H13: =F13*G13 -> 858
D14: Салонный фильтр | E14: 7803A028 | F14: 1 | G14: =[2]Запчасти!$C$149 -> 1310 | H14: =F14*G14 -> 1310
D15: Топливный фильтр | E15: 1770A053 | F15: 1 | G15: =[2]Запчасти!$C$157 -> 1782 | H15: =F15*G15 -> 1782
H16: =F16*G16 -> 0
H17: =F17*G17 -> 0
H18: =F18*G18 -> 0
H19: =F19*G19 -> 0
H20: =F20*G20 -> 0
H21: =F21*G21 -> 0
D22: Итого | H22: =SUM(H12:H21) -> 8804.6
C23: АКПП | D23: Моторное масло | E23: Mobil-1 5W50 | F23: 9.3 | G23: ='[2]Масла и технические жидкости'!$C$4 -> 522 | H23: =F23*G23 -> 4854.6
D24: Масляный фильтр | E24: 1230A046 | F24: 1 | G24: =[2]Запчасти!$C$155 -> 858 | H24: =F24*G24 -> 858
D25: Салонный фильтр | E25: 7803A028 | F25: 1 | G25: =[2]Запчасти!$C$149 -> 1310 | H25: =F25*G25 -> 1310
D26: Топливный фильтр | E26: 1770A053 | F26: 1 | G26: =[2]Запчасти!$C$157 -> 1782 | H26: =F26*G26 -> 1782
H27: =F27*G27 -> 0
H28: =F28*G28 -> 0
H29: =F29*G29 -> 0
H30: =F30*G30 -> 0
H31: =F31*G31 -> 0
H32: =F32*G32 -> 0
D33: Итого | H33: =SUM(H23:H32) -> 8804.6
B34: 3 | C34: МКПП | D34: Моторное масло | E34: Mobil-1 0W40 | F34: 4.9 | G34: ='[2]Масла и технические жидкости'!$C$5 -> 711.46 | H34: =F34*G34 -> 3486.154
D35: Масляный фильтр | E35: =[2]Запчасти!$B$148 -> MD352626 | F35: 1 | G35: =[2]Запчасти!$C$148 -> 753 | H35: =F35*G35 -> 753
D36: Салонный фильтр | E36: =[2]Запчасти!$B$149 -> 7803A028 | F36: 1 | G36: =[2]Запчасти!$C$149 -> 1310 | H36: =F36*G36 -> 1310
H37: =F37*G37 -> 0
H38: =F38*G38 -> 0
H39: =F39*G39 -> 0
H40: =F40*G40 -> 0
H41: =F41*G41 -> 0
H42: =F42*G42 -> 0
H43: =F43*G43 -> 0
D44: Итого | H44: =SUM(H34:H43) -> 5549.154
C45: АКПП | D45: Моторное масло | E45: Mobil-1 0W40 | F45: 4.9 | G45: ='[2]Масла и технические жидкости'!$C$5 -> 711.46 | H45: =F45*G45 -> 3486.154
D46: Масляный фильтр | E46: =[2]Запчасти!$B$148 -> MD352626 | F46: 1 | G46: =[2]Запчасти!$C$148 -> 753 | H46: =F46*G46 -> 753
D47: Салонный фильтр | E47: =[2]Запчасти!$B$149 -> 7803A028 | F47: 1 | G47: =[2]Запчасти!$C$149 -> 1310 | H47: =F47*G47 -> 1310
H48: =F48*G48 -> 0
H49: =F49*G49 -> 0
H50: =F50*G50 -> 0
H51: =F51*G51 -> 0
H52: =F52*G52 -> 0
H53: =F53*G53 -> 0
H54: =F54*G54 -> 0
D55: Итого | H55: =SUM(H45:H54) -> 5549.154
B56: =B7 -> 3,8 MIVEC | C56: МКПП | H56: =F56*G56 -> 0
H57: =F57*G57 -> 0
H58: =F58*G58 -> 0
H59: =F59*G59 -> 0
H60: =F60*G60 -> 0
H61: =F61*G61 -> 0
H62: =F62*G62 -> 0
H63: =F63*G63 -> 0
H64: =F64*G64 -> 0
H65: =F65*G65 -> 0
D66: Итого | H66: =SUM(H56:H65) -> 0
C67: АКПП | D67: Моторное масло | E67: =ТО15000!E67 -> Mobil-1 0W40 | F67: =ТО15000!F67 -> 4.9 | G67: =ТО15000!G67 -> 711.46 | H67: =F67*G67 -> 3486.154
D68: Масляный фильтр | E68: =ТО15000!E68 -> MD352626 | F68: =ТО15000!F68 -> 1 | G68: =ТО15000!G68 -> 753 | H68: =F68*G68 -> 753
D69: Салонный фильтр | E69: =ТО15000!E69 -> 7803A028 | F69: =ТО15000!F69 -> 1 | G69: =ТО15000!G69 -> 1310 | H69: =F69*G69 -> 1310
H70: =F70*G70 -> 0
H71: =F71*G71 -> 0
H72: =F72*G72 -> 0
H73: =F73*G73 -> 0
H74: =F74*G74 -> 0
H75: =F75*G75 -> 0
H76: =F76*G76 -> 0
D77: Итого | H77: =SUM(H67:H76) -> 5549.154
A78: Стоимость ТО+расходные материалы, руб. | B78: =B12 -> 3,2 DI-D | C78: МКПП | H78: =H22+G3 -> 13552.7
C79: АКПП | H79: =H33+G4 -> 13552.7
B80: 3 | C80: МКПП | H80: =H44+G5 -> 9547.554
C81: АКПП | H81: =H55+G6 -> 9547.554
B82: =B56 -> 3,8 MIVEC | C82: МКПП
C83: АКПП | H83: =H77+G8 -> 9547.554
A84: Стоимость ТО + расходные материалы + рекомендованные работы, руб. | B84: =B78 -> 3,2 DI-D | C84: МКПП | H84: =H78+G9+G10 -> 18800.6
C85: АКПП | H85: =H79+G9+G10 -> 18800.6
B86: 3 | C86: МКПП | H86: =H80+G9+G10 -> 14795.454
C87: АКПП | H87: =H81+G9+G10 -> 14795.454
B88: =B82 -> 3,8 MIVEC | C88: МКПП
C89: АКПП | H89: =H83+G9+G10 -> 14795.454

Sheet ТО90000
A1: =ТО15000!A1 -> Pajero IV (BK) | D1: ТО90000
D2: Норма времени, н/ч | E2: Стоимость нормочаса, руб. | G2: Стоимость работ, руб.
A3: Обязательные работы | B3: =ТО75000!B3 -> 3,2 DI-D | C3: МКПП | D3: 3.8 | E3: =ТО15000!E3 -> 2499 | G3: =D3*E3 -> 9496.2
C4: АКПП | D4: 4.1 | G4: =D4*E3 -> 10245.9
B5: 3 | C5: МКПП | D5: 5.2 | G5: =D5*E3 -> 12994.8
C6: АКПП | D6: 5.2 | G6: =D6*E3 -> 12994.8
B7: =ТО75000!B7 -> 3,8 MIVEC | C7: МКПП
C8: АКПП | D8: 5.2 | G8: =D8*E3 -> 12994.8
B9: =B7 -> 3,8 MIVEC | C9: Замена реком. з/ч | D9: 1.5 | E9: =E10 -> 2499 | G9: =D9*E9 -> 3748.5
B10: Мотор-тестер | D10: =ТО15000!D10 -> 0.5 | E10: =ТО15000!E10 -> 2499 | G10: =D10*E10 -> 1249.5
D11: Вид | E11: Наименование/кат.номер | F11: Количество, л(шт) | G11: Стоимость единицы наименования | H11: Стоимость запчастей, руб.
A12: Расходные материалы | B12: =B3 -> 3,2 DI-D | C12: МКПП | D12: Моторное масло | E12: Mobil-1 5W50 | F12: 9.3 | G12: ='[2]Масла и технические жидкости'!$C$4 -> 522 | H12: =F12*G12 -> 4854.6
D13: Масляный фильтр | E13: 1230A046 | F13: 1 | G13: =[2]Запчасти!$C$155 -> 858 | H13: =F13*G13 -> 858
D14: Салонный фильтр | E14: 7803A028 | F14: 1 | G14: =[2]Запчасти!$C$149 -> 1310 | H14: =F14*G14 -> 1310
D15: Топливный фильтр | E15: 1770A053 | F15: 1 | G15: =[2]Запчасти!$C$157 -> 1782 | H15: =F15*G15 -> 1782
D16: Жидкость гидропривода тормозов и сцепления | E16: Mobil DOT4 | F16: 1 | G16: ='[2]Масла и технические жидкости'!$C$6 -> 275 | H16: =F16*G16 -> 275
D17: Воздушный фильтр | E17: MR404847 | F17: 1 | G17: =[2]Запчасти!$C$156 -> 1993 | H17: =F17*G17 -> 1993
D18: Масло МКПП | E18: ='[2]Масла и технические жидкости'!$B$8 -> Mobilube 1-SHC 75W90 | F18: 3.2 | G18: ='[2]Масла и технические жидкости'!$C$8 -> 648.33 | H18: =F18*G18 -> 2074.656
D19: Масло РК | E19: ='[2]Масла и технические жидкости'!$B$8 -> Mobilube 1-SHC 75W90 | F19: 2.8 | G19: ='[2]Масла и технические жидкости'!$C$8 -> 648.33 | H19: =F19*G19 -> 1815.324
D20: Масло задн. дифф. | E20: ='[2]Масла и технические жидкости'!$B$8 -> Mobilube 1-SHC 75W90 | F20: 1.6 | G20: ='[2]Масла и технические жидкости'!$C$8 -> 648.33 | H20: =F20*G20 -> 1037.328
D21: Масло пер. дифф. | E21: ='[2]Масла и технические жидкости'!$B$8 -> Mobilube 1-SHC 75W90 | F21: 1.15 | G21: ='[2]Масла и технические жидкости'!$C$8 -> 648.33 | H21: =F21*G21 -> 745.5795
D22: Итого | H22: =SUM(H12:H21) -> 16745.488
C23: АКПП | D23: Моторное масло | E23: Mobil-1 5W50 | F23: 9.3 | G23: ='[2]Масла и технические жидкости'!$C$4 -> 522 | H23: =F23*G23 -> 4854.6
D24: Масляный фильтр | E24: 1230A046 | F24: 1 | G24: =[2]Запчасти!$C$155 -> 858 | H24: =F24*G24 -> 858
D25: Салонный фильтр | E25: 7803A028 | F25: 1 | G25: =[2]Запчасти!$C$149 -> 1310 | H25: =F25*G25 -> 1310
D26: Топливный фильтр | E26: 1770A053 | F26: 1 | G26: =[2]Запчасти!$C$157 -> 1782 | H26: =F26*G26 -> 1782
D27: Жидкость гидропривода тормозов | E27: Mobil DOT4 | F27: 1 | G27: ='[2]Масла и технические жидкости'!$C$6 -> 275 | H27: =F27*G27 -> 275
D28: Воздушный фильтр | E28: MR404847 | F28: 1 | G28: =[2]Запчасти!$C$156 -> 1993 | H28: =F28*G28 -> 1993
D29: Масло РК | E29: ='[2]Масла и технические жидкости'!$B$8 -> Mobilube 1-SHC 75W90 | F29: 2.8 | G29: ='[2]Масла и технические жидкости'!$C$8 -> 648.33 | H29: =F29*G29 -> 1815.324
D30: Масло задн. дифф. | E30: ='[2]Масла и технические жидкости'!$B$8 -> Mobilube 1-SHC 75W90 | F30: 1.6 | G30: ='[2]Масла и технические жидкости'!$C$8 -> 648.33 | H30: =F30*G30 -> 1037.328
D31: Масло пер. дифф. | E31: ='[2]Масла и технические жидкости'!$B$8 -> Mobilube 1-SHC 75W90 | F31: 1.15 | G31: ='[2]Масла и технические жидкости'!$C$8 -> 648.33 | H31: =F31*G31 -> 745.5795
D32: Масло АКПП | E32: ='[2]Масла и технические жидкости'!$B$11 -> BP ATF SP-III | F32: 9.7 | G32: ='[2]Масла и технические жидкости'!$C$11 -> 419.3 | H32: =F32*G32 -> 4067.21
D33: Итого | H33: =SUM(H23:H31) -> 14670.832
B34: 3 | C34: МКПП | D34: Моторное масло | E34: =ТО15000!E34 -> Mobil-1 0W40 | F34: =ТО15000!F34 -> 4.9 | G34: =ТО15000!G34 -> 711.46 | H34: =F34*G34 -> 3486.154
D35: Масляный фильтр | E35: =ТО15000!E35 -> MD352626 | F35: =ТО15000!F35 -> 1 | G35: =ТО15000!G35 -> 753 | H35: =F35*G35 -> 753 | J35: Запчасти, рекомендуемые к замене
D36: Салонный фильтр | E36: =ТО15000!E36 -> 7803A028 | F36: =ТО15000!F36 -> 1 | G36: =ТО15000!G36 -> 1310 | H36: =F36*G36 -> 1310 | I36: Наименование | J36: Каталожный номер | K36: Стоимость
D37: Ремень ГРМ | E37: =[2]Запчасти!$B$200 -> MD358557 | F37: 1 | G37: =[2]Запчасти!$C$200 -> 10019 | H37: =F37*G37 -> 10019 | I37: Натяжит. ремня ГРМ | J37: =[2]Запчасти!$F$194 -> MD362861 | K37: =[2]Запчасти!$G$194 -> 4259
D38: Жидкость гидропривода тормозов и сцепления | E38: =E49 -> Mobil DOT4 | F38: 1 | G38: ='[2]Масла и технические жидкости'!$C$6 -> 275 | H38: =F38*G38 -> 275 | I38: Ролик натяжителя | J38: =[2]Запчасти!$F$195 -> MD140071 | K38: =[2]Запчасти!$G$195 -> 2873
D39: Воздушный фильтр | E39: =[2]Запчасти!$B$196 -> MR571476 | F39: 1 | G39: =[2]Запчасти!$C$196 -> 2159 | H39: =F39*G39 -> 2159 | I39: Ролик обводной | J39: =[2]Запчасти!$F$196 -> MD319022 | K39: =[2]Запчасти!$G$196 -> 2427
D40: Масло МКПП | E40: ='[2]Масла и технические жидкости'!$B$8 -> Mobilube 1-SHC 75W90 | F40: 3.2 | G40: ='[2]Масла и технические жидкости'!$C$8 -> 648.33 | H40: =F40*G40 -> 2074.656 | I40: Итого | K40: =SUM(K37:K39) -> 9559
D41: Масло РК | E41: ='[2]Масла и технические жидкости'!$B$8 -> Mobilube 1-SHC 75W90 | F41: 2.8 | G41: ='[2]Масла и технические жидкости'!$C$8 -> 648.33 | H41: =F41*G41 -> 1815.324
D42: Масло задн. дифф. | E42: ='[2]Масла и технические жидкости'!$B$8 -> Mobilube 1-SHC 75W90 | F42: 1.6 | G42: ='[2]Масла и технические жидкости'!$C$8 -> 648.33 | H42: =F42*G42 -> 1037.328
D43: Масло пер. дифф. | E43: ='[2]Масла и технические жидкости'!$B$8 -> Mobilube 1-SHC 75W90 | F43: 1.15 | G43: ='[2]Масла и технические жидкости'!$C$8 -> 648.33 | H43: =F43*G43 -> 745.5795
D44: Итого | H44: =SUM(H34:H43) -> 23675.042
C45: АКПП | D45: Моторное масло | E45: =ТО15000!E45 -> Mobil-1 0W40 | F45: =ТО15000!F45 -> 4.9 | G45: =ТО15000!G45 -> 711.46 | H45: =G45*F45 -> 3486.154
D46: Масляный фильтр | E46: =ТО15000!E46 -> MD352626 | F46: =ТО15000!F46 -> 1 | G46: =ТО15000!G46 -> 753 | H46: =G46*F46 -> 753
D47: Салонный фильтр | E47: =ТО15000!E47 -> 7803A028 | F47: =ТО15000!F47 -> 1 | G47: =ТО15000!G47 -> 1310 | H47: =G47*F47 -> 1310
D48: Ремень ГРМ | E48: =E37 -> MD358557 | F48: 1 | G48: =G37 -> 10019 | H48: =G48*F48 -> 10019
D49: Жидкость гидропривода тормозов | E49: =E16 -> Mobil DOT4 | F49: 1 | G49: =G16 -> 275 | H49: =G49*F49 -> 275
D50: Воздушный фильтр | E50: =[2]Запчасти!$B$196 -> MR571476 | F50: 1 | G50: =[2]Запчасти!$C$196 -> 2159 | H50: =G50*F50 -> 2159
D51: Масло АКПП | E51: =E73 -> BP ATF SP-III | F51: 9.7 | G51: =G73 -> 419.3 | H51: =G51*F51 -> 4067.21
D52: Масло РК | E52: =E74 -> Mobilube 1-SHC 75W90 | F52: 2.8 | G52: =G74 -> 648.33 | H52: =G52*F52 -> 1815.324
D53: Масло пер. дифф. | E53: ='[2]Масла и технические жидкости'!$B$8 -> Mobilube 1-SHC 75W90 | F53: 1.15 | G53: =G74 -> 648.33 | H53: =G53*F53 -> 745.5795
D54: Масло задн. дифф. | E54: =E53 -> Mobilube 1-SHC 75W90 | F54: 1.6 | G54: =G74 -> 648.33 | H54: =G54*F54 -> 1037.328
D55: Итого | H55: =SUM(H45:H54) -> 25667.596
B56: =B7 -> 3,8 MIVEC | C56: МКПП | H56: =F56*G56 -> 0
H57: =F57*G57 -> 0 | J57: Запчасти, рекомендуемые к замене
H58: =F58*G58 -> 0 | I58: Наименование | J58: Каталожный номер | K58: Стоимость
H59: =F59*G59 -> 0 | I59: Натяжит. ремня ГРМ | J59: =[2]Запчасти!$F$148 -> MD362861 | K59: =[2]Запчасти!$G$148 -> 4259
H60: =F60*G60 -> 0 | I60: Ролик натяжителя | J60: =[2]Запчасти!$F$149 -> MD140071 | K60: =[2]Запчасти!$G$149 -> 2873
H61: =F61*G61 -> 0 | I61: Ролик обводной | J61: =[2]Запчасти!$F$150 -> MD319022 | K61: =[2]Запчасти!$G$150 -> 2427
H62: =F62*G62 -> 0 | I62: Итого | K62: =K59+K60+K61 -> 9559
H63: =F63*G63 -> 0
H64: =F64*G64 -> 0
H65: =F65*G65 -> 0
H66: =SUM(H56:H64) -> 0
C67: АКПП | D67: Моторное масло | E67: =ТО15000!E67 -> Mobil-1 0W40 | F67: =ТО15000!F67 -> 4.9 | G67: =ТО15000!G67 -> 711.46 | H67: =F67*G67 -> 3486.154
D68: Масляный фильтр | E68: =ТО15000!E68 -> MD352626 | F68: =ТО15000!F68 -> 1 | G68: =ТО15000!G68 -> 753 | H68: =F68*G68 -> 753
D69: Салонный фильтр | E69: =ТО15000!E69 -> 7803A028 | F69: =ТО15000!F69 -> 1 | G69: =ТО15000!G69 -> 1310 | H69: =F69*G69 -> 1310
D70: Ремень ГРМ | E70: =[2]Запчасти!$B$154 -> MD358549 | F70: 1 | G70: =[2]Запчасти!$C$154 -> 6725 | H70: =F70*G70 -> 6725
D71: Жидкость гидропривода тормозов | E71: =ТО30000!E65 -> Mobil DOT4 | F71: =ТО30000!F65 -> 1 | G71: =ТО30000!G65 -> 275 | H71: =F71*G71 -> 275
D72: Воздушный фильтр | E72: =ТО30000!E66 -> MR571476 | F72: =ТО30000!F66 -> 1 | G72: =ТО30000!G66 -> 2159 | H72: =F72*G72 -> 2159
D73: Масло АКПП | E73: ='[2]Масла и технические жидкости'!$B$11 -> BP ATF SP-III | F73: 9.7 | G73: ='[2]Масла и технические жидкости'!$C$11 -> 419.3 | H73: =F73*G73 -> 4067.21
D74: Масло РК | E74: =ТО45000!E63 -> Mobilube 1-SHC 75W90 | F74: =ТО45000!F63 -> 2.8 | G74: =ТО45000!G63 -> 648.33 | H74: =F74*G74 -> 1815.324
D75: Масло пер. дифф. | E75: ='[2]Масла и технические жидкости'!$B$8 -> Mobilube 1-SHC 75W90 | F75: 1.15 | G75: ='[2]Масла и технические жидкости'!$C$8 -> 648.33 | H75: =F75*G75 -> 745.5795
D76: Масло задн. дифф. | E76: =ТО45000!E64 -> Mobilube 1-SHC 75W90 | F76: =ТО45000!F64 -> 1.6 | G76: =ТО45000!G64 -> 648.33 | H76: =F76*G76 -> 1037.328
D77: Итого | H77: =SUM(H67:H76) -> 22373.596
A78: Стоимость ТО+расходные материалы, руб. | B78: =B12 -> 3,2 DI-D | C78: МКПП | H78: =H22+G3 -> 26241.688
C79: АКПП | H79: =H33+G4 -> 24916.732
B80: 3 | C80: МКПП | H80: =H44+G5 -> 36669.842
C81: АКПП | H81: =H55+G6 -> 38662.396
B82: =B56 -> 3,8 MIVEC | C82: МКПП
C83: АКПП | H83: =H77+G8 -> 35368.396
A84: Стоимость ТО + расходные материалы + мотортестер, руб. | B84: =B78 -> 3,2 DI-D | C84: МКПП | H84: =H78+G10 -> 27491.188
C85: АКПП | H85: =H79+G10 -> 26166.232
B86: 3 | C86: МКПП | H86: =H80+G10 -> 37919.342
C87: АКПП | H87: =H81+G10 -> 39911.896
B88: =B82 -> 3,8 MIVEC | C88: МКПП
C89: АКПП | H89: =H83+G10 -> 36617.896
A90: Стоимость ТО + расходные материалы + рекомендованные работы, руб. | B90: =B84 -> 3,2 DI-D | C90: МКПП | H90: =H84 -> 27491.188
C91: АКПП | H91: =H85 -> 26166.232
B92: 3 | C92: МКПП | H92: =H86+K40+G9 -> 51226.842
C93: АКПП | H93: =H87+K40+G9 -> 53219.396
B94: =B88 -> 3,8 MIVEC | C94: МКПП
C95: АКПП | H95: =H89+K62+G9 -> 49925.396

Sheet ТО105000
A1: =ТО15000!A1 -> Pajero IV (BK) | D1: ТО105000
D2: Норма времени, н/ч | E2: Стоимость нормочаса, руб. | G2: Стоимость работ, руб.
A3: Обязательные работы | B3: =ТО90000!B3 -> 3,2 DI-D | C3: МКПП | D3: 2 | E3: =[1]Лист1!$B$5 -> 2499 | G3: =D3*E3 -> 4998
C4: АКПП | D4: 2 | G4: =D4*E3 -> 4998
B5: 3 | C5: МКПП | D5: 1.6 | G5: =D5*E3 -> 3998.4
C6: АКПП | D6: 1.6 | G6: =D6*E3 -> 3998.4
B7: =ТО90000!B7 -> 3,8 MIVEC | C7: МКПП
C8: АКПП | D8: 1.7 | G8: =D8*E3 -> 4248.3
A9: Рекомендованные работы | B9: Сход-развал | D9: =ТО15000!D9 -> 1.6 | E9: =[1]Лист1!$B$5 -> 2499 | G9: =D9*E9 -> 3998.4
B10: Мотор-тестер | D10: =ТО15000!D10 -> 0.5 | E10: =[1]Лист1!$B$5 -> 2499 | G10: =D10*E10 -> 1249.5
D11: Вид | E11: Наименование/кат.номер | F11: Количество, л(шт) | G11: Стоимость единицы наименования | H11: Стоимость запчастей, руб.
A12: Расходные материалы | B12: =B3 -> 3,2 DI-D | C12: МКПП | D12: Моторное масло | E12: Mobil-1 5W50 | F12: 9.3 | G12: ='[2]Масла и технические жидкости'!$C$4 -> 522 | H12: =F12*G12 -> 4854.6
D13: Масляный фильтр | E13: 1230A046 | F13: 1 | G13: =[2]Запчасти!$C$155 -> 858 | H13: =F13*G13 -> 858
D14: Салонный фильтр | E14: 7803A028 | F14: 1 | G14: =[2]Запчасти!$C$149 -> 1310 | H14: =F14*G14 -> 1310
D15: Топливный фильтр | E15: 1770A053 | F15: 1 | G15: =[2]Запчасти!$C$157 -> 1782 | H15: =F15*G15 -> 1782
H16: =F16*G16 -> 0
H17: =F17*G17 -> 0
H18: =F18*G18 -> 0
H19: =F19*G19 -> 0
H20: =F20*G20 -> 0
H21: =F21*G21 -> 0
D22: Итого | H22: =SUM(H12:H21) -> 8804.6
C23: АКПП | D23: Моторное масло | E23: Mobil-1 5W50 | F23: 9.3 | G23: ='[2]Масла и технические жидкости'!$C$4 -> 522 | H23: =F23*G23 -> 4854.6
D24: Масляный фильтр | E24: 1230A046 | F24: 1 | G24: =[2]Запчасти!$C$155 -> 858 | H24: =F24*G24 -> 858
D25: Салонный фильтр | E25: 7803A028 | F25: 1 | G25: =[2]Запчасти!$C$149 -> 1310 | H25: =F25*G25 -> 1310
D26: Топливный фильтр | E26: 1770A053 | F26: 1 | G26: =[2]Запчасти!$C$157 -> 1782 | H26: =F26*G26 -> 1782
H27: =F27*G27 -> 0
H28: =F28*G28 -> 0
H29: =F29*G29 -> 0
H30: =F30*G30 -> 0
H31: =F31*G31 -> 0
H32: =F32*G32 -> 0
D33: Итого | H33: =SUM(H23:H32) -> 8804.6
B34: 3 | C34: МКПП | D34: Моторное масло | E34: ='[2]Масла и технические жидкости'!$B$5 -> Mobil-1 0W40 | F34: 4.9 | G34: ='[2]Масла и технические жидкости'!$C$5 -> 711.46 | H34: =F34*G34 -> 3486.154
D35: Масляный фильтр | E35: =[2]Запчасти!$B$194 -> MD352626 | F35: 1 | G35: =[2]Запчасти!$C$194 -> 753 | H35: =F35*G35 -> 753
D36: Салонный фильтр | E36: =[2]Запчасти!$B$195 -> 7803A028 | F36: 1 | G36: =[2]Запчасти!$C$195 -> 1310 | H36: =F36*G36 -> 1310
H37: =F37*G37 -> 0
H38: =F38*G38 -> 0
H39: =F39*G39 -> 0
H40: =F40*G40 -> 0
H41: =F41*G41 -> 0
H42: =F42*G42 -> 0
H43: =F43*G43 -> 0
D44: Итого | H44: =SUM(H34:H43) -> 5549.154
C45: АКПП | D45: Моторное масло | E45: ='[2]Масла и технические жидкости'!$B$5 -> Mobil-1 0W40 | F45: 4.9 | G45: ='[2]Масла и технические жидкости'!$C$5 -> 711.46 | H45: =F45*G45 -> 3486.154
D46: Масляный фильтр | E46: =[2]Запчасти!$B$194 -> MD352626 | F46: 1 | G46: =[2]Запчасти!$C$194 -> 753 | H46: =F46*G46 -> 753
D47: Салонный фильтр | E47: =[2]Запчасти!$B$195 -> 7803A028 | F47: 1 | G47: =[2]Запчасти!$C$195 -> 1310 | H47: =F47*G47 -> 1310
H48: =F48*G48 -> 0
H49: =F49*G49 -> 0
H50: =F50*G50 -> 0
H51: =F51*G51 -> 0
H52: =F52*G52 -> 0
H53: =F53*G53 -> 0
H54: =F54*G54 -> 0
D55: Итого | H55: =SUM(H45:H54) -> 5549.154
B56: =B7 -> 3,8 MIVEC | C56: МКПП | H56: =F56*G56 -> 0
H57: =F57*G57 -> 0
H58: =F58*G58 -> 0
H59: =F59*G59 -> 0
H60: =F60*G60 -> 0
H61: =F61*G61 -> 0
H62: =F62*G62 -> 0
H63: =F63*G63 -> 0
H64: =F64*G64 -> 0
H65: =F65*G65 -> 0
D66: Итого | H66: =SUM(H56:H65) -> 0
C67: АКПП | D67: Моторное масло | E67: =ТО15000!E67 -> Mobil-1 0W40 | F67: =ТО15000!F67 -> 4.9 | G67: =ТО15000!G67 -> 711.46 | H67: =F67*G67 -> 3486.154
D68: Масляный фильтр | E68: =ТО15000!E68 -> MD352626 | F68: =ТО15000!F68 -> 1 | G68: =ТО15000!G68 -> 753 | H68: =F68*G68 -> 753
D69: Салонный фильтр | E69: =ТО15000!E69 -> 7803A028 | F69: =ТО15000!F69 -> 1 | G69: =ТО15000!G69 -> 1310 | H69: =F69*G69 -> 1310
H70: =F70*G70 -> 0
H71: =F71*G71 -> 0
H72: =F72*G72 -> 0
H73: =F73*G73 -> 0
H74: =F74*G74 -> 0
H75: =F75*G75 -> 0
H76: =F76*G76 -> 0
D77: Итого | H77: =SUM(H67:H76) -> 5549.154
A78: Стоимость ТО+расходные материалы, руб. | B78: =B12 -> 3,2 DI-D | C78: МКПП | H78: =H22+G3 -> 13802.6
C79: АКПП | H79: =H33+G4 -> 13802.6
B80: 3 | C80: МКПП | H80: =H44+G5 -> 9547.554
C81: АКПП | H81: =H55+G6 -> 9547.554
B82: =B56 -> 3,8 MIVEC | C82: МКПП
C83: АКПП | H83: =H77+G8 -> 9797.454
A84: Стоимость ТО + расходные материалы + рекомендованные работы, руб. | B84: =B78 -> 3,2 DI-D | C84: МКПП | H84: =H78+G9+G10 -> 19050.5
C85: АКПП | H85: =H79+G9+G10 -> 19050.5
B86: 3 | C86: МКПП | H86: =H80+G9+G10 -> 14795.454
C87: АКПП | H87: =H81+G9+G10 -> 14795.454
B88: =B82 -> 3,8 MIVEC | C88: МКПП
C89: АКПП | H89: =H83+G9+G10 -> 15045.354

Sheet ТО120000
A1: =ТО15000!A1 -> Pajero IV (BK) | D1: ТО120000
D2: Норма времени, н/ч | E2: Стоимость нормочаса, руб. | G2: Стоимость работ, руб.
A3: Обязательные работы | B3: =ТО105000!B3 -> 3,2 DI-D | C3: МКПП | D3: 5 | E3: =ТО15000!E3 -> 2499 | G3: =D3*E3 -> 12495
C4: АКПП | D4: 4.8 | G4: =D4*E3 -> 11995.2
B5: 3 | C5: МКПП | D5: 5 | G5: =D5*E3 -> 12495
C6: АКПП | D6: 5 | G6: =D6*E3 -> 12495
B7: =ТО105000!B7 -> 3,8 MIVEC | C7: МКПП
C8: АКПП | D8: 5.1 | G8: =D8*E3 -> 12744.9
A9: Рекомендованные работы
B10: Мотор-тестер | D10: =ТО15000!D10 -> 0.5 | E10: =ТО15000!E10 -> 2499 | G10: =D10*E10 -> 1249.5
D11: Вид | E11: Наименование/кат.номер | F11: Количество, л(шт) | G11: Стоимость единицы наименования | H11: Стоимость запчастей, руб.
A12: Расходные материалы | B12: =B3 -> 3,2 DI-D | C12: МКПП | D12: Моторное масло | E12: Mobil-1 5W50 | F12: 9.3 | G12: ='[2]Масла и технические жидкости'!$C$4 -> 522 | H12: =F12*G12 -> 4854.6
D13: Масляный фильтр | E13: 1230A046 | F13: 1 | G13: =[2]Запчасти!$C$155 -> 858 | H13: =F13*G13 -> 858
D14: Салонный фильтр | E14: 7803A028 | F14: 1 | G14: =[2]Запчасти!$C$149 -> 1310 | H14: =F14*G14 -> 1310
D15: Топливный фильтр | E15: 1770A053 | F15: 1 | G15: =[2]Запчасти!$C$157 -> 1782 | H15: =F15*G15 -> 1782
D16: Жидкость гидропривода тормозов и сцепления | E16: Mobil DOT4 | F16: 1 | G16: ='[2]Масла и технические жидкости'!$C$6 -> 275 | H16: =F16*G16 -> 275
D17: Воздушный фильтр | E17: MR404847 | F17: 1 | G17: =[2]Запчасти!$C$156 -> 1993 | H17: =F17*G17 -> 1993
D18: Охлаждающая жидкость | E18: ='[2]Масла и технические жидкости'!$B$14 -> Antifreeze Extra | F18: 11 | G18: ='[2]Масла и технические жидкости'!$C$14 -> 332 | H18: =F18*G18 -> 3652
D19: Топливный фильтр в баке | E19: =[2]Запчасти!$B$158 -> MR556587 | F19: 1 | G19: =[2]Запчасти!$C$158 -> 1201 | H19: =F19*G19 -> 1201
D20: Прокладка топливного фильтра | E20: =[2]Запчасти!$B$159 -> MN106046 | F20: 1 | G20: =[2]Запчасти!$C$159 -> 320 | H20: =F20*G20 -> 320
H21: =F21*G21 -> 0
D22: Итого | H22: =SUM(H12:H21) -> 16245.6
C23: АКПП | D23: Моторное масло | E23: Mobil-1 5W50 | F23: 9.3 | G23: ='[2]Масла и технические жидкости'!$C$4 -> 522 | H23: =F23*G23 -> 4854.6
D24: Масляный фильтр | E24: 1230A046 | F24: 1 | G24: =[2]Запчасти!$C$155 -> 858 | H24: =F24*G24 -> 858
D25: Салонный фильтр | E25: 7803A028 | F25: 1 | G25: =[2]Запчасти!$C$149 -> 1310 | H25: =F25*G25 -> 1310
D26: Топливный фильтр | E26: 1770A053 | F26: 1 | G26: =[2]Запчасти!$C$157 -> 1782 | H26: =F26*G26 -> 1782
D27: Жидкость гидропривода тормозов | E27: Mobil DOT4 | F27: 1 | G27: ='[2]Масла и технические жидкости'!$C$6 -> 275 | H27: =F27*G27 -> 275
D28: Воздушный фильтр | E28: MR404847 | F28: 1 | G28: =[2]Запчасти!$C$156 -> 1993 | H28: =F28*G28 -> 1993
D29: Охлаждающая жидкость | E29: ='[2]Масла и технические жидкости'!$B$14 -> Antifreeze Extra | F29: 11 | G29: ='[2]Масла и технические жидкости'!$C$14 -> 332 | H29: =F29*G29 -> 3652
D30: Топливный фильтр в баке | E30: =[2]Запчасти!$B$158 -> MR556587 | F30: 1 | G30: =[2]Запчасти!$C$158 -> 1201 | H30: =F30*G30 -> 1201
D31: Прокладка топливного фильтра | E31: =[2]Запчасти!$B$159 -> MN106046 | F31: 1 | G31: =[2]Запчасти!$C$159 -> 320 | H31: =F31*G31 -> 320
H32: =F32*G32 -> 0
D33: Итого | H33: =SUM(H23:H32) -> 16245.6
B34: 3 | C34: МКПП | D34: Моторное масло | E34: ='[2]Масла и технические жидкости'!$B$5 -> Mobil-1 0W40 | F34: 4.9 | G34: ='[2]Масла и технические жидкости'!$C$5 -> 711.46 | H34: =F34*G34 -> 3486.154
D35: Масляный фильтр | E35: =[2]Запчасти!$B$194 -> MD352626 | F35: 1 | G35: =[2]Запчасти!$C$194 -> 753 | H35: =F35*G35 -> 753
D36: Салонный фильтр | E36: =[2]Запчасти!$B$195 -> 7803A028 | F36: 1 | G36: =[2]Запчасти!$C$195 -> 1310 | H36: =F36*G36 -> 1310
D37: Свечи зажигания | E37: =[2]Запчасти!$B$198 -> 1822A002 | F37: 6 | G37: =[2]Запчасти!$C$198 -> 1099 | H37: =F37*G37 -> 6594
D38: Жидкость гидропривода тормозов и сцепления | E38: Mobil DOT4 | F38: 1 | G38: ='[2]Масла и технические жидкости'!$C$6 -> 275 | H38: =F38*G38 -> 275
D39: Воздушный фильтр | E39: =[2]Запчасти!$B$196 -> MR571476 | F39: 1 | G39: =[2]Запчасти!$C$196 -> 2159 | H39: =F39*G39 -> 2159
D40: Охлаждающая жидкость | E40: ='[2]Масла и технические жидкости'!$B$14 -> Antifreeze Extra | F40: 11 | G40: ='[2]Масла и технические жидкости'!$C$14 -> 332 | H40: =F40*G40 -> 3652
D41: Топливный фильтр в баке | E41: =[2]Запчасти!$B$197 -> MR529135 | F41: 1 | G41: =[2]Запчасти!$C$197 -> 4851 | H41: =F41*G41 -> 4851
D42: Прокладка топливного фильтра | E42: =[2]Запчасти!$B$199 -> MN106046 | F42: 1 | G42: =[2]Запчасти!$C$199 -> 320 | H42: =F42*G42 -> 320
D43: Прокладка впускного коллектора | E43: =[2]Запчасти!$B$161 -> MD199282 | F43: 1 | G43: =[2]Запчасти!$C$161 -> 557 | H43: =F43*G43 -> 557
H44: =F44*G44 -> 0
D45: Итого | H45: =SUM(H34:H44) -> 23957.154
C46: АКПП | D46: Моторное масло | E46: ='[2]Масла и технические жидкости'!$B$5 -> Mobil-1 0W40 | F46: 4.9 | G46: ='[2]Масла и технические жидкости'!$C$5 -> 711.46 | H46: =F46*G46 -> 3486.154
D47: Масляный фильтр | E47: =[2]Запчасти!$B$194 -> MD352626 | F47: 1 | G47: =[2]Запчасти!$C$194 -> 753 | H47: =F47*G47 -> 753
D48: Салонный фильтр | E48: =[2]Запчасти!$B$195 -> 7803A028 | F48: 1 | G48: =[2]Запчасти!$C$195 -> 1310 | H48: =F48*G48 -> 1310
D49: Свечи зажигания | E49: =[2]Запчасти!$B$198 -> 1822A002 | F49: 6 | G49: =[2]Запчасти!$C$198 -> 1099 | H49: =F49*G49 -> 6594
D50: Жидкость гидропривода тормозов | E50: ='[2]Масла и технические жидкости'!$B$6 -> Mobil DOT4 | F50: 1 | G50: ='[2]Масла и технические жидкости'!$C$6 -> 275 | H50: =F50*G50 -> 275
D51: Воздушный фильтр | E51: =[2]Запчасти!$B$196 -> MR571476 | F51: 1 | G51: =[2]Запчасти!$C$196 -> 2159 | H51: =F51*G51 -> 2159
D52: Топливный фильтр в баке | E52: =[2]Запчасти!$B$197 -> MR529135 | F52: 1 | G52: =[2]Запчасти!$C$197 -> 4851 | H52: =F52*G52 -> 4851
D53: Прокладка топливного фильтра | E53: =[2]Запчасти!$B$199 -> MN106046 | F53: 1 | G53: =[2]Запчасти!$C$199 -> 320 | H53: =F53*G53 -> 320
D54: Охлаждающая жидкость | E54: ='[2]Масла и технические жидкости'!$B$14 -> Antifreeze Extra | F54: 11 | G54: ='[2]Масла и технические жидкости'!$C$14 -> 332 | H54: =F54*G54 -> 3652
D55: Прокладка впускного коллектора | E55: =E43 -> MD199282 | F55: 1 | G55: =G43 -> 557 | H55: =F55*G55 -> 557
H56: =F56*G56 -> 0
D57: Итого | H57: =SUM(H46:H56) -> 23957.154
B58: =B7 -> 3,8 MIVEC | C58: МКПП | H58: =F58*G58 -> 0
H59: =F59*G59 -> 0
H60: =F60*G60 -> 0
H61: =F61*G61 -> 0
H62: =F62*G62 -> 0
H63: =F63*G63 -> 0
H64: =F64*G64 -> 0
H65: =F65*G65 -> 0
H66: =F66*G66 -> 0
H67: =F67*G67 -> 0
D68: Итого | H68: =SUM(H58:H67) -> 0
C69: АКПП | D69: Моторное масло | E69: =ТО15000!E67 -> Mobil-1 0W40 | F69: =ТО15000!F67 -> 4.9 | G69: =ТО15000!G67 -> 711.46 | H69: =F69*G69 -> 3486.154
D70: Масляный фильтр | E70: =ТО15000!E68 -> MD352626 | F70: =ТО15000!F68 -> 1 | G70: =ТО15000!G68 -> 753 | H70: =F70*G70 -> 753
D71: Салонный фильтр | E71: =ТО15000!E69 -> 7803A028 | F71: =ТО15000!F69 -> 1 | G71: =ТО15000!G69 -> 1310 | H71: =F71*G71 -> 1310
D72: Свечи зажигания | E72: =ТО60000!E67 -> 1822A002 | F72: =ТО60000!F67 -> 6 | G72: =ТО60000!G67 -> 1099 | H72: =F72*G72 -> 6594
D73: Жидкость гидропривода тормозов | E73: =ТО30000!E65 -> Mobil DOT4 | F73: =ТО30000!F65 -> 1 | G73: =ТО30000!G65 -> 275 | H73: =F73*G73 -> 275
D74: Воздушный фильтр | E74: =ТО30000!E66 -> MR571476 | F74: =ТО30000!F66 -> 1 | G74: =ТО30000!G66 -> 2159 | H74: =F74*G74 -> 2159
D75: Топливный фильтр (бак) | E75: =[2]Запчасти!$B$151 -> MR529135 | F75: 1 | G75: =[2]Запчасти!$C$151 -> 4851 | H75: =F75*G75 -> 4851
D76: Прокладка топливного фильтра | E76: =[2]Запчасти!$B$153 -> MR529146 | F76: 1 | G76: =[2]Запчасти!$C$153 -> 146 | H76: =F76*G76 -> 146
D77: Охлаждающая жидкость | E77: =ТО60000!E68 -> Antifreeze Extra | F77: =ТО60000!F68 -> 11 | G77: =ТО60000!G68 -> 332 | H77: =F77*G77 -> 3652
D78: Прокладка впускного коллектора | E78: =[2]Запчасти!$B$160 -> MR561584 | F78: 1 | G78: =[2]Запчасти!$C$160 -> 523 | H78: =F78*G78 -> 523
H79: =F79*G79 -> 0
D80: Итого | H80: =SUM(H69:H79) -> 23749.154
A81: Стоимость ТО+расходные материалы, руб. | B81: =B12 -> 3,2 DI-D | C81: МКПП | H81: =H22+G3 -> 28740.6
C82: АКПП | H82: =H33+G4 -> 28240.8
B83: 3 | C83: МКПП | H83: =H45+G5 -> 36452.154
C84: АКПП | H84: =H57+G6 -> 36452.154
B85: =B58 -> 3,8 MIVEC | C85: МКПП
C86: АКПП | H86: =H80+G8 -> 36494.054
A87: Стоимость ТО + расходные материалы + рекомендованные работы, руб. | B87: =B81 -> 3,2 DI-D | C87: МКПП | H87: =H81+G10 -> 29990.1
C88: АКПП | H88: =H82+G10 -> 29490.3
B89: 3 | C89: МКПП | H89: =H83+G10 -> 37701.654
C90: АКПП | H90: =H84+G10 -> 37701.654
B91: =B85 -> 3,8 MIVEC | C91: МКПП
C92: АКПП | H92: =H86+G10 -> 37743.554

Sheet ТО135000
A1: =ТО15000!A1 -> Pajero IV (BK) | D1: ТО135000
D2: Норма времени, н/ч | E2: Стоимость нормочаса, руб. | G2: Стоимость работ, руб.
A3: Обязательные работы | B3: =ТО120000!B3 -> 3,2 DI-D | C3: МКПП | D3: 2.6 | E3: =[1]Лист1!$B$5 -> 2499 | G3: =D3*E3 -> 6497.4
C4: АКПП | D4: 2.4 | G4: =D4*E3 -> 5997.6
B5: 3 | C5: МКПП | D5: 2 | G5: =D5*E3 -> 4998
C6: АКПП | D6: 1.9 | G6: =D6*E3 -> 4748.1
B7: =ТО120000!B7 -> 3,8 MIVEC | C7: МКПП
C8: АКПП | D8: 1.9 | G8: =D8*E3 -> 4748.1
A9: Рекомендованные работы | B9: Сход-развал | D9: =ТО15000!D9 -> 1.6 | E9: =[1]Лист1!$B$5 -> 2499 | G9: =D9*E9 -> 3998.4
B10: Мотор-тестер | D10: =ТО15000!D10 -> 0.5 | E10: =[1]Лист1!$B$5 -> 2499 | G10: =D10*E10 -> 1249.5
D11: Вид | E11: Наименование/кат.номер | F11: Количество, л(шт) | G11: Стоимость единицы наименования | H11: Стоимость запчастей, руб.
A12: Расходные материалы | B12: =B3 -> 3,2 DI-D | C12: МКПП | D12: Моторное масло | E12: Mobil-1 5W50 | F12: 9.3 | G12: ='[2]Масла и технические жидкости'!$C$4 -> 522 | H12: =F12*G12 -> 4854.6
D13: Масляный фильтр | E13: 1230A046 | F13: 1 | G13: =[2]Запчасти!$C$155 -> 858 | H13: =F13*G13 -> 858
D14: Салонный фильтр | E14: 7803A028 | F14: 1 | G14: =[2]Запчасти!$C$149 -> 1310 | H14: =F14*G14 -> 1310
D15: Топливный фильтр | E15: 1770A053 | F15: 1 | G15: =[2]Запчасти!$C$157 -> 1782 | H15: =F15*G15 -> 1782
D16: Масло МКПП | E16: ='[2]Масла и технические жидкости'!$B$8 -> Mobilube 1-SHC 75W90 | F16: 3.2 | G16: ='[2]Масла и технические жидкости'!$C$8 -> 648.33 | H16: =F16*G16 -> 2074.656
D17: Масло РК | E17: ='[2]Масла и технические жидкости'!$B$8 -> Mobilube 1-SHC 75W90 | F17: 2.8 | G17: ='[2]Масла и технические жидкости'!$C$8 -> 648.33 | H17: =F17*G17 -> 1815.324
D18: Масло задн. дифф. | E18: ='[2]Масла и технические жидкости'!$B$8 -> Mobilube 1-SHC 75W90 | F18: 1.6 | G18: ='[2]Масла и технические жидкости'!$C$8 -> 648.33 | H18: =F18*G18 -> 1037.328
H19: =F19*G19 -> 0
H20: =F20*G20 -> 0
D21: Итого | H21: =SUM(H12:H20) -> 13731.908
C22: АКПП | D22: Моторное масло | E22: Mobil-1 5W50 | F22: 9.3 | G22: ='[2]Масла и технические жидкости'!$C$4 -> 522 | H22: =F22*G22 -> 4854.6
D23: Масляный фильтр | E23: 1230A046 | F23: 1 | G23: =[2]Запчасти!$C$155 -> 858 | H23: =F23*G23 -> 858
D24: Салонный фильтр | E24: 7803A028 | F24: 1 | G24: =[2]Запчасти!$C$149 -> 1310 | H24: =F24*G24 -> 1310
D25: Топливный фильтр | E25: 1770A053 | F25: 1 | G25: =[2]Запчасти!$C$157 -> 1782 | H25: =F25*G25 -> 1782
D26: Масло РК | E26: ='[2]Масла и технические жидкости'!$B$8 -> Mobilube 1-SHC 75W90 | F26: 2.8 | G26: ='[2]Масла и технические жидкости'!$C$8 -> 648.33 | H26: =F26*G26 -> 1815.324
D27: Масло задн. дифф. | E27: ='[2]Масла и технические жидкости'!$B$8 -> Mobilube 1-SHC 75W90 | F27: 1.6 | G27: ='[2]Масла и технические жидкости'!$C$8 -> 648.33 | H27: =F27*G27 -> 1037.328
H28: =F28*G28 -> 0
H29: =F29*G29 -> 0
D30: Итого | H30: =SUM(H22:H29) -> 11657.252
B31: 3 | C31: МКПП | D31: Моторное масло | E31: Mobil-1 0W40 | F31: 4.9 | G31: ='[2]Масла и технические жидкости'!$C$5 -> 711.46 | H31: =F31*G31 -> 3486.154
D32: Масляный фильтр | E32: =[2]Запчасти!$B$148 -> MD352626 | F32: 1 | G32: =[2]Запчасти!$C$148 -> 753 | H32: =F32*G32 -> 753
D33: Салонный фильтр | E33: =[2]Запчасти!$B$149 -> 7803A028 | F33: 1 | G33: =[2]Запчасти!$C$149 -> 1310 | H33: =F33*G33 -> 1310
D34: Масло МКПП | E34: ='[2]Масла и технические жидкости'!$B$8 -> Mobilube 1-SHC 75W90 | F34: 3.2 | G34: ='[2]Масла и технические жидкости'!$C$8 -> 648.33 | H34: =F34*G34 -> 2074.656
D35: Масло РК | E35: ='[2]Масла и технические жидкости'!$B$8 -> Mobilube 1-SHC 75W90 | F35: 2.8 | G35: =G34 -> 648.33 | H35: =F35*G35 -> 1815.324
D36: Масло задн. дифф. | E36: ='[2]Масла и технические жидкости'!$B$8 -> Mobilube 1-SHC 75W90 | F36: 1.6 | G36: =G34 -> 648.33 | H36: =F36*G36 -> 1037.328
H37: =F37*G37 -> 0
H38: =F38*G38 -> 0
H39: =F39*G39 -> 0
D40: Итого | H40: =SUM(H31:H39) -> 10476.462
C41: АКПП | D41: Моторное масло | E41: Mobil-1 0W40 | F41: 4.9 | G41: ='[2]Масла и технические жидкости'!$C$5 -> 711.46 | H41: =F41*G41 -> 3486.154
D42: Масляный фильтр | E42: =[2]Запчасти!$B$148 -> MD352626 | F42: 1 | G42: =[2]Запчасти!$C$148 -> 753 | H42: =F42*G42 -> 753
D43: Салонный фильтр | E43: =[2]Запчасти!$B$149 -> 7803A028 | F43: 1 | G43: =[2]Запчасти!$C$149 -> 1310 | H43: =F43*G43 -> 1310
D44: Масло РК | E44: ='[2]Масла и технические жидкости'!$B$8 -> Mobilube 1-SHC 75W90 | F44: 2.8 | G44: =G34 -> 648.33 | H44: =F44*G44 -> 1815.324
D45: Масло задн. дифф. | E45: ='[2]Масла и технические жидкости'!$B$8 -> Mobilube 1-SHC 75W90 | F45: 1.6 | G45: =G34 -> 648.33 | H45: =F45*G45 -> 1037.328
H46: =F46*G46 -> 0
H47: =F47*G47 -> 0
H48: =F48*G48 -> 0
D49: Итого | H49: =SUM(H41:H48) -> 8401.806
B50: =B7 -> 3,8 MIVEC | C50: МКПП | H50: =F50*G50 -> 0
H51: =F51*G51 -> 0
H52: =F52*G52 -> 0
H53: =F53*G53 -> 0
H54: =F54*G54 -> 0
H55: =F55*G55 -> 0
H56: =F56*G56 -> 0
H57: =F57*G57 -> 0
H58: =F58*G58 -> 0
D59: Итого | H59: =SUM(H50:H58) -> 0
C60: АКПП | D60: Моторное масло | E60: =ТО15000!E67 -> Mobil-1 0W40 | F60: =ТО15000!F67 -> 4.9 | G60: =ТО15000!G67 -> 711.46 | H60: =F60*G60 -> 3486.154
D61: Масляный фильтр | E61: =ТО15000!E68 -> MD352626 | F61: =ТО15000!F68 -> 1 | G61: =ТО15000!G68 -> 753 | H61: =F61*G61 -> 753
D62: Салонный фильтр | E62: =ТО15000!E69 -> 7803A028 | F62: =ТО15000!F69 -> 1 | G62: =ТО15000!G69 -> 1310 | H62: =F62*G62 -> 1310
D63: Масло РК | E63: =ТО45000!E63 -> Mobilube 1-SHC 75W90 | F63: =ТО45000!F63 -> 2.8 | G63: =ТО45000!G63 -> 648.33 | H63: =F63*G63 -> 1815.324
D64: Масло задн. дифф. | E64: =ТО45000!E64 -> Mobilube 1-SHC 75W90 | F64: =ТО45000!F64 -> 1.6 | G64: =ТО45000!G64 -> 648.33 | H64: =F64*G64 -> 1037.328
H65: =F65*G65 -> 0
H66: =F66*G66 -> 0
H67: =F67*G67 -> 0
D68: Итого | H68: =SUM(H60:H67) -> 8401.806
A69: Стоимость ТО+расходные материалы, руб. | B69: =B12 -> 3,2 DI-D | C69: МКПП | H69: =H21+G3 -> 20229.308
C70: АКПП | H70: =H30+G4 -> 17654.852
B71: 3 | C71: МКПП | H71: =H40+G5 -> 15474.462
C72: АКПП | H72: =H49+G6 -> 13149.906
B73: =B50 -> 3,8 MIVEC | C73: МКПП
C74: АКПП | H74: =H68+G8 -> 13149.906
A75: Стоимость ТО + расходные материалы + рекомендованные работы, руб. | B75: =B69 -> 3,2 DI-D | C75: МКПП | H75: =H69+G9+G10 -> 25477.208
C76: АКПП | H76: =H70+G9+G10 -> 22902.752
B77: 3 | C77: МКПП | H77: =H71+G9+G10 -> 20722.362
C78: АКПП | H78: =H72+G9+G10 -> 18397.806
B79: =B73 -> 3,8 MIVEC | C79: МКПП
C80: АКПП | H80: =H74+G9+G10 -> 18397.806

Sheet ТО150000
A1: =ТО15000!A1 -> Pajero IV (BK) | D1: ТО150000
D2: Норма времени, н/ч | E2: Стоимость нормочаса, руб. | G2: Стоимость работ, руб.
A3: Обязательные работы | B3: =ТО135000!B3 -> 3,2 DI-D | C3: МКПП | D3: 2.8 | E3: =ТО15000!E3 -> 2499 | G3: =D3*E3 -> 6997.2
C4: АКПП | D4: 2.6 | G4: =D4*E3 -> 6497.4
B5: 3 | C5: МКПП | D5: 2.1 | G5: =D5*E3 -> 5247.9
C6: АКПП | D6: 2.1 | G6: =D6*E3 -> 5247.9
B7: =ТО135000!B7 -> 3,8 MIVEC | C7: МКПП
C8: АКПП | D8: 2.1 | G8: =D8*E3 -> 5247.9
A9: Рекомендованные работы
B10: Мотор-тестер | D10: =ТО15000!D10 -> 0.5 | E10: =ТО15000!E10 -> 2499 | G10: =D10*E10 -> 1249.5
D11: Вид | E11: Наименование/кат.номер | F11: Количество, л(шт) | G11: Стоимость единицы наименования | H11: Стоимость запчастей, руб.
A12: Расходные материалы | B12: =B3 -> 3,2 DI-D | C12: МКПП | D12: Моторное масло | E12: Mobil-1 5W50 | F12: 9.3 | G12: ='[2]Масла и технические жидкости'!$C$4 -> 522 | H12: =F12*G12 -> 4854.6
D13: Масляный фильтр | E13: 1230A046 | F13: 1 | G13: =[2]Запчасти!$C$155 -> 858 | H13: =F13*G13 -> 858
D14: Салонный фильтр | E14: 7803A028 | F14: 1 | G14: =[2]Запчасти!$C$149 -> 1310 | H14: =F14*G14 -> 1310
D15: Топливный фильтр | E15: 1770A053 | F15: 1 | G15: =[2]Запчасти!$C$157 -> 1782 | H15: =F15*G15 -> 1782
D16: Жидкость гидропривода тормозов и сцепления | E16: Mobil DOT4 | F16: 1 | G16: ='[2]Масла и технические жидкости'!$C$6 -> 275 | H16: =F16*G16 -> 275
D17: Воздушный фильтр | E17: MR404847 | F17: 1 | G17: =[2]Запчасти!$C$156 -> 1993 | H17: =F17*G17 -> 1993
H18: =F18*G18 -> 0
H19: =F19*G19 -> 0
H20: =F20*G20 -> 0
D21: Итого | H21: =SUM(H12:H20) -> 11072.6
C22: АКПП | D22: Моторное масло | E22: Mobil-1 5W50 | F22: 9.3 | G22: ='[2]Масла и технические жидкости'!$C$4 -> 522 | H22: =F22*G22 -> 4854.6
D23: Масляный фильтр | E23: 1230A046 | F23: 1 | G23: =[2]Запчасти!$C$155 -> 858 | H23: =F23*G23 -> 858
D24: Салонный фильтр | E24: 7803A028 | F24: 1 | G24: =[2]Запчасти!$C$149 -> 1310 | H24: =F24*G24 -> 1310
D25: Топливный фильтр | E25: 1770A053 | F25: 1 | G25: =[2]Запчасти!$C$157 -> 1782 | H25: =F25*G25 -> 1782
D26: Жидкость гидропривода тормозов | E26: Mobil DOT4 | F26: 1 | G26: ='[2]Масла и технические жидкости'!$C$6 -> 275 | H26: =F26*G26 -> 275
D27: Воздушный фильтр | E27: MR404847 | F27: 1 | G27: =[2]Запчасти!$C$156 -> 1993 | H27: =F27*G27 -> 1993
H28: =F28*G28 -> 0
H29: =F29*G29 -> 0
H30: =F30*G30 -> 0
D31: Итого | H31: =SUM(H22:H30) -> 11072.6
B32: 3 | C32: МКПП | D32: Моторное масло | E32: ='[2]Масла и технические жидкости'!$B$5 -> Mobil-1 0W40 | F32: 4.9 | G32: ='[2]Масла и технические жидкости'!$C$5 -> 711.46 | H32: =F32*G32 -> 3486.154
D33: Масляный фильтр | E33: =[2]Запчасти!$B$148 -> MD352626 | F33: 1 | G33: =[2]Запчасти!$C$148 -> 753 | H33: =F33*G33 -> 753
D34: Салонный фильтр | E34: =[2]Запчасти!$B$149 -> 7803A028 | F34: 1 | G34: =[2]Запчасти!$C$149 -> 1310 | H34: =F34*G34 -> 1310
D35: Жидкость гидропривода тормозов и сцепления | E35: ='[2]Масла и технические жидкости'!$B$6 -> Mobil DOT4 | F35: 1 | G35: ='[2]Масла и технические жидкости'!$C$6 -> 275 | H35: =F35*G35 -> 275
D36: Воздушный фильтр | E36: =[2]Запчасти!$B$150 -> MR571476 | F36: 1 | G36: =[2]Запчасти!$C$150 -> 2159 | H36: =F36*G36 -> 2159
H37: =F37*G37 -> 0
H38: =F38*G38 -> 0
H39: =F39*G39 -> 0
H40: =F40*G40 -> 0
D41: Итого | H41: =SUM(H32:H40) -> 7983.154
C42: АКПП | D42: Моторное масло | E42: ='[2]Масла и технические жидкости'!$B$5 -> Mobil-1 0W40 | F42: 4.9 | G42: ='[2]Масла и технические жидкости'!$C$5 -> 711.46 | H42: =F42*G42 -> 3486.154
D43: Масляный фильтр | E43: =[2]Запчасти!$B$148 -> MD352626 | F43: 1 | G43: =[2]Запчасти!$C$148 -> 753 | H43: =F43*G43 -> 753
D44: Салонный фильтр | E44: =[2]Запчасти!$B$149 -> 7803A028 | F44: 1 | G44: =[2]Запчасти!$C$149 -> 1310 | H44: =F44*G44 -> 1310
D45: Жидкость гидропривода тормозов | E45: ='[2]Масла и технические жидкости'!$B$6 -> Mobil DOT4 | F45: 1 | G45: ='[2]Масла и технические жидкости'!$C$6 -> 275 | H45: =F45*G45 -> 275
D46: Воздушный фильтр | E46: =[2]Запчасти!$B$150 -> MR571476 | F46: 1 | G46: =[2]Запчасти!$C$150 -> 2159 | H46: =F46*G46 -> 2159
H47: =F47*G47 -> 0
H48: =F48*G48 -> 0
H49: =F49*G49 -> 0
H50: =F50*G50 -> 0
D51: Итого | H51: =SUM(H42:H50) -> 7983.154
B52: =B7 -> 3,8 MIVEC | C52: МКПП | H52: =F52*G52 -> 0
H53: =F53*G53 -> 0
H54: =F54*G54 -> 0
H55: =F55*G55 -> 0
H56: =F56*G56 -> 0
H57: =F57*G57 -> 0
H58: =F58*G58 -> 0
H59: =F59*G59 -> 0
H60: =F60*G60 -> 0
D61: Итого | H61: =SUM(H52:H60) -> 0
C62: АКПП | D62: Моторное масло | E62: =ТО15000!E67 -> Mobil-1 0W40 | F62: =ТО15000!F67 -> 4.9 | G62: =ТО15000!G67 -> 711.46 | H62: =F62*G62 -> 3486.154
D63: Масляный фильтр | E63: =ТО15000!E68 -> MD352626 | F63: =ТО15000!F68 -> 1 | G63: =ТО15000!G68 -> 753 | H63: =F63*G63 -> 753
D64: Салонный фильтр | E64: =ТО15000!E69 -> 7803A028 | F64: =ТО15000!F69 -> 1 | G64: =ТО15000!G69 -> 1310 | H64: =F64*G64 -> 1310
D65: Жидкость гидропривода тормозов | E65: =ТО30000!E65 -> Mobil DOT4 | F65: =ТО30000!F65 -> 1 | G65: =ТО30000!G65 -> 275 | H65: =F65*G65 -> 275
D66: Воздушный фильтр | E66: =ТО30000!E66 -> MR571476 | F66: =ТО30000!F66 -> 1 | G66: =ТО30000!G66 -> 2159 | H66: =F66*G66 -> 2159
H67: =F67*G67 -> 0
H68: =F68*G68 -> 0
H69: =F69*G69 -> 0
H70: =F70*G70 -> 0
D71: Итого | H71: =SUM(H62:H70) -> 7983.154
A72: Стоимость ТО+расходные материалы, руб. | B72: =B12 -> 3,2 DI-D | C72: МКПП | H72: =H21+G3 -> 18069.8
C73: АКПП | H73: =H31+G4 -> 17570
B74: 3 | C74: МКПП | H74: =H41+G5 -> 13231.054
C75: АКПП | H75: =H51+G6 -> 13231.054
B76: =B52 -> 3,8 MIVEC | C76: МКПП
C77: АКПП | H77: =H71+G8 -> 13231.054
A78: Стоимость ТО + расходные материалы + рекомендованные работы, руб. | B78: =B72 -> 3,2 DI-D | C78: МКПП | H78: =H72+G10 -> 19319.3
C79: АКПП | H79: =H73+G10 -> 18819.5
B80: 3 | C80: МКПП | H80: =H74+G10 -> 14480.554
C81: АКПП | H81: =H75+G10 -> 14480.554
B82: =B76 -> 3,8 MIVEC | C82: МКПП
C83: АКПП | H83: =H77+G10 -> 14480.554

Sheet ТО165000
A1: =ТО15000!A1 -> Pajero IV (BK) | D1: ТО165000
D2: Норма времени, н/ч | E2: Стоимость нормочаса, руб. | G2: Стоимость работ, руб.
A3: Обязательные работы | B3: =ТО150000!B3 -> 3,2 DI-D | C3: МКПП | D3: 1.9 | E3: =[1]Лист1!$B$5 -> 2499 | G3: =D3*E3 -> 4748.1
C4: АКПП | D4: 1.9 | G4: =D4*E3 -> 4748.1
C5: МКПП | D5: 1.6 | G5: =D5*E3 -> 3998.4
C6: АКПП | D6: 1.6 | G6: =D6*E3 -> 3998.4
B7: =ТО150000!B7 -> 3,8 MIVEC | C7: МКПП
C8: АКПП | D8: 1.6 | G8: =D8*E3 -> 3998.4
A9: Рекомендованные работы | B9: Сход-развал | D9: =ТО15000!D9 -> 1.6 | E9: =[1]Лист1!$B$5 -> 2499 | G9: =D9*E9 -> 3998.4
B10: Мотор-тестер | D10: =ТО15000!D10 -> 0.5 | E10: =[1]Лист1!$B$5 -> 2499 | G10: =D10*E10 -> 1249.5
D11: Вид | E11: Наименование/кат.номер | F11: Количество, л(шт) | G11: Стоимость единицы наименования | H11: Стоимость запчастей, руб.
A12: Расходные материалы | B12: =B3 -> 3,2 DI-D | C12: МКПП | D12: Моторное масло | E12: Mobil-1 5W50 | F12: 9.3 | G12: ='[2]Масла и технические жидкости'!$C$4 -> 522 | H12: =F12*G12 -> 4854.6
D13: Масляный фильтр | E13: 1230A046 | F13: 1 | G13: =[2]Запчасти!$C$155 -> 858 | H13: =F13*G13 -> 858
D14: Салонный фильтр | E14: 7803A028 | F14: 1 | G14: =[2]Запчасти!$C$149 -> 1310 | H14: =F14*G14 -> 1310
D15: Топливный фильтр | E15: 1770A053 | F15: 1 | G15: =[2]Запчасти!$C$157 -> 1782 | H15: =F15*G15 -> 1782
H16: =F16*G16 -> 0
H17: =F17*G17 -> 0
H18: =F18*G18 -> 0
H19: =F19*G19 -> 0
H20: =F20*G20 -> 0
H21: =F21*G21 -> 0
D22: Итого | H22: =SUM(H12:H21) -> 8804.6
C23: АКПП | D23: Моторное масло | E23: Mobil-1 5W50 | F23: 9.3 | G23: ='[2]Масла и технические жидкости'!$C$4 -> 522 | H23: =F23*G23 -> 4854.6
D24: Масляный фильтр | E24: 1230A046 | F24: 1 | G24: =[2]Запчасти!$C$155 -> 858 | H24: =F24*G24 -> 858
D25: Салонный фильтр | E25: 7803A028 | F25: 1 | G25: =[2]Запчасти!$C$149 -> 1310 | H25: =F25*G25 -> 1310
D26: Топливный фильтр | E26: 1770A053 | F26: 1 | G26: =[2]Запчасти!$C$157 -> 1782 | H26: =F26*G26 -> 1782
H27: =F27*G27 -> 0
H28: =F28*G28 -> 0
H29: =F29*G29 -> 0
H30: =F30*G30 -> 0
H31: =F31*G31 -> 0
H32: =F32*G32 -> 0
D33: Итого | H33: =SUM(H23:H32) -> 8804.6
B34: 3 | C34: МКПП | D34: Моторное масло | E34: Mobil-1 0W40 | F34: 4.9 | G34: ='[2]Масла и технические жидкости'!$C$5 -> 711.46 | H34: =F34*G34 -> 3486.154
D35: Масляный фильтр | E35: =[2]Запчасти!$B$148 -> MD352626 | F35: 1 | G35: =[2]Запчасти!$C$148 -> 753 | H35: =F35*G35 -> 753
D36: Салонный фильтр | E36: =[2]Запчасти!$B$149 -> 7803A028 | F36: 1 | G36: =[2]Запчасти!$C$149 -> 1310 | H36: =F36*G36 -> 1310
H37: =F37*G37 -> 0
H38: =F38*G38 -> 0
H39: =F39*G39 -> 0
H40: =F40*G40 -> 0
H41: =F41*G41 -> 0
H42: =F42*G42 -> 0
H43: =F43*G43 -> 0
D44: Итого | H44: =SUM(H34:H43) -> 5549.154
C45: АКПП | D45: Моторное масло | E45: Mobil-1 0W40 | F45: 4.9 | G45: ='[2]Масла и технические жидкости'!$C$5 -> 711.46 | H45: =F45*G45 -> 3486.154
D46: Масляный фильтр | E46: =[2]Запчасти!$B$148 -> MD352626 | F46: 1 | G46: =[2]Запчасти!$C$148 -> 753 | H46: =F46*G46 -> 753
D47: Салонный фильтр | E47: =[2]Запчасти!$B$149 -> 7803A028 | F47: 1 | G47: =[2]Запчасти!$C$149 -> 1310 | H47: =F47*G47 -> 1310
H48: =F48*G48 -> 0
H49: =F49*G49 -> 0
H50: =F50*G50 -> 0
H51: =F51*G51 -> 0
H52: =F52*G52 -> 0
H53: =F53*G53 -> 0
H54: =F54*G54 -> 0
D55: Итого | H55: =SUM(H45:H54) -> 5549.154
B56: =B7 -> 3,8 MIVEC | C56: МКПП | H56: =F56*G56 -> 0
H57: =F57*G57 -> 0
H58: =F58*G58 -> 0
H59: =F59*G59 -> 0
H60: =F60*G60 -> 0
H61: =F61*G61 -> 0
H62: =F62*G62 -> 0
H63: =F63*G63 -> 0
H64: =F64*G64 -> 0
H65: =F65*G65 -> 0
D66: Итого | H66: =SUM(H56:H65) -> 0
C67: АКПП | D67: Моторное масло | E67: =ТО15000!E67 -> Mobil-1 0W40 | F67: =ТО15000!F67 -> 4.9 | G67: =ТО15000!G67 -> 711.46 | H67: =F67*G67 -> 3486.154
D68: Масляный фильтр | E68: =ТО15000!E68 -> MD352626 | F68: =ТО15000!F68 -> 1 | G68: =ТО15000!G68 -> 753 | H68: =F68*G68 -> 753
D69: Салонный фильтр | E69: =ТО15000!E69 -> 7803A028 | F69: =ТО15000!F69 -> 1 | G69: =ТО15000!G69 -> 1310 | H69: =F69*G69 -> 1310
H70: =F70*G70 -> 0
H71: =F71*G71 -> 0
H72: =F72*G72 -> 0
H73: =F73*G73 -> 0
H74: =F74*G74 -> 0
H75: =F75*G75 -> 0
H76: =F76*G76 -> 0
D77: Итого | H77: =SUM(H67:H76) -> 5549.154
A78: Стоимость ТО+расходные материалы, руб. | B78: =B12 -> 3,2 DI-D | C78: МКПП | H78: =H22+G3 -> 13552.7
C79: АКПП | H79: =H33+G4 -> 13552.7
B80: 3 | C80: МКПП | H80: =H44+G5 -> 9547.554
C81: АКПП | H81: =H55+G6 -> 9547.554
B82: =B56 -> 3,8 MIVEC | C82: МКПП
C83: АКПП | H83: =H77+G8 -> 9547.554
A84: Стоимость ТО + расходные материалы + рекомендованные работы, руб. | B84: =B78 -> 3,2 DI-D | C84: МКПП | H84: =H78+G9+G10 -> 18800.6
C85: АКПП | H85: =H79+G9+G10 -> 18800.6
B86: 3 | C86: МКПП | H86: =H80+G9+G10 -> 14795.454
C87: АКПП | H87: =H81+G9+G10 -> 14795.454
B88: =B82 -> 3,8 MIVEC | C88: МКПП
C89: АКПП | H89: =H83+G9+G10 -> 14795.454

Sheet ТО180000
A1: =ТО15000!A1 -> Pajero IV (BK) | D1: ТО180000
D2: Норма времени, н/ч | E2: Стоимость нормочаса, руб. | G2: Стоимость работ, руб.
A3: Обязательные работы | B3: =ТО165000!B3 -> 3,2 DI-D | C3: МКПП | D3: 5.1 | E3: =ТО15000!E3 -> 2499 | G3: =D3*E3 -> 12744.9
C4: АКПП | D4: 5.4 | G4: =D4*E3 -> 13494.6
B5: 3 | C5: МКПП | D5: 6.8 | G5: =D5*E3 -> 16993.2
C6: АКПП | D6: 6.8 | G6: =D6*E3 -> 16993.2
B7: =ТО165000!B7 -> 3,8 MIVEC | C7: МКПП
C8: АКПП | D8: 7.3 | G8: =D8*E3 -> 18242.7
A9: Рекомендованные работы | B9: =B7 -> 3,8 MIVEC | C9: =ТО90000!C9 -> Замена реком. з/ч | D9: =ТО90000!D9 -> 1.5 | E9: =E10 -> 2499 | G9: =D9*E9 -> 3748.5
B10: Мотор-тестер | D10: =ТО15000!D10 -> 0.5 | E10: =ТО15000!E10 -> 2499 | G10: =D10*E10 -> 1249.5
D11: Вид | E11: Наименование/кат.номер | F11: Количество, л(шт) | G11: Стоимость единицы наименования | H11: Стоимость запчастей, руб.
A12: Расходные материалы | B12: =B3 -> 3,2 DI-D | C12: МКПП | D12: Моторное масло | E12: Mobil-1 5W50 | F12: 9.3 | G12: ='[2]Масла и технические жидкости'!$C$4 -> 522 | H12: =F12*G12 -> 4854.6
D13: Масляный фильтр | E13: 1230A046 | F13: 1 | G13: =[2]Запчасти!$C$155 -> 858 | H13: =F13*G13 -> 858
D14: Салонный фильтр | E14: 7803A028 | F14: 1 | G14: =[2]Запчасти!$C$149 -> 1310 | H14: =F14*G14 -> 1310
D15: Топливный фильтр | E15: 1770A053 | F15: 1 | G15: =[2]Запчасти!$C$157 -> 1782 | H15: =F15*G15 -> 1782
D16: Жидкость гидропривода тормозов и сцепления | E16: Mobil DOT4 | F16: 1 | G16: ='[2]Масла и технические жидкости'!$C$6 -> 275 | H16: =F16*G16 -> 275
D17: Воздушный фильтр | E17: MR404847 | F17: 1 | G17: =[2]Запчасти!$C$156 -> 1993 | H17: =F17*G17 -> 1993
D18: Масло МКПП | E18: ='[2]Масла и технические жидкости'!$B$8 -> Mobilube 1-SHC 75W90 | F18: 3.2 | G18: ='[2]Масла и технические жидкости'!$C$8 -> 648.33 | H18: =F18*G18 -> 2074.656
D19: Масло РК | E19: ='[2]Масла и технические жидкости'!$B$8 -> Mobilube 1-SHC 75W90 | F19: 2.8 | G19: ='[2]Масла и технические жидкости'!$C$8 -> 648.33 | H19: =F19*G19 -> 1815.324
D20: Масло задн. дифф. | E20: ='[2]Масла и технические жидкости'!$B$8 -> Mobilube 1-SHC 75W90 | F20: 1.6 | G20: ='[2]Масла и технические жидкости'!$C$8 -> 648.33 | H20: =F20*G20 -> 1037.328
D21: Масло пер. дифф. | E21: ='[2]Масла и технические жидкости'!$B$8 -> Mobilube 1-SHC 75W90 | F21: 1.15 | G21: ='[2]Масла и технические жидкости'!$C$8 -> 648.33 | H21: =F21*G21 -> 745.5795
D22: Охлаждающая жидкость | E22: ='[2]Масла и технические жидкости'!$B$14 -> Antifreeze Extra | F22: 11 | G22: ='[2]Масла и технические жидкости'!$C$14 -> 332 | H22: =F22*G22 -> 3652
D23: Итого | H23: =SUM(H12:H22) -> 20397.488
C24: АКПП | D24: Моторное масло | E24: Mobil-1 5W50 | F24: 9.3 | G24: ='[2]Масла и технические жидкости'!$C$4 -> 522 | H24: =F24*G24 -> 4854.6
D25: Масляный фильтр | E25: 1230A046 | F25: 1 | G25: =[2]Запчасти!$C$155 -> 858 | H25: =F25*G25 -> 858
D26: Салонный фильтр | E26: 7803A028 | F26: 1 | G26: =[2]Запчасти!$C$149 -> 1310 | H26: =F26*G26 -> 1310
D27: Топливный фильтр | E27: 1770A053 | F27: 1 | G27: =[2]Запчасти!$C$157 -> 1782 | H27: =F27*G27 -> 1782
D28: Жидкость гидропривода тормозов | E28: Mobil DOT4 | F28: 1 | G28: ='[2]Масла и технические жидкости'!$C$6 -> 275 | H28: =F28*G28 -> 275
D29: Воздушный фильтр | E29: MR404847 | F29: 1 | G29: =[2]Запчасти!$C$156 -> 1993 | H29: =F29*G29 -> 1993
D30: Масло РК | E30: ='[2]Масла и технические жидкости'!$B$8 -> Mobilube 1-SHC 75W90 | F30: 2.8 | G30: ='[2]Масла и технические жидкости'!$C$8 -> 648.33 | H30: =F30*G30 -> 1815.324
D31: Масло задн. дифф. | E31: ='[2]Масла и технические жидкости'!$B$8 -> Mobilube 1-SHC 75W90 | F31: 1.6 | G31: ='[2]Масла и технические жидкости'!$C$8 -> 648.33 | H31: =F31*G31 -> 1037.328
D32: Масло пер. дифф. | E32: ='[2]Масла и технические жидкости'!$B$8 -> Mobilube 1-SHC 75W90 | F32: 1.15 | G32: ='[2]Масла и технические жидкости'!$C$8 -> 648.33 | H32: =F32*G32 -> 745.5795
D33: Масло АКПП | E33: ='[2]Масла и технические жидкости'!$B$11 -> BP ATF SP-III | F33: 9.7 | G33: ='[2]Масла и технические жидкости'!$C$11 -> 419.3 | H33: =F33*G33 -> 4067.21
D34: Охлаждающая жидкость | E34: ='[2]Масла и технические жидкости'!$B$14 -> Antifreeze Extra | F34: 11 | G34: ='[2]Масла и технические жидкости'!$C$14 -> 332 | H34: =F34*G34 -> 3652
D35: Итого | H35: =SUM(H24:H34) -> 22390.041
B36: 3 | C36: МКПП | D36: Моторное масло | E36: Mobil-1 0W40 | F36: 4.9 | G36: ='[2]Масла и технические жидкости'!$C$5 -> 711.46 | H36: =F36*G36 -> 3486.154
D37: Масляный фильтр | E37: =[2]Запчасти!$B$148 -> MD352626 | F37: 1 | G37: =[2]Запчасти!$C$148 -> 753 | H37: =F37*G37 -> 753 | J37: Запчасти, рекомендуемые к замене
D38: Салонный фильтр | E38: =[2]Запчасти!$B$149 -> 7803A028 | F38: 1 | G38: =[2]Запчасти!$C$149 -> 1310 | H38: =F38*G38 -> 1310 | I38: Наименование | J38: Каталожный номер | K38: Стоимость
D39: Ремень ГРМ | E39: =[2]Запчасти!$B$200 -> MD358557 | F39: 1 | G39: =[2]Запчасти!$C$200 -> 10019 | H39: =F39*G39 -> 10019 | I39: Натяжит. ремня ГРМ | J39: =[2]Запчасти!$F$194 -> MD362861 | K39: =[2]Запчасти!$G$194 -> 4259
D40: Свечи зажигания | E40: =[2]Запчасти!$B$198 -> 1822A002 | F40: 6 | G40: =[2]Запчасти!$C$198 -> 1099 | H40: =F40*G40 -> 6594 | I40: Ролик натяжителя | J40: =[2]Запчасти!$F$195 -> MD140071 | K40: =[2]Запчасти!$G$195 -> 2873
D41: Охлаждающая жидкость | E41: ='[2]Масла и технические жидкости'!$B$14 -> Antifreeze Extra | F41: 11 | G41: ='[2]Масла и технические жидкости'!$C$14 -> 332 | H41: =F41*G41 -> 3652 | I41: Ролик обводной | J41: =[2]Запчасти!$F$196 -> MD319022 | K41: =[2]Запчасти!$G$196 -> 2427
D42: Жидкость гидропривода тормозов и сцепления | E42: ='[2]Масла и технические жидкости'!$B$6 -> Mobil DOT4 | F42: 1 | G42: ='[2]Масла и технические жидкости'!$C$6 -> 275 | H42: =F42*G42 -> 275 | I42: Итого | K42: =SUM(K39:K41) -> 9559
D43: Воздушный фильтр | E43: =[2]Запчасти!$B$150 -> MR571476 | F43: 1 | G43: =[2]Запчасти!$C$150 -> 2159 | H43: =F43*G43 -> 2159
D44: Масло МКПП | E44: ='[2]Масла и технические жидкости'!$B$8 -> Mobilube 1-SHC 75W90 | F44: 3.2 | G44: ='[2]Масла и технические жидкости'!$C$8 -> 648.33 | H44: =F44*G44 -> 2074.656
D45: Масло РК | E45: ='[2]Масла и технические жидкости'!$B$8 -> Mobilube 1-SHC 75W90 | F45: 2.8 | G45: =G44 -> 648.33 | H45: =F45*G45 -> 1815.324
D46: Масло пер. дифф. | E46: ='[2]Масла и технические жидкости'!$B$8 -> Mobilube 1-SHC 75W90 | F46: 1.15 | G46: =G44 -> 648.33 | H46: =F46*G46 -> 745.5795
D47: Масло задн. дифф. | E47: ='[2]Масла и технические жидкости'!$B$8 -> Mobilube 1-SHC 75W90 | F47: 1.6 | G47: ='[2]Масла и технические жидкости'!$C$8 -> 648.33 | H47: =F47*G47 -> 1037.328
D48: Прокладка впускного коллектора | E48: =[2]Запчасти!$B$161 -> MD199282 | F48: 1 | G48: =[2]Запчасти!$C$161 -> 557 | H48: =F48*G48 -> 557
H49: =F49*G49 -> 0
D50: Итого | H50: =SUM(H36:H49) -> 34478.042
C51: АКПП | D51: Моторное масло | E51: Mobil-1 0W40 | F51: 4.9 | G51: ='[2]Масла и технические жидкости'!$C$5 -> 711.46 | H51: =F51*G51 -> 3486.154
D52: Масляный фильтр | E52: =[2]Запчасти!$B$148 -> MD352626 | F52: 1 | G52: =[2]Запчасти!$C$148 -> 753 | H52: =F52*G52 -> 753
D53: Салонный фильтр | E53: =[2]Запчасти!$B$149 -> 7803A028 | F53: 1 | G53: =[2]Запчасти!$C$149 -> 1310 | H53: =F53*G53 -> 1310
D54: Ремень ГРМ | E54: =[2]Запчасти!$B$200 -> MD358557 | F54: 1 | G54: =[2]Запчасти!$C$200 -> 10019 | H54: =F54*G54 -> 10019
D55: Свечи зажигания | E55: =[2]Запчасти!$B$198 -> 1822A002 | F55: 6 | G55: =[2]Запчасти!$C$198 -> 1099 | H55: =F55*G55 -> 6594
D56: Охлаждающая жидкость | E56: ='[2]Масла и технические жидкости'!$B$14 -> Antifreeze Extra | F56: 11 | G56: ='[2]Масла и технические жидкости'!$C$14 -> 332 | H56: =F56*G56 -> 3652
D57: Жидкость гидропривода тормозов | E57: ='[2]Масла и технические жидкости'!$B$6 -> Mobil DOT4 | F57: 1 | G57: ='[2]Масла и технические жидкости'!$C$6 -> 275 | H57: =F57*G57 -> 275
D58: Воздушный фильтр | E58: =[2]Запчасти!$B$150 -> MR571476 | F58: 1 | G58: =[2]Запчасти!$C$150 -> 2159 | H58: =F58*G58 -> 2159
D59: Масло АКПП | E59: ='[2]Масла и технические жидкости'!$B$11 -> BP ATF SP-III | F59: 9.7 | G59: ='[2]Масла и технические жидкости'!$C$11 -> 419.3 | H59: =F59*G59 -> 4067.21
D60: Масло РК | E60: ='[2]Масла и технические жидкости'!$B$8 -> Mobilube 1-SHC 75W90 | F60: 2.8 | G60: ='[2]Масла и технические жидкости'!$C$8 -> 648.33 | H60: =F60*G60 -> 1815.324
D61: Масло пер. дифф. | E61: ='[2]Масла и технические жидкости'!$B$8 -> Mobilube 1-SHC 75W90 | F61: 1.15 | G61: ='[2]Масла и технические жидкости'!$C$8 -> 648.33 | H61: =F61*G61 -> 745.5795
D62: Масло задн. дифф. | E62: ='[2]Масла и технические жидкости'!$B$8 -> Mobilube 1-SHC 75W90 | F62: 1.6 | G62: =G60 -> 648.33 | H62: =F62*G62 -> 1037.328
D63: Прокладка впускного коллектора | E63: =E48 -> MD199282 | F63: 1 | G63: =G48 -> 557 | H63: =F63*G63 -> 557
H64: =F64*G64 -> 0
D65: Итого | H65: =SUM(H51:H64) -> 36470.596
B66: =B7 -> 3,8 MIVEC | C66: МКПП | H66: =F66*G66 -> 0
H67: =F67*G67 -> 0 | J67: Запчасти, рекомендуемые к замене
H68: =F68*G68 -> 0 | I68: Наименование | J68: Каталожный номер | K68: Стоимость
H69: =F69*G69 -> 0 | I69: Натяжит. ремня ГРМ | J69: =ТО90000!J59 -> MD362861 | K69: =ТО90000!K59 -> 4259
H70: =F70*G70 -> 0 | I70: Ролик натяжителя | J70: =ТО90000!J60 -> MD140071 | K70: =ТО90000!K60 -> 2873
H71: =F71*G71 -> 0 | I71: Ролик обводной | J71: =ТО90000!J61 -> MD319022 | K71: =ТО90000!K61 -> 2427
H72: =F72*G72 -> 0 | I72: Итого | K72: =K69+K70+K71 -> 9559
H73: =F73*G73 -> 0
H74: =F74*G74 -> 0
H75: =F75*G75 -> 0
H76: =F76*G76 -> 0
H77: =F77*G77 -> 0
H78: =F78*G78 -> 0
H79: =F79*G79 -> 0
D80: Итого | H80: =SUM(H66:H76) -> 0
C81: АКПП | D81: Моторное масло | E81: =ТО15000!E67 -> Mobil-1 0W40 | F81: =ТО15000!F67 -> 4.9 | G81: =ТО15000!G67 -> 711.46 | H81: =F81*G81 -> 3486.154
D82: Масляный фильтр | E82: =ТО15000!E68 -> MD352626 | F82: =ТО15000!F68 -> 1 | G82: =ТО15000!G68 -> 753 | H82: =F82*G82 -> 753
D83: Салонный фильтр | E83: =ТО15000!E69 -> 7803A028 | F83: =ТО15000!F69 -> 1 | G83: =ТО15000!G69 -> 1310 | H83: =F83*G83 -> 1310
D84: Ремень ГРМ | E84: =ТО90000!E70 -> MD358549 | F84: =ТО90000!F70 -> 1 | G84: =ТО90000!G70 -> 6725 | H84: =F84*G84 -> 6725
D85: Свечи зажигания | E85: =ТО60000!E67 -> 1822A002 | F85: =ТО60000!F67 -> 6 | G85: =ТО60000!G67 -> 1099 | H85: =F85*G85 -> 6594
D86: Охлаждающая жидкость | E86: =ТО60000!E68 -> Antifreeze Extra | F86: =ТО60000!F68 -> 11 | G86: =ТО60000!G68 -> 332 | H86: =F86*G86 -> 3652
D87: Жидкость гидропривода тормозов | E87: =ТО30000!E65 -> Mobil DOT4 | F87: =ТО30000!F65 -> 1 | G87: =ТО30000!G65 -> 275 | H87: =F87*G87 -> 275
D88: Воздушный фильтр | E88: =ТО30000!E66 -> MR571476 | F88: =ТО30000!F66 -> 1 | G88: =ТО30000!G66 -> 2159 | H88: =F88*G88 -> 2159
D89: Масло АКПП | E89: =ТО90000!E73 -> BP ATF SP-III | F89: =ТО90000!F73 -> 9.7 | G89: =ТО90000!G73 -> 419.3 | H89: =F89*G89 -> 4067.21
D90: Масло РК | E90: =ТО45000!E63 -> Mobilube 1-SHC 75W90 | F90: =ТО45000!F63 -> 2.8 | G90: =ТО45000!G63 -> 648.33 | H90: =F90*G90 -> 1815.324
D91: Масло пер. дифф. | E91: =ТО90000!E75 -> Mobilube 1-SHC 75W90 | F91: =ТО90000!F75 -> 1.15 | G91: =ТО90000!G75 -> 648.33 | H91: =F91*G91 -> 745.5795
D92: Масло задн. дифф. | E92: =ТО45000!E64 -> Mobilube 1-SHC 75W90 | F92: =ТО45000!F64 -> 1.6 | G92: =ТО45000!G64 -> 648.33 | H92: =F92*G92 -> 1037.328
D93: Прокладка впускного коллектора | E93: =[2]Запчасти!$B$160 -> MR561584 | F93: 1 | G93: =[2]Запчасти!$C$160 -> 523 | H93: =F93*G93 -> 523
H94: =F94*G94 -> 0
D95: Итого | H95: =SUM(H81:H91) -> 31582.268
A96: Стоимость ТО+расходные материалы, руб. | B96: =B12 -> 3,2 DI-D | C96: МКПП | H96: =H23+G3 -> 33142.388
C97: АКПП | H97: =H35+G4 -> 35884.641
B98: 3 | C98: МКПП | H98: =H50+G5 -> 51471.242
C99: АКПП | H99: =H65+G6 -> 53463.796
B100: =B66 -> 3,8 MIVEC | C100: МКПП
...

Sheet ТО195000
A1: =ТО15000!A1 -> Pajero IV (BK) | D1: ТО195000
D2: Норма времени, н/ч | E2: Стоимость нормочаса, руб. | G2: Стоимость работ, руб.
A3: Обязательные работы | B3: =ТО180000!B3 -> 3,2 DI-D | C3: МКПП | D3: 1.9 | E3: =[1]Лист1!$B$5 -> 2499 | G3: =D3*E3 -> 4748.1
C4: АКПП | D4: 1.9 | G4: =D4*E3 -> 4748.1
B5: 3 | C5: МКПП | D5: 1.6 | G5: =D5*E3 -> 3998.4
C6: АКПП | D6: 1.6 | G6: =D6*E3 -> 3998.4
B7: =ТО180000!B7 -> 3,8 MIVEC | C7: МКПП
C8: АКПП | D8: 1.6 | G8: =D8*E3 -> 3998.4
A9: Рекомендованные работы | B9: Сход-развал | D9: =ТО15000!D9 -> 1.6 | E9: =[1]Лист1!$B$5 -> 2499 | G9: =D9*E9 -> 3998.4
B10: Мотор-тестер | D10: =ТО15000!D10 -> 0.5 | E10: =[1]Лист1!$B$5 -> 2499 | G10: =D10*E10 -> 1249.5
D11: Вид | E11: Наименование/кат.номер | F11: Количество, л(шт) | G11: Стоимость единицы наименования | H11: Стоимость запчастей, руб.
A12: Расходные материалы | B12: =B3 -> 3,2 DI-D | C12: МКПП | D12: Моторное масло | E12: Mobil-1 5W50 | F12: 9.3 | G12: ='[2]Масла и технические жидкости'!$C$4 -> 522 | H12: =F12*G12 -> 4854.6
D13: Масляный фильтр | E13: 1230A046 | F13: 1 | G13: =[2]Запчасти!$C$155 -> 858 | H13: =F13*G13 -> 858
D14: Салонный фильтр | E14: 7803A028 | F14: 1 | G14: =[2]Запчасти!$C$149 -> 1310 | H14: =F14*G14 -> 1310
D15: Топливный фильтр | E15: 1770A053 | F15: 1 | G15: =[2]Запчасти!$C$157 -> 1782 | H15: =F15*G15 -> 1782
H16: =F16*G16 -> 0
H17: =F17*G17 -> 0
H18: =F18*G18 -> 0
H19: =F19*G19 -> 0
H20: =F20*G20 -> 0
H21: =F21*G21 -> 0
D22: Итого | H22: =SUM(H12:H21) -> 8804.6
C23: АКПП | D23: Моторное масло | E23: Mobil-1 5W50 | F23: 9.3 | G23: ='[2]Масла и технические жидкости'!$C$4 -> 522 | H23: =F23*G23 -> 4854.6
D24: Масляный фильтр | E24: 1230A046 | F24: 1 | G24: =[2]Запчасти!$C$155 -> 858 | H24: =F24*G24 -> 858
D25: Салонный фильтр | E25: 7803A028 | F25: 1 | G25: =[2]Запчасти!$C$149 -> 1310 | H25: =F25*G25 -> 1310
D26: Топливный фильтр | E26: 1770A053 | F26: 1 | G26: =[2]Запчасти!$C$157 -> 1782 | H26: =F26*G26 -> 1782
H27: =F27*G27 -> 0
H28: =F28*G28 -> 0
H29: =F29*G29 -> 0
H30: =F30*G30 -> 0
H31: =F31*G31 -> 0
H32: =F32*G32 -> 0
D33: Итого | H33: =SUM(H23:H32) -> 8804.6
B34: 3 | C34: МКПП | D34: Моторное масло | E34: ='[2]Масла и технические жидкости'!$B$5 -> Mobil-1 0W40 | F34: 4.9 | G34: ='[2]Масла и технические жидкости'!$C$5 -> 711.46 | H34: =F34*G34 -> 3486.154
D35: Масляный фильтр | E35: =[2]Запчасти!$B$148 -> MD352626 | F35: 1 | G35: =[2]Запчасти!$C$148 -> 753 | H35: =F35*G35 -> 753
D36: Салонный фильтр | E36: =[2]Запчасти!$B$149 -> 7803A028 | F36: 1 | G36: =[2]Запчасти!$C$149 -> 1310 | H36: =F36*G36 -> 1310
H37: =F37*G37 -> 0
H38: =F38*G38 -> 0
H39: =F39*G39 -> 0
H40: =F40*G40 -> 0
H41: =F41*G41 -> 0
H42: =F42*G42 -> 0
H43: =F43*G43 -> 0
D44: Итого | H44: =SUM(H34:H43) -> 5549.154
C45: АКПП | D45: Моторное масло | E45: Mobil-1 0W40 | F45: 4.9 | G45: ='[2]Масла и технические жидкости'!$C$5 -> 711.46 | H45: =F45*G45 -> 3486.154
D46: Масляный фильтр | E46: =E35 -> MD352626 | F46: 1 | G46: =G35 -> 753 | H46: =F46*G46 -> 753
D47: Салонный фильтр | E47: =E36 -> 7803A028 | F47: 1 | G47: =G36 -> 1310 | H47: =F47*G47 -> 1310
H48: =F48*G48 -> 0
H49: =F49*G49 -> 0
H50: =F50*G50 -> 0
H51: =F51*G51 -> 0
H52: =F52*G52 -> 0
H53: =F53*G53 -> 0
H54: =F54*G54 -> 0
D55: Итого | H55: =SUM(H45:H54) -> 5549.154
B56: =B7 -> 3,8 MIVEC | C56: МКПП | H56: =F56*G56 -> 0
H57: =F57*G57 -> 0
H58: =F58*G58 -> 0
H59: =F59*G59 -> 0
H60: =F60*G60 -> 0
H61: =F61*G61 -> 0
H62: =F62*G62 -> 0
H63: =F63*G63 -> 0
H64: =F64*G64 -> 0
H65: =F65*G65 -> 0
D66: Итого | H66: =SUM(H56:H65) -> 0
C67: АКПП | D67: Моторное масло | E67: =ТО15000!E67 -> Mobil-1 0W40 | F67: =ТО15000!F67 -> 4.9 | G67: =ТО15000!G67 -> 711.46 | H67: =F67*G67 -> 3486.154
D68: Масляный фильтр | E68: =ТО15000!E68 -> MD352626 | F68: =ТО15000!F68 -> 1 | G68: =ТО15000!G68 -> 753 | H68: =F68*G68 -> 753
D69: Салонный фильтр | E69: =ТО15000!E69 -> 7803A028 | F69: =ТО15000!F69 -> 1 | G69: =ТО15000!G69 -> 1310 | H69: =F69*G69 -> 1310
H70: =F70*G70 -> 0
H71: =F71*G71 -> 0
H72: =F72*G72 -> 0
H73: =F73*G73 -> 0
H74: =F74*G74 -> 0
H75: =F75*G75 -> 0
H76: =F76*G76 -> 0
D77: Итого | H77: =SUM(H67:H76) -> 5549.154
A78: Стоимость ТО+расходные материалы, руб. | B78: =B12 -> 3,2 DI-D | C78: МКПП | H78: =H22+G3 -> 13552.7
C79: АКПП | H79: =H33+G4 -> 13552.7
B80: 3 | C80: МКПП | H80: =H44+G5 -> 9547.554
C81: АКПП | H81: =H55+G6 -> 9547.554
B82: =B56 -> 3,8 MIVEC | C82: МКПП
C83: АКПП | H83: =H77+G8 -> 9547.554
A84: Стоимость ТО + расходные материалы + рекомендованные работы, руб. | B84: =B78 -> 3,2 DI-D | C84: МКПП | H84: =H78+G9+G10 -> 18800.6
C85: АКПП | H85: =H79+G9+G10 -> 18800.6
B86: 3 | C86: МКПП | H86: =H80+G9+G10 -> 14795.454
C87: АКПП | H87: =H81+G9+G10 -> 14795.454
B88: =B82 -> 3,8 MIVEC | C88: МКПП
C89: АКПП | H89: =H83+G9+G10 -> 14795.454

Sheet ТО210000
A1: =ТО15000!A1 -> Pajero IV (BK) | D1: ТО210000
D2: Норма времени, н/ч | E2: Стоимость нормочаса, руб. | G2: Стоимость работ, руб.
A3: Обязательные работы | B3: =ТО195000!B3 -> 3,2 DI-D | C3: МКПП | D3: 2.9 | E3: =ТО15000!E3 -> 2499 | G3: =D3*E3 -> 7247.1
C4: АКПП | D4: 2.7 | G4: =D4*E3 -> 6747.3
B5: 3 | C5: МКПП | D5: 2.2 | G5: =D5*E3 -> 5497.8
C6: АКПП | D6: 2.2 | G6: =D6*E3 -> 5497.8
B7: =ТО195000!B7 -> 3,8 MIVEC | C7: МКПП
C8: АКПП | D8: 2.2 | G8: =D8*E3 -> 5497.8
A9: Рекомендованные работы
B10: Мотор-тестер | D10: =ТО15000!D10 -> 0.5 | E10: =ТО15000!E10 -> 2499 | G10: =D10*E10 -> 1249.5
D11: Вид | E11: Наименование/кат.номер | F11: Количество, л(шт) | G11: Стоимость единицы наименования | H11: Стоимость запчастей, руб.
A12: Расходные материалы | B12: =B3 -> 3,2 DI-D | C12: МКПП | D12: Моторное масло | E12: Mobil-1 5W50 | F12: 9.3 | G12: ='[2]Масла и технические жидкости'!$C$4 -> 522 | H12: =F12*G12 -> 4854.6
D13: Масляный фильтр | E13: 1230A046 | F13: 1 | G13: =[2]Запчасти!$C$155 -> 858 | H13: =F13*G13 -> 858
D14: Салонный фильтр | E14: 7803A028 | F14: 1 | G14: =[2]Запчасти!$C$149 -> 1310 | H14: =F14*G14 -> 1310
D15: Топливный фильтр | E15: 1770A053 | F15: 1 | G15: =[2]Запчасти!$C$157 -> 1782 | H15: =F15*G15 -> 1782
D16: Жидкость гидропривода тормозов и сцепления | E16: Mobil DOT4 | F16: 1 | G16: ='[2]Масла и технические жидкости'!$C$6 -> 275 | H16: =F16*G16 -> 275
D17: Воздушный фильтр | E17: MR404847 | F17: 1 | G17: =[2]Запчасти!$C$156 -> 1993 | H17: =F17*G17 -> 1993
H18: =F18*G18 -> 0
H19: =F19*G19 -> 0
H20: =F20*G20 -> 0
D21: Итого | H21: =SUM(H12:H20) -> 11072.6
C22: АКПП | D22: Моторное масло | E22: Mobil-1 5W50 | F22: 9.3 | G22: ='[2]Масла и технические жидкости'!$C$4 -> 522 | H22: =F22*G22 -> 4854.6
D23: Масляный фильтр | E23: 1230A046 | F23: 1 | G23: =[2]Запчасти!$C$155 -> 858 | H23: =F23*G23 -> 858
D24: Салонный фильтр | E24: 7803A028 | F24: 1 | G24: =[2]Запчасти!$C$149 -> 1310 | H24: =F24*G24 -> 1310
D25: Топливный фильтр | E25: 1770A053 | F25: 1 | G25: =[2]Запчасти!$C$157 -> 1782 | H25: =F25*G25 -> 1782
D26: Жидкость гидропривода тормозов | E26: Mobil DOT4 | F26: 1 | G26: ='[2]Масла и технические жидкости'!$C$6 -> 275 | H26: =F26*G26 -> 275
D27: Воздушный фильтр | E27: MR404847 | F27: 1 | G27: =[2]Запчасти!$C$156 -> 1993 | H27: =F27*G27 -> 1993
H28: =F28*G28 -> 0
H29: =F29*G29 -> 0
H30: =F30*G30 -> 0
D31: Итого | H31: =SUM(H22:H30) -> 11072.6
B32: 3 | C32: МКПП | D32: Моторное масло | E32: ='[2]Масла и технические жидкости'!$B$5 -> Mobil-1 0W40 | F32: 4.9 | G32: ='[2]Масла и технические жидкости'!$C$5 -> 711.46 | H32: =F32*G32 -> 3486.154
D33: Масляный фильтр | E33: =[2]Запчасти!$B$148 -> MD352626 | F33: 1 | G33: =[2]Запчасти!$C$148 -> 753 | H33: =F33*G33 -> 753
D34: Салонный фильтр | E34: =[2]Запчасти!$B$149 -> 7803A028 | F34: 1 | G34: =[2]Запчасти!$C$149 -> 1310 | H34: =F34*G34 -> 1310
D35: Жидкость гидропривода тормозов и сцепления | E35: ='[2]Масла и технические жидкости'!$B$6 -> Mobil DOT4 | F35: 1 | G35: ='[2]Масла и технические жидкости'!$C$6 -> 275 | H35: =F35*G35 -> 275
D36: Воздушный фильтр | E36: =[2]Запчасти!$B$150 -> MR571476 | F36: 1 | G36: =[2]Запчасти!$C$150 -> 2159 | H36: =F36*G36 -> 2159
H37: =F37*G37 -> 0
H38: =F38*G38 -> 0
H39: =F39*G39 -> 0
H40: =F40*G40 -> 0
D41: Итого | H41: =SUM(H32:H40) -> 7983.154
C42: АКПП | D42: Моторное масло | E42: ='[2]Масла и технические жидкости'!$B$5 -> Mobil-1 0W40 | F42: 4.9 | G42: ='[2]Масла и технические жидкости'!$C$5 -> 711.46 | H42: =F42*G42 -> 3486.154
D43: Масляный фильтр | E43: =[2]Запчасти!$B$148 -> MD352626 | F43: 1 | G43: =[2]Запчасти!$C$148 -> 753 | H43: =F43*G43 -> 753
D44: Салонный фильтр | E44: =[2]Запчасти!$B$149 -> 7803A028 | F44: 1 | G44: =[2]Запчасти!$C$149 -> 1310 | H44: =F44*G44 -> 1310
D45: Жидкость гидропривода тормозов | E45: ='[2]Масла и технические жидкости'!$B$6 -> Mobil DOT4 | F45: 1 | G45: ='[2]Масла и технические жидкости'!$C$6 -> 275 | H45: =F45*G45 -> 275
D46: Воздушный фильтр | E46: =[2]Запчасти!$B$150 -> MR571476 | F46: 1 | G46: =[2]Запчасти!$C$150 -> 2159 | H46: =F46*G46 -> 2159
H47: =F47*G47 -> 0
H48: =F48*G48 -> 0
H49: =F49*G49 -> 0
H50: =F50*G50 -> 0
D51: Итого | H51: =SUM(H42:H50) -> 7983.154
B52: =B7 -> 3,8 MIVEC | C52: МКПП | H52: =F52*G52 -> 0
H53: =F53*G53 -> 0
H54: =F54*G54 -> 0
H55: =F55*G55 -> 0
H56: =F56*G56 -> 0
H57: =F57*G57 -> 0
H58: =F58*G58 -> 0
H59: =F59*G59 -> 0
H60: =F60*G60 -> 0
D61: Итого | H61: =SUM(H52:H60) -> 0
C62: АКПП | D62: Моторное масло | E62: =ТО15000!E67 -> Mobil-1 0W40 | F62: =ТО15000!F67 -> 4.9 | G62: =ТО15000!G67 -> 711.46 | H62: =F62*G62 -> 3486.154
D63: Масляный фильтр | E63: =ТО15000!E68 -> MD352626 | F63: =ТО15000!F68 -> 1 | G63: =ТО15000!G68 -> 753 | H63: =F63*G63 -> 753
D64: Салонный фильтр | E64: =ТО15000!E69 -> 7803A028 | F64: =ТО15000!F69 -> 1 | G64: =ТО15000!G69 -> 1310 | H64: =F64*G64 -> 1310
D65: Жидкость гидропривода тормозов | E65: =ТО30000!E65 -> Mobil DOT4 | F65: =ТО30000!F65 -> 1 | G65: =ТО30000!G65 -> 275 | H65: =F65*G65 -> 275
D66: Воздушный фильтр | E66: =ТО30000!E66 -> MR571476 | F66: =ТО30000!F66 -> 1 | G66: =ТО30000!G66 -> 2159 | H66: =F66*G66 -> 2159
H67: =F67*G67 -> 0
H68: =F68*G68 -> 0
H69: =F69*G69 -> 0
H70: =F70*G70 -> 0
D71: Итого | H71: =SUM(H62:H70) -> 7983.154
A72: Стоимость ТО+расходные материалы, руб. | B72: =B12 -> 3,2 DI-D | C72: МКПП | H72: =H21+G3 -> 18319.7
C73: АКПП | H73: =H31+G4 -> 17819.9
B74: 3 | C74: МКПП | H74: =H41+G5 -> 13480.954
C75: АКПП | H75: =H51+G6 -> 13480.954
B76: =B52 -> 3,8 MIVEC | C76: МКПП
C77: АКПП | H77: =H71+G8 -> 13480.954
A78: Стоимость ТО + расходные материалы + рекомендованные работы, руб. | B78: =B72 -> 3,2 DI-D | C78: МКПП | H78: =H72+G10 -> 19569.2
C79: АКПП | H79: =H73+G10 -> 19069.4
B80: 3 | C80: МКПП | H80: =H74+G10 -> 14730.454
C81: АКПП | H81: =H75+G10 -> 14730.454
B82: =B76 -> 3,8 MIVEC | C82: МКПП
C83: АКПП | H83: =H77+G10 -> 14730.454

Sheet ТО225000
A1: =ТО15000!A1 -> Pajero IV (BK) | D1: ТО225000
D2: Норма времени, н/ч | E2: Стоимость нормочаса, руб. | G2: Стоимость работ, руб.
A3: Обязательные работы | B3: =ТО210000!B3 -> 3,2 DI-D | C3: МКПП | D3: 2.6 | E3: =[1]Лист1!$B$5 -> 2499 | G3: =D3*E3 -> 6497.4
C4: АКПП | D4: 2.4 | G4: =D4*E3 -> 5997.6
B5: 3 | C5: МКПП | D5: 2 | G5: =D5*E3 -> 4998
C6: АКПП | D6: 1.9 | G6: =D6*E3 -> 4748.1
B7: =ТО210000!B7 -> 3,8 MIVEC | C7: МКПП
C8: АКПП | D8: 1.9 | G8: =D8*E3 -> 4748.1
A9: Рекомендованные работы | B9: Сход-развал | D9: =ТО15000!D9 -> 1.6 | E9: =[1]Лист1!$B$5 -> 2499 | G9: =D9*E9 -> 3998.4
B10: Мотор-тестер | D10: =ТО15000!D10 -> 0.5 | E10: =[1]Лист1!$B$5 -> 2499 | G10: =D10*E10 -> 1249.5
D11: Вид | E11: Наименование/кат.номер | F11: Количество, л(шт) | G11: Стоимость единицы наименования | H11: Стоимость запчастей, руб.
A12: Расходные материалы | B12: =B3 -> 3,2 DI-D | C12: МКПП | D12: Моторное масло | E12: Mobil-1 5W50 | F12: 9.3 | G12: ='[2]Масла и технические жидкости'!$C$4 -> 522 | H12: =F12*G12 -> 4854.6
D13: Масляный фильтр | E13: 1230A046 | F13: 1 | G13: =[2]Запчасти!$C$155 -> 858 | H13: =F13*G13 -> 858
D14: Салонный фильтр | E14: 7803A028 | F14: 1 | G14: =[2]Запчасти!$C$149 -> 1310 | H14: =F14*G14 -> 1310
D15: Топливный фильтр | E15: 1770A053 | F15: 1 | G15: =[2]Запчасти!$C$157 -> 1782 | H15: =F15*G15 -> 1782
D16: Масло МКПП | E16: ='[2]Масла и технические жидкости'!$B$8 -> Mobilube 1-SHC 75W90 | F16: 3.2 | G16: ='[2]Масла и технические жидкости'!$C$8 -> 648.33 | H16: =F16*G16 -> 2074.656
D17: Масло РК | E17: ='[2]Масла и технические жидкости'!$B$8 -> Mobilube 1-SHC 75W90 | F17: 2.8 | G17: ='[2]Масла и технические жидкости'!$C$8 -> 648.33 | H17: =F17*G17 -> 1815.324
D18: Масло задн. дифф. | E18: ='[2]Масла и технические жидкости'!$B$8 -> Mobilube 1-SHC 75W90 | F18: 1.6 | G18: ='[2]Масла и технические жидкости'!$C$8 -> 648.33 | H18: =F18*G18 -> 1037.328
H19: =F19*G19 -> 0
H20: =F20*G20 -> 0
D21: Итого | H21: =SUM(H12:H20) -> 13731.908
C22: АКПП | D22: Моторное масло | E22: Mobil-1 5W50 | F22: 9.3 | G22: ='[2]Масла и технические жидкости'!$C$4 -> 522 | H22: =F22*G22 -> 4854.6
D23: Масляный фильтр | E23: 1230A046 | F23: 1 | G23: =[2]Запчасти!$C$155 -> 858 | H23: =F23*G23 -> 858
D24: Салонный фильтр | E24: 7803A028 | F24: 1 | G24: =[2]Запчасти!$C$149 -> 1310 | H24: =F24*G24 -> 1310
D25: Топливный фильтр | E25: 1770A053 | F25: 1 | G25: =[2]Запчасти!$C$157 -> 1782 | H25: =F25*G25 -> 1782
D26: Масло РК | E26: ='[2]Масла и технические жидкости'!$B$8 -> Mobilube 1-SHC 75W90 | F26: 2.8 | G26: ='[2]Масла и технические жидкости'!$C$8 -> 648.33 | H26: =F26*G26 -> 1815.324
D27: Масло задн. дифф. | E27: ='[2]Масла и технические жидкости'!$B$8 -> Mobilube 1-SHC 75W90 | F27: 1.6 | G27: ='[2]Масла и технические жидкости'!$C$8 -> 648.33 | H27: =F27*G27 -> 1037.328
H28: =F28*G28 -> 0
H29: =F29*G29 -> 0
D30: Итого | H30: =SUM(H22:H29) -> 11657.252
B31: 3 | C31: МКПП | D31: Моторное масло | E31: Mobil-1 0W40 | F31: 4.9 | G31: ='[2]Масла и технические жидкости'!$C$5 -> 711.46 | H31: =F31*G31 -> 3486.154
D32: Масляный фильтр | E32: =[2]Запчасти!$B$148 -> MD352626 | F32: 1 | G32: =[2]Запчасти!$C$148 -> 753 | H32: =F32*G32 -> 753
D33: Салонный фильтр | E33: =[2]Запчасти!$B$149 -> 7803A028 | F33: 1 | G33: =[2]Запчасти!$C$149 -> 1310 | H33: =F33*G33 -> 1310
D34: Масло МКПП | E34: ='[2]Масла и технические жидкости'!$B$8 -> Mobilube 1-SHC 75W90 | F34: 3.2 | G34: ='[2]Масла и технические жидкости'!$C$8 -> 648.33 | H34: =F34*G34 -> 2074.656
D35: Масло РК | E35: ='[2]Масла и технические жидкости'!$B$8 -> Mobilube 1-SHC 75W90 | F35: 2.8 | G35: =G34 -> 648.33 | H35: =F35*G35 -> 1815.324
D36: Масло задн. дифф. | E36: ='[2]Масла и технические жидкости'!$B$8 -> Mobilube 1-SHC 75W90 | F36: 1.6 | G36: =G34 -> 648.33 | H36: =F36*G36 -> 1037.328
H37: =F37*G37 -> 0
H38: =F38*G38 -> 0
H39: =F39*G39 -> 0
D40: Итого | H40: =SUM(H31:H39) -> 10476.462
C41: АКПП | D41: Моторное масло | E41: Mobil-1 0W40 | F41: 4.9 | G41: ='[2]Масла и технические жидкости'!$C$5 -> 711.46 | H41: =F41*G41 -> 3486.154
D42: Масляный фильтр | E42: =[2]Запчасти!$B$148 -> MD352626 | F42: 1 | G42: =[2]Запчасти!$C$148 -> 753 | H42: =F42*G42 -> 753
D43: Салонный фильтр | E43: =[2]Запчасти!$B$149 -> 7803A028 | F43: 1 | G43: =[2]Запчасти!$C$149 -> 1310 | H43: =F43*G43 -> 1310
D44: Масло РК | E44: ='[2]Масла и технические жидкости'!$B$8 -> Mobilube 1-SHC 75W90 | F44: 2.8 | G44: =G34 -> 648.33 | H44: =F44*G44 -> 1815.324
D45: Масло задн. дифф. | E45: ='[2]Масла и технические жидкости'!$B$8 -> Mobilube 1-SHC 75W90 | F45: 1.6 | G45: =G34 -> 648.33 | H45: =F45*G45 -> 1037.328
H46: =F46*G46 -> 0
H47: =F47*G47 -> 0
H48: =F48*G48 -> 0
D49: Итого | H49: =SUM(H41:H48) -> 8401.806
B50: =B7 -> 3,8 MIVEC | C50: МКПП | H50: =F50*G50 -> 0
H51: =F51*G51 -> 0
H52: =F52*G52 -> 0
H53: =F53*G53 -> 0
H54: =F54*G54 -> 0
H55: =F55*G55 -> 0
H56: =F56*G56 -> 0
H57: =F57*G57 -> 0
H58: =F58*G58 -> 0
D59: Итого | H59: =SUM(H50:H58) -> 0
C60: АКПП | D60: Моторное масло | E60: =ТО15000!E67 -> Mobil-1 0W40 | F60: =ТО15000!F67 -> 4.9 | G60: =ТО15000!G67 -> 711.46 | H60: =F60*G60 -> 3486.154
D61: Масляный фильтр | E61: =ТО15000!E68 -> MD352626 | F61: =ТО15000!F68 -> 1 | G61: =ТО15000!G68 -> 753 | H61: =F61*G61 -> 753
D62: Салонный фильтр | E62: =ТО15000!E69 -> 7803A028 | F62: =ТО15000!F69 -> 1 | G62: =ТО15000!G69 -> 1310 | H62: =F62*G62 -> 1310
D63: Масло РК | E63: =ТО45000!E63 -> Mobilube 1-SHC 75W90 | F63: =ТО45000!F63 -> 2.8 | G63: =ТО45000!G63 -> 648.33 | H63: =F63*G63 -> 1815.324
D64: Масло задн. дифф. | E64: =ТО45000!E64 -> Mobilube 1-SHC 75W90 | F64: =ТО45000!F64 -> 1.6 | G64: =ТО45000!G64 -> 648.33 | H64: =F64*G64 -> 1037.328
H65: =F65*G65 -> 0
H66: =F66*G66 -> 0
H67: =F67*G67 -> 0
D68: Итого | H68: =SUM(H60:H67) -> 8401.806
A69: Стоимость ТО+расходные материалы, руб. | B69: =B12 -> 3,2 DI-D | C69: МКПП | H69: =H21+G3 -> 20229.308
C70: АКПП | H70: =H30+G4 -> 17654.852
B71: 3 | C71: МКПП | H71: =H40+G5 -> 15474.462
C72: АКПП | H72: =H49+G6 -> 13149.906
B73: =B50 -> 3,8 MIVEC | C73: МКПП
C74: АКПП | H74: =H68+G8 -> 13149.906
A75: Стоимость ТО + расходные материалы + рекомендованные работы, руб. | B75: =B69 -> 3,2 DI-D | C75: МКПП | H75: =H69+G9+G10 -> 25477.208
C76: АКПП | H76: =H70+G9+G10 -> 22902.752
B77: 3 | C77: МКПП | H77: =H71+G9+G10 -> 20722.362
C78: АКПП | H78: =H72+G9+G10 -> 18397.806
B79: =B73 -> 3,8 MIVEC | C79: МКПП
C80: АКПП | H80: =H74+G9+G10 -> 18397.806

Sheet ТО240000
A1: =ТО15000!A1 -> Pajero IV (BK) | D1: ТО240000
D2: Норма времени, н/ч | E2: Стоимость нормочаса, руб. | G2: Стоимость работ, руб.
A3: Обязательные работы | B3: =ТО225000!B3 -> 3,2 DI-D | C3: МКПП | D3: 5 | E3: =ТО15000!E3 -> 2499 | G3: =D3*E3 -> 12495
C4: АКПП | D4: 4.8 | G4: =D4*E3 -> 11995.2
B5: 3 | C5: МКПП | D5: 4.4 | G5: =D5*E3 -> 10995.6
C6: АКПП | D6: 4.4 | G6: =D6*E3 -> 10995.6
B7: =ТО225000!B7 -> 3,8 MIVEC | C7: МКПП
C8: АКПП | D8: 5.1 | G8: =D8*E3 -> 12744.9
A9: Рекомендованные работы
B10: Мотор-тестер | D10: =ТО15000!D10 -> 0.5 | E10: =ТО15000!E10 -> 2499 | G10: =D10*E10 -> 1249.5
D11: Вид | E11: Наименование/кат.номер | F11: Количество, л(шт) | G11: Стоимость единицы наименования | H11: Стоимость запчастей, руб.
A12: Расходные материалы | B12: =ТО210000!B12 -> 3,2 DI-D | C12: МКПП | D12: Моторное масло | E12: Mobil-1 5W50 | F12: 9.3 | G12: ='[2]Масла и технические жидкости'!$C$4 -> 522 | H12: =F12*G12 -> 4854.6
D13: Масляный фильтр | E13: 1230A046 | F13: 1 | G13: =[2]Запчасти!$C$155 -> 858 | H13: =F13*G13 -> 858
D14: Салонный фильтр | E14: 7803A028 | F14: 1 | G14: =[2]Запчасти!$C$149 -> 1310 | H14: =F14*G14 -> 1310
D15: Топливный фильтр | E15: 1770A053 | F15: 1 | G15: =[2]Запчасти!$C$157 -> 1782 | H15: =F15*G15 -> 1782
D16: Жидкость гидропривода тормозов и сцепления | E16: Mobil DOT4 | F16: 1 | G16: ='[2]Масла и технические жидкости'!$C$6 -> 275 | H16: =F16*G16 -> 275
D17: Воздушный фильтр | E17: MR404847 | F17: 1 | G17: =[2]Запчасти!$C$156 -> 1993 | H17: =F17*G17 -> 1993
D18: Охлаждающая жидкость | E18: ='[2]Масла и технические жидкости'!$B$14 -> Antifreeze Extra | F18: 11 | G18: ='[2]Масла и технические жидкости'!$C$14 -> 332 | H18: =F18*G18 -> 3652
D19: Топливный фильтр в баке | E19: =[2]Запчасти!$B$158 -> MR556587 | F19: 1 | G19: 0 | H19: =F19*G19 -> 0
D20: Прокладка топливного фильтра | E20: =[2]Запчасти!$B$159 -> MN106046 | F20: 1 | G20: =[2]Запчасти!$C$159 -> 320 | H20: =F20*G20 -> 320
H21: =F21*G21 -> 0
D22: Итого | H22: =SUM(H12:H21) -> 15044.6
C23: АКПП | D23: Моторное масло | E23: Mobil-1 5W50 | F23: 9.3 | G23: ='[2]Масла и технические жидкости'!$C$4 -> 522 | H23: =F23*G23 -> 4854.6
D24: Масляный фильтр | E24: 1230A046 | F24: 1 | G24: =[2]Запчасти!$C$155 -> 858 | H24: =F24*G24 -> 858
D25: Салонный фильтр | E25: 7803A028 | F25: 1 | G25: =[2]Запчасти!$C$149 -> 1310 | H25: =F25*G25 -> 1310
D26: Топливный фильтр | E26: 1770A053 | F26: 1 | G26: =[2]Запчасти!$C$157 -> 1782 | H26: =F26*G26 -> 1782
D27: Жидкость гидропривода тормозов | E27: Mobil DOT4 | F27: 1 | G27: ='[2]Масла и технические жидкости'!$C$6 -> 275 | H27: =F27*G27 -> 275
D28: Воздушный фильтр | E28: MR404847 | F28: 1 | G28: =[2]Запчасти!$C$156 -> 1993 | H28: =F28*G28 -> 1993
D29: Охлаждающая жидкость | E29: ='[2]Масла и технические жидкости'!$B$14 -> Antifreeze Extra | F29: 11 | G29: ='[2]Масла и технические жидкости'!$C$14 -> 332 | H29: =F29*G29 -> 3652
D30: Топливный фильтр в баке | E30: =[2]Запчасти!$B$158 -> MR556587 | F30: 1 | G30: 0 | H30: =F30*G30 -> 0
D31: Прокладка топливного фильтра | E31: =[2]Запчасти!$B$159 -> MN106046 | F31: 1 | G31: =[2]Запчасти!$C$159 -> 320 | H31: =F31*G31 -> 320
H32: =F32*G32 -> 0
D33: Итого | H33: =SUM(H23:H32) -> 15044.6
B34: 3 | C34: МКПП | D34: Моторное масло | E34: ='[2]Масла и технические жидкости'!$B$5 -> Mobil-1 0W40 | F34: 4.9 | G34: ='[2]Масла и технические жидкости'!$C$5 -> 711.46 | H34: =F34*G34 -> 3486.154
D35: Масляный фильтр | E35: =[2]Запчасти!$B$194 -> MD352626 | F35: 1 | G35: =[2]Запчасти!$C$194 -> 753 | H35: =F35*G35 -> 753
D36: Салонный фильтр | E36: =[2]Запчасти!$B$195 -> 7803A028 | F36: 1 | G36: =[2]Запчасти!$C$195 -> 1310 | H36: =F36*G36 -> 1310
D37: Свечи зажигания | E37: =[2]Запчасти!$B$198 -> 1822A002 | F37: 6 | G37: =[2]Запчасти!$C$198 -> 1099 | H37: =F37*G37 -> 6594
D38: Жидкость гидропривода тормозов и сцепления | E38: Mobil DOT4 | F38: 1 | G38: ='[2]Масла и технические жидкости'!$C$6 -> 275 | H38: =F38*G38 -> 275
D39: Воздушный фильтр | E39: =[2]Запчасти!$B$196 -> MR571476 | F39: 1 | G39: =[2]Запчасти!$C$196 -> 2159 | H39: =F39*G39 -> 2159
D40: Охлаждающая жидкость | E40: ='[2]Масла и технические жидкости'!$B$14 -> Antifreeze Extra | F40: 11 | G40: ='[2]Масла и технические жидкости'!$C$14 -> 332 | H40: =F40*G40 -> 3652
D41: Топливный фильтр в баке | E41: =[2]Запчасти!$B$197 -> MR529135 | F41: 1 | G41: =[2]Запчасти!$C$197 -> 4851 | H41: =F41*G41 -> 4851
D42: Прокладка топливного фильтра | E42: =[2]Запчасти!$B$199 -> MN106046 | F42: 1 | G42: =[2]Запчасти!$C$199 -> 320 | H42: =F42*G42 -> 320
D43: Прокладка впускного коллектора | E43: =[2]Запчасти!$B$161 -> MD199282 | F43: 1 | G43: =[2]Запчасти!$C$161 -> 557 | H43: =F43*G43 -> 557
H44: =F44*G44 -> 0
D45: Итого | H45: =SUM(H34:H44) -> 23957.154
C46: АКПП | D46: Моторное масло | E46: ='[2]Масла и технические жидкости'!$B$5 -> Mobil-1 0W40 | F46: 4.9 | G46: ='[2]Масла и технические жидкости'!$C$5 -> 711.46 | H46: =F46*G46 -> 3486.154
D47: Масляный фильтр | E47: =[2]Запчасти!$B$194 -> MD352626 | F47: 1 | G47: =[2]Запчасти!$C$194 -> 753 | H47: =F47*G47 -> 753
D48: Салонный фильтр | E48: =[2]Запчасти!$B$195 -> 7803A028 | F48: 1 | G48: =[2]Запчасти!$C$195 -> 1310 | H48: =F48*G48 -> 1310
D49: Свечи зажигания | E49: =[2]Запчасти!$B$198 -> 1822A002 | F49: 6 | G49: =[2]Запчасти!$C$198 -> 1099 | H49: =F49*G49 -> 6594
D50: Жидкость гидропривода тормозов | E50: ='[2]Масла и технические жидкости'!$B$6 -> Mobil DOT4 | F50: 1 | G50: ='[2]Масла и технические жидкости'!$C$6 -> 275 | H50: =F50*G50 -> 275
D51: Воздушный фильтр | E51: =[2]Запчасти!$B$196 -> MR571476 | F51: 1 | G51: =[2]Запчасти!$C$196 -> 2159 | H51: =F51*G51 -> 2159
D52: Топливный фильтр в баке | E52: =[2]Запчасти!$B$197 -> MR529135 | F52: 1 | G52: =[2]Запчасти!$C$197 -> 4851 | H52: =F52*G52 -> 4851
D53: Прокладка топливного фильтра | E53: =[2]Запчасти!$B$199 -> MN106046 | F53: 1 | G53: =[2]Запчасти!$C$199 -> 320 | H53: =F53*G53 -> 320
D54: Охлаждающая жидкость | E54: ='[2]Масла и технические жидкости'!$B$14 -> Antifreeze Extra | F54: 11 | G54: ='[2]Масла и технические жидкости'!$C$14 -> 332 | H54: =F54*G54 -> 3652
D55: Прокладка впускного коллектора | E55: =E43 -> MD199282 | F55: 1 | G55: =G43 -> 557 | H55: =F55*G55 -> 557
H56: =F56*G56 -> 0
D57: Итого | H57: =SUM(H46:H56) -> 23957.154
B58: =ТО210000!B52 -> 3,8 MIVEC | C58: МКПП | H58: =F58*G58 -> 0
H59: =F59*G59 -> 0
H60: =F60*G60 -> 0
H61: =F61*G61 -> 0
H62: =F62*G62 -> 0
H63: =F63*G63 -> 0
H64: =F64*G64 -> 0
H65: =F65*G65 -> 0
H66: =F66*G66 -> 0
H67: =F67*G67 -> 0
D68: Итого | H68: =SUM(H58:H67) -> 0
C69: АКПП | D69: Моторное масло | E69: =ТО15000!E67 -> Mobil-1 0W40 | F69: =ТО15000!F67 -> 4.9 | G69: =ТО15000!G67 -> 711.46 | H69: =F69*G69 -> 3486.154
D70: Масляный фильтр | E70: =ТО15000!E68 -> MD352626 | F70: =ТО15000!F68 -> 1 | G70: =ТО15000!G68 -> 753 | H70: =F70*G70 -> 753
D71: Салонный фильтр | E71: =ТО15000!E69 -> 7803A028 | F71: =ТО15000!F69 -> 1 | G71: =ТО15000!G69 -> 1310 | H71: =F71*G71 -> 1310
D72: Свечи зажигания | E72: =ТО60000!E67 -> 1822A002 | F72: =ТО60000!F67 -> 6 | G72: =ТО60000!G67 -> 1099 | H72: =F72*G72 -> 6594
D73: Жидкость гидропривода тормозов и сцепления | E73: =ТО30000!E65 -> Mobil DOT4 | F73: =ТО30000!F65 -> 1 | G73: =ТО30000!G65 -> 275 | H73: =F73*G73 -> 275
D74: Воздушный фильтр | E74: =ТО30000!E66 -> MR571476 | F74: =ТО30000!F66 -> 1 | G74: =ТО30000!G66 -> 2159 | H74: =F74*G74 -> 2159
D75: Топливный фильтр (бак) | E75: =ТО120000!E75 -> MR529135 | F75: =ТО120000!F75 -> 1 | G75: =ТО120000!G75 -> 4851 | H75: =F75*G75 -> 4851
D76: Прокладка топливного фильтра | E76: =ТО120000!E76 -> MR529146 | F76: =ТО120000!F76 -> 1 | G76: =ТО120000!G76 -> 146 | H76: =F76*G76 -> 146
D77: Охлаждающая жидкость | E77: =ТО60000!E68 -> Antifreeze Extra | F77: =ТО60000!F68 -> 11 | G77: =ТО60000!G68 -> 332 | H77: =F77*G77 -> 3652
D78: Прокладка впускного коллектора | E78: =[2]Запчасти!$B$160 -> MR561584 | F78: 1 | G78: =[2]Запчасти!$C$160 -> 523 | H78: =F78*G78 -> 523
H79: =F79*G79 -> 0
D80: Итого | H80: =SUM(H69:H79) -> 23749.154
A81: Стоимость ТО+расходные материалы, руб. | B81: =B12 -> 3,2 DI-D | C81: МКПП | H81: =H22+G3 -> 27539.6
C82: АКПП | H82: =H33+G4 -> 27039.8
B83: 3 | C83: МКПП | H83: =H45+G5 -> 34952.754
C84: АКПП | H84: =H57+G6 -> 34952.754
B85: =B58 -> 3,8 MIVEC | C85: МКПП
C86: АКПП | H86: =H80+G8 -> 36494.054
A87: Стоимость ТО + расходные материалы + рекомендованные работы, руб. | B87: =B81 -> 3,2 DI-D | C87: МКПП | H87: =H81+G10 -> 28789.1
C88: АКПП | H88: =H82+G10 -> 28289.3
B89: 3 | C89: МКПП | H89: =H83+G10 -> 36202.254
C90: АКПП | H90: =H84+G10 -> 36202.254
B91: =B85 -> 3,8 MIVEC | C91: МКПП
C92: АКПП | H92: =H86+G10 -> 37743.554

Sheet ТО255000
A1: =ТО15000!A1 -> Pajero IV (BK) | D1: ТО255000
D2: Норма времени, н/ч | E2: Стоимость нормочаса, руб. | G2: Стоимость работ, руб.
A3: Обязательные работы | B3: =ТО240000!B3 -> 3,2 DI-D | C3: МКПП | D3: 1.9 | E3: =[1]Лист1!$B$5 -> 2499 | G3: =D3*E3 -> 4748.1
C4: АКПП | D4: 1.9 | G4: =D4*E3 -> 4748.1
B5: 3 | C5: МКПП | D5: 1.6 | G5: =D5*E3 -> 3998.4
C6: АКПП | D6: 1.6 | G6: =D6*E3 -> 3998.4
B7: =ТО240000!B7 -> 3,8 MIVEC | C7: МКПП
C8: АКПП | D8: 1.6 | G8: =D8*E3 -> 3998.4
A9: Рекомендованные работы | B9: Сход-развал | D9: =ТО15000!D9 -> 1.6 | E9: =[1]Лист1!$B$5 -> 2499 | G9: =D9*E9 -> 3998.4
B10: Мотор-тестер | D10: =ТО15000!D10 -> 0.5 | E10: =[1]Лист1!$B$5 -> 2499 | G10: =D10*E10 -> 1249.5
D11: Вид | E11: Наименование/кат.номер | F11: Количество, л(шт) | G11: Стоимость единицы наименования | H11: Стоимость запчастей, руб.
A12: Расходные материалы | B12: =ТО240000!B12 -> 3,2 DI-D | C12: МКПП | D12: Моторное масло | E12: Mobil-1 5W50 | F12: 9.3 | G12: ='[2]Масла и технические жидкости'!$C$4 -> 522 | H12: =F12*G12 -> 4854.6
D13: Масляный фильтр | E13: 1230A046 | F13: 1 | G13: =[2]Запчасти!$C$155 -> 858 | H13: =F13*G13 -> 858
D14: Салонный фильтр | E14: 7803A028 | F14: 1 | G14: =[2]Запчасти!$C$149 -> 1310 | H14: =F14*G14 -> 1310
D15: Топливный фильтр | E15: 1770A053 | F15: 1 | G15: =[2]Запчасти!$C$157 -> 1782 | H15: =F15*G15 -> 1782
H16: =F16*G16 -> 0
H17: =F17*G17 -> 0
H18: =F18*G18 -> 0
H19: =F19*G19 -> 0
H20: =F20*G20 -> 0
H21: =F21*G21 -> 0
D22: Итого | H22: =SUM(H12:H21) -> 8804.6
C23: АКПП | D23: Моторное масло | E23: Mobil-1 5W50 | F23: 9.3 | G23: ='[2]Масла и технические жидкости'!$C$4 -> 522 | H23: =F23*G23 -> 4854.6
D24: Масляный фильтр | E24: 1230A046 | F24: 1 | G24: =[2]Запчасти!$C$155 -> 858 | H24: =F24*G24 -> 858
D25: Салонный фильтр | E25: 7803A028 | F25: 1 | G25: =[2]Запчасти!$C$149 -> 1310 | H25: =F25*G25 -> 1310
D26: Топливный фильтр | E26: 1770A053 | F26: 1 | G26: =[2]Запчасти!$C$157 -> 1782 | H26: =F26*G26 -> 1782
H27: =F27*G27 -> 0
H28: =F28*G28 -> 0
H29: =F29*G29 -> 0
H30: =F30*G30 -> 0
H31: =F31*G31 -> 0
H32: =F32*G32 -> 0
D33: Итого | H33: =SUM(H23:H32) -> 8804.6
B34: =ТО240000!B34 -> 3 | C34: МКПП | D34: Моторное масло | E34: ='[2]Масла и технические жидкости'!$B$5 -> Mobil-1 0W40 | F34: 4.9 | G34: ='[2]Масла и технические жидкости'!$C$5 -> 711.46 | H34: =F34*G34 -> 3486.154
D35: Масляный фильтр | E35: =[2]Запчасти!$B$148 -> MD352626 | F35: 1 | G35: =[2]Запчасти!$C$148 -> 753 | H35: =F35*G35 -> 753
D36: Салонный фильтр | E36: =[2]Запчасти!$B$149 -> 7803A028 | F36: 1 | G36: =[2]Запчасти!$C$149 -> 1310 | H36: =F36*G36 -> 1310
H37: =F37*G37 -> 0
H38: =F38*G38 -> 0
H39: =F39*G39 -> 0
H40: =F40*G40 -> 0
H41: =F41*G41 -> 0
H42: =F42*G42 -> 0
H43: =F43*G43 -> 0
D44: Итого | H44: =SUM(H34:H43) -> 5549.154
C45: АКПП | D45: Моторное масло | E45: ='[2]Масла и технические жидкости'!$B$5 -> Mobil-1 0W40 | F45: 4.9 | G45: ='[2]Масла и технические жидкости'!$C$5 -> 711.46 | H45: =F45*G45 -> 3486.154
D46: Масляный фильтр | E46: =[2]Запчасти!$B$148 -> MD352626 | F46: 1 | G46: =[2]Запчасти!$C$148 -> 753 | H46: =F46*G46 -> 753
D47: Салонный фильтр | E47: =[2]Запчасти!$B$149 -> 7803A028 | F47: 1 | G47: =[2]Запчасти!$C$149 -> 1310 | H47: =F47*G47 -> 1310
H48: =F48*G48 -> 0
H49: =F49*G49 -> 0
H50: =F50*G50 -> 0
H51: =F51*G51 -> 0
H52: =F52*G52 -> 0
H53: =F53*G53 -> 0
H54: =F54*G54 -> 0
D55: Итого | H55: =SUM(H45:H54) -> 5549.154
B56: =ТО240000!B58 -> 3,8 MIVEC | C56: МКПП | H56: =F56*G56 -> 0
H57: =F57*G57 -> 0
H58: =F58*G58 -> 0
H59: =F59*G59 -> 0
H60: =F60*G60 -> 0
H61: =F61*G61 -> 0
H62: =F62*G62 -> 0
H63: =F63*G63 -> 0
H64: =F64*G64 -> 0
H65: =F65*G65 -> 0
D66: Итого | H66: =SUM(H56:H65) -> 0
C67: АКПП | D67: Моторное масло | E67: =ТО15000!E67 -> Mobil-1 0W40 | F67: =ТО15000!F67 -> 4.9 | G67: =ТО15000!G67 -> 711.46 | H67: =F67*G67 -> 3486.154
D68: Масляный фильтр | E68: =ТО15000!E68 -> MD352626 | F68: =ТО15000!F68 -> 1 | G68: =ТО15000!G68 -> 753 | H68: =F68*G68 -> 753
D69: Салонный фильтр | E69: =ТО15000!E69 -> 7803A028 | F69: =ТО15000!F69 -> 1 | G69: =ТО15000!G69 -> 1310 | H69: =F69*G69 -> 1310
H70: =F70*G70 -> 0
H71: =F71*G71 -> 0
H72: =F72*G72 -> 0
H73: =F73*G73 -> 0
H74: =F74*G74 -> 0
H75: =F75*G75 -> 0
H76: =F76*G76 -> 0
D77: Итого | H77: =SUM(H67:H76) -> 5549.154
A78: Стоимость ТО+расходные материалы, руб. | B78: 3,2 DI-D | C78: МКПП | H78: =H22+G3 -> 13552.7
C79: АКПП | H79: =H33+G4 -> 13552.7
B80: 3 | C80: МКПП | H80: =H44+G5 -> 9547.554
C81: АКПП | H81: =H55+G6 -> 9547.554
B82: =ТО15000!B7 -> 3,8 MIVEC | C82: МКПП
C83: АКПП | H83: =H77+G8 -> 9547.554
A84: Стоимость ТО + расходные материалы + рекомендованные работы, руб. | B84: 3,2 DI-D | C84: МКПП | H84: =H78+G9+G10 -> 18800.6
C85: АКПП | H85: =H79+G9+G10 -> 18800.6
B86: 3 | C86: МКПП | H86: =H80+G9+G10 -> 14795.454
C87: АКПП | H87: =H81+G9+G10 -> 14795.454
B88: =ТО15000!B7 -> 3,8 MIVEC | C88: МКПП
C89: АКПП | H89: =H83+G9+G10 -> 14795.454

Sheet ТО270000
A1: =ТО15000!A1 -> Pajero IV (BK) | D1: ТО270000
D2: Норма времени, н/ч | E2: Стоимость нормочаса, руб. | G2: Стоимость работ, руб.
A3: Обязательные работы | B3: =ТО255000!B3 -> 3,2 DI-D | C3: МКПП | D3: 3.8 | E3: =ТО15000!E3 -> 2499 | G3: =D3*E3 -> 9496.2
C4: АКПП | D4: 4.1 | G4: =D4*E3 -> 10245.9
B5: 3 | C5: МКПП | D5: 5.1 | G5: =D5*E3 -> 12744.9
C6: АКПП | D6: 5.1 | G6: =D6*E3 -> 12744.9
B7: =ТО255000!B7 -> 3,8 MIVEC | C7: МКПП
C8: АКПП | D8: 5.1 | G8: =D8*E3 -> 12744.9
A9: Рекомендованные работы | B9: =B7 -> 3,8 MIVEC | C9: =ТО90000!C9 -> Замена реком. з/ч | D9: =ТО90000!D9 -> 1.5 | E9: =E10 -> 2499 | G9: =D9*E9 -> 3748.5
B10: Мотор-тестер | D10: =ТО15000!D10 -> 0.5 | E10: =ТО15000!E10 -> 2499 | G10: =D10*E10 -> 1249.5
D11: Вид | E11: Наименование/кат.номер | F11: Количество, л(шт) | G11: Стоимость единицы наименования | H11: Стоимость запчастей, руб.
A12: Расходные материалы | B12: =B3 -> 3,2 DI-D | C12: МКПП | D12: Моторное масло | E12: Mobil-1 5W50 | F12: 9.3 | G12: ='[2]Масла и технические жидкости'!$C$4 -> 522 | H12: =F12*G12 -> 4854.6
D13: Масляный фильтр | E13: 1230A046 | F13: 1 | G13: =[2]Запчасти!$C$155 -> 858 | H13: =F13*G13 -> 858
D14: Салонный фильтр | E14: 7803A028 | F14: 1 | G14: =[2]Запчасти!$C$149 -> 1310 | H14: =F14*G14 -> 1310
D15: Топливный фильтр | E15: 1770A053 | F15: 1 | G15: =[2]Запчасти!$C$157 -> 1782 | H15: =F15*G15 -> 1782
D16: Жидкость гидропривода тормозов и сцепления | E16: Mobil DOT4 | F16: 1 | G16: ='[2]Масла и технические жидкости'!$C$6 -> 275 | H16: =F16*G16 -> 275
D17: Воздушный фильтр | E17: MR404847 | F17: 1 | G17: =[2]Запчасти!$C$156 -> 1993 | H17: =F17*G17 -> 1993
D18: Масло МКПП | E18: ='[2]Масла и технические жидкости'!$B$8 -> Mobilube 1-SHC 75W90 | F18: 3.2 | G18: ='[2]Масла и технические жидкости'!$C$8 -> 648.33 | H18: =F18*G18 -> 2074.656
D19: Масло РК | E19: ='[2]Масла и технические жидкости'!$B$8 -> Mobilube 1-SHC 75W90 | F19: 2.8 | G19: ='[2]Масла и технические жидкости'!$C$8 -> 648.33 | H19: =F19*G19 -> 1815.324
D20: Масло задн. дифф. | E20: ='[2]Масла и технические жидкости'!$B$8 -> Mobilube 1-SHC 75W90 | F20: 1.6 | G20: ='[2]Масла и технические жидкости'!$C$8 -> 648.33 | H20: =F20*G20 -> 1037.328
D21: Масло пер. дифф. | E21: ='[2]Масла и технические жидкости'!$B$8 -> Mobilube 1-SHC 75W90 | F21: 1.15 | G21: ='[2]Масла и технические жидкости'!$C$8 -> 648.33 | H21: =F21*G21 -> 745.5795
D22: Итого | H22: =SUM(H12:H20) -> 15999.908
C23: АКПП | D23: Моторное масло | E23: Mobil-1 5W50 | F23: 9.3 | G23: ='[2]Масла и технические жидкости'!$C$4 -> 522 | H23: =F23*G23 -> 4854.6
D24: Масляный фильтр | E24: 1230A046 | F24: 1 | G24: =[2]Запчасти!$C$155 -> 858 | H24: =F24*G24 -> 858
D25: Салонный фильтр | E25: 7803A028 | F25: 1 | G25: =[2]Запчасти!$C$149 -> 1310 | H25: =F25*G25 -> 1310
D26: Топливный фильтр | E26: 1770A053 | F26: 1 | G26: =[2]Запчасти!$C$157 -> 1782 | H26: =F26*G26 -> 1782
D27: Жидкость гидропривода тормозов | E27: Mobil DOT4 | F27: 1 | G27: ='[2]Масла и технические жидкости'!$C$6 -> 275 | H27: =F27*G27 -> 275
D28: Воздушный фильтр | E28: MR404847 | F28: 1 | G28: =[2]Запчасти!$C$156 -> 1993 | H28: =F28*G28 -> 1993
D29: Масло РК | E29: ='[2]Масла и технические жидкости'!$B$8 -> Mobilube 1-SHC 75W90 | F29: 2.8 | G29: ='[2]Масла и технические жидкости'!$C$8 -> 648.33 | H29: =F29*G29 -> 1815.324
D30: Масло задн. дифф. | E30: ='[2]Масла и технические жидкости'!$B$8 -> Mobilube 1-SHC 75W90 | F30: 1.6 | G30: ='[2]Масла и технические жидкости'!$C$8 -> 648.33 | H30: =F30*G30 -> 1037.328
D31: Масло пер. дифф. | E31: ='[2]Масла и технические жидкости'!$B$8 -> Mobilube 1-SHC 75W90 | F31: 1.15 | G31: ='[2]Масла и технические жидкости'!$C$8 -> 648.33 | H31: =F31*G31 -> 745.5795
D32: Масло АКПП | E32: ='[2]Масла и технические жидкости'!$B$11 -> BP ATF SP-III | F32: 9.7 | G32: ='[2]Масла и технические жидкости'!$C$11 -> 419.3 | H32: =F32*G32 -> 4067.21
D33: Итого | H33: =SUM(H23:H30) -> 13925.252
B34: 3 | C34: МКПП | D34: Моторное масло | E34: =ТО15000!E34 -> Mobil-1 0W40 | F34: =ТО15000!F34 -> 4.9 | G34: =ТО15000!G34 -> 711.46 | H34: =F34*G34 -> 3486.154
D35: Масляный фильтр | E35: =ТО15000!E35 -> MD352626 | F35: =ТО15000!F35 -> 1 | G35: =ТО15000!G35 -> 753 | H35: =F35*G35 -> 753 | J35: Запчасти, рекомендуемые к замене
D36: Салонный фильтр | E36: =ТО15000!E36 -> 7803A028 | F36: =ТО15000!F36 -> 1 | G36: =ТО15000!G36 -> 1310 | H36: =F36*G36 -> 1310 | I36: Наименование | J36: Каталожный номер | K36: Стоимость
D37: Ремень ГРМ | E37: =[2]Запчасти!$B$200 -> MD358557 | F37: 1 | G37: =[2]Запчасти!$C$200 -> 10019 | H37: =F37*G37 -> 10019 | I37: Натяжит. ремня ГРМ | J37: =[2]Запчасти!$F$194 -> MD362861 | K37: =[2]Запчасти!$G$194 -> 4259
D38: Жидкость гидропривода тормозов и сцепления | E38: =E49 -> MD358557 | F38: 1 | G38: ='[2]Масла и технические жидкости'!$C$6 -> 275 | H38: =F38*G38 -> 275 | I38: Ролик натяжителя | J38: =[2]Запчасти!$F$195 -> MD140071 | K38: =[2]Запчасти!$G$195 -> 2873
D39: Воздушный фильтр | E39: =[2]Запчасти!$B$196 -> MR571476 | F39: 1 | G39: =[2]Запчасти!$C$196 -> 2159 | H39: =F39*G39 -> 2159 | I39: Ролик обводной | J39: =[2]Запчасти!$F$196 -> MD319022 | K39: =[2]Запчасти!$G$196 -> 2427
D40: Масло МКПП | E40: ='[2]Масла и технические жидкости'!$B$8 -> Mobilube 1-SHC 75W90 | F40: 3.2 | G40: ='[2]Масла и технические жидкости'!$C$8 -> 648.33 | H40: =F40*G40 -> 2074.656 | I40: Итого | K40: =SUM(K37:K39) -> 9559
D41: Масло РК | E41: ='[2]Масла и технические жидкости'!$B$8 -> Mobilube 1-SHC 75W90 | F41: 2.8 | G41: ='[2]Масла и технические жидкости'!$C$8 -> 648.33 | H41: =F41*G41 -> 1815.324
D42: Масло задн. дифф. | E42: ='[2]Масла и технические жидкости'!$B$8 -> Mobilube 1-SHC 75W90 | F42: 1.6 | G42: ='[2]Масла и технические жидкости'!$C$8 -> 648.33 | H42: =F42*G42 -> 1037.328
D43: Масло пер. дифф. | E43: ='[2]Масла и технические жидкости'!$B$8 -> Mobilube 1-SHC 75W90 | F43: 1.15 | G43: ='[2]Масла и технические жидкости'!$C$8 -> 648.33 | H43: =F43*G43 -> 745.5795
H44: =F44*G44 -> 0
D45: Итого | H45: =SUM(H34:H44) -> 23675.042
C46: АКПП | D46: Моторное масло | E46: ='[2]Масла и технические жидкости'!$B$5 -> Mobil-1 0W40 | F46: 4.9 | G46: ='[2]Масла и технические жидкости'!$C$5 -> 711.46 | H46: =F46*G46 -> 3486.154
D47: Масляный фильтр | E47: =[2]Запчасти!$B$194 -> MD352626 | F47: =ТО15000!F47 -> 1 | G47: =[2]Запчасти!$C$194 -> 753 | H47: =F47*G47 -> 753
D48: Салонный фильтр | E48: =[2]Запчасти!$B$195 -> 7803A028 | F48: 1 | G48: =[2]Запчасти!$C$195 -> 1310 | H48: =F48*G48 -> 1310
D49: Ремень ГРМ | E49: =[2]Запчасти!$B$200 -> MD358557 | F49: 1 | G49: =[2]Запчасти!$C$200 -> 10019 | H49: =F49*G49 -> 10019
D50: Жидкость гидропривода тормозов | E50: ='[2]Масла и технические жидкости'!$B$6 -> Mobil DOT4 | F50: 1 | G50: ='[2]Масла и технические жидкости'!$C$6 -> 275 | H50: =F50*G50 -> 275
D51: Воздушный фильтр | E51: =[2]Запчасти!$B$196 -> MR571476 | F51: 1 | G51: =[2]Запчасти!$C$196 -> 2159 | H51: =F51*G51 -> 2159
D52: Масло АКПП | E52: ='[2]Масла и технические жидкости'!$B$11 -> BP ATF SP-III | F52: 9.7 | G52: ='[2]Масла и технические жидкости'!$C$11 -> 419.3 | H52: =F52*G52 -> 4067.21
D53: Масло РК | E53: ='[2]Масла и технические жидкости'!$B$8 -> Mobilube 1-SHC 75W90 | F53: 2.8 | G53: ='[2]Масла и технические жидкости'!$C$8 -> 648.33 | H53: =F53*G53 -> 1815.324
D54: Масло пер. дифф. | E54: ='[2]Масла и технические жидкости'!$B$8 -> Mobilube 1-SHC 75W90 | F54: 1.15 | G54: ='[2]Масла и технические жидкости'!$C$8 -> 648.33 | H54: =F54*G54 -> 745.5795
D55: Масло задн. дифф. | E55: =E54 -> Mobilube 1-SHC 75W90 | F55: 1.6 | G55: ='[2]Масла и технические жидкости'!$C$8 -> 648.33 | H55: =F55*G55 -> 1037.328
H56: =F56*G56 -> 0
D57: Итого | H57: =SUM(H46:H56) -> 25667.596
B58: =B7 -> 3,8 MIVEC | C58: МКПП | H58: =F58*G58 -> 0
H59: =F59*G59 -> 0 | J59: Запчасти, рекомендуемые к замене
H60: =F60*G60 -> 0 | I60: Наименование | J60: Каталожный номер | K60: Стоимость
H61: =F61*G61 -> 0 | I61: Натяжит. ремня ГРМ | J61: =ТО90000!J59 -> MD362861 | K61: =ТО90000!K59 -> 4259
H62: =F62*G62 -> 0 | I62: Ролик натяжителя | J62: =ТО90000!J60 -> MD140071 | K62: =ТО90000!K60 -> 2873
H63: =F63*G63 -> 0 | I63: Ролик обводной | J63: =ТО90000!J61 -> MD319022 | K63: =ТО90000!K61 -> 2427
H64: =F64*G64 -> 0 | I64: Итого | K64: =K61+K62+K63 -> 9559
H65: =F65*G65 -> 0
H66: =F66*G66 -> 0
H67: =F67*G67 -> 0
D69: Итого | H69: =SUM(H58:H66) -> 0
C70: АКПП | D70: Моторное масло | E70: =ТО15000!E67 -> Mobil-1 0W40 | F70: =ТО15000!F67 -> 4.9 | G70: =ТО15000!G67 -> 711.46 | H70: =F70*G70 -> 3486.154
D71: Масляный фильтр | E71: =ТО15000!E68 -> MD352626 | F71: =ТО15000!F68 -> 1 | G71: =ТО15000!G68 -> 753 | H71: =F71*G71 -> 753
D72: Салонный фильтр | E72: =ТО15000!E69 -> 7803A028 | F72: =ТО15000!F69 -> 1 | G72: =ТО15000!G69 -> 1310 | H72: =F72*G72 -> 1310
D73: Ремень ГРМ | E73: =ТО90000!E70 -> MD358549 | F73: =ТО90000!F70 -> 1 | G73: =ТО90000!G70 -> 6725 | H73: =F73*G73 -> 6725
D74: Жидкость гидропривода тормозов и сцепления | E74: =ТО30000!E65 -> Mobil DOT4 | F74: =ТО30000!F65 -> 1 | G74: =ТО30000!G65 -> 275 | H74: =F74*G74 -> 275
D75: Воздушный фильтр | E75: =ТО30000!E66 -> MR571476 | F75: =ТО30000!F66 -> 1 | G75: =ТО30000!G66 -> 2159 | H75: =F75*G75 -> 2159
D76: Масло АКПП | E76: =ТО90000!E73 -> BP ATF SP-III | F76: =ТО90000!F73 -> 9.7 | G76: =ТО90000!G73 -> 419.3 | H76: =F76*G76 -> 4067.21
D77: Масло РК | E77: =ТО45000!E63 -> Mobilube 1-SHC 75W90 | F77: =ТО45000!F63 -> 2.8 | G77: =ТО45000!G63 -> 648.33 | H77: =F77*G77 -> 1815.324
D78: Масло пер. дифф. | E78: =ТО90000!E75 -> Mobilube 1-SHC 75W90 | F78: =ТО90000!F75 -> 1.15 | G78: =ТО90000!G75 -> 648.33 | H78: =F78*G78 -> 745.5795
D79: Масло задн. дифф. | E79: =ТО45000!E64 -> Mobilube 1-SHC 75W90 | F79: =ТО45000!F64 -> 1.6 | G79: =ТО45000!G64 -> 648.33 | H79: =F79*G79 -> 1037.328
H80: =F80*G80 -> 0
D81: Итого | H81: =SUM(H70:H80) -> 22373.596
A82: Стоимость ТО+расходные материалы, $ | B82: =B12 -> 3,2 DI-D | C82: МКПП | H82: =H22+G3 -> 25496.108
C83: АКПП | H83: =H33+G4 -> 24171.152
B84: 3 | C84: МКПП | H84: =H45+G5 -> 36419.942
C85: АКПП | H85: =H57+G6 -> 38412.496
B86: =B58 -> 3,8 MIVEC | C86: МКПП
C87: АКПП | H87: =H81+G8 -> 35118.496
A88: Стоимость ТО + расходные материалы + мотортестер, $ | B88: =B82 -> 3,2 DI-D | C88: МКПП | H88: =H82+G10 -> 26745.608
C89: АКПП | H89: =H83+G10 -> 25420.652
B90: 3 | C90: МКПП | H90: =H84+G10 -> 37669.442
C91: АКПП | H91: =H85+G10 -> 39661.996
B92: =B86 -> 3,8 MIVEC | C92: МКПП
C93: АКПП | H93: =H87+G10 -> 36367.996
A94: Стоимость ТО + расходные материалы + рекомендованные работы, $ | B94: =B88 -> 3,2 DI-D | C94: МКПП | H94: =H88 -> 26745.608
C95: АКПП | H95: =H89 -> 25420.652
C96: МКПП | H96: =H90+K40+G9 -> 50976.942
C97: АКПП | H97: =H91+K40+G9 -> 52969.496
B98: =B92 -> 3,8 MIVEC | C98: МКПП
C99: АКПП | H99: =H93+K64+G9 -> 49675.496

Sheet ТО285000
A1: =ТО15000!A1 -> Pajero IV (BK) | D1: ТО285000
D2: Норма времени, н/ч | E2: Стоимость нормочаса, руб. | G2: Стоимость работ, руб.
A3: Обязательные работы | B3: =ТО270000!B3 -> 3,2 DI-D | C3: МКПП | D3: 1.9 | E3: =[1]Лист1!$B$5 -> 2499 | G3: =D3*E3 -> 4748.1
C4: АКПП | D4: 1.9 | G4: =D4*E3 -> 4748.1
B5: 3 | C5: МКПП | D5: 1.6 | G5: =D5*E3 -> 3998.4
C6: АКПП | D6: 1.6 | G6: =D6*E3 -> 3998.4
B7: =ТО270000!B7 -> 3,8 MIVEC | C7: МКПП
C8: АКПП | D8: 1.6 | G8: =D8*E3 -> 3998.4
A9: Рекомендованные работы | B9: Сход-развал | D9: =ТО15000!D9 -> 1.6 | E9: =[1]Лист1!$B$5 -> 2499 | G9: =D9*E9 -> 3998.4
B10: Мотор-тестер | D10: =ТО15000!D10 -> 0.5 | E10: =[1]Лист1!$B$5 -> 2499 | G10: =D10*E10 -> 1249.5
D11: Вид | E11: Наименование/кат.номер | F11: Количество, л(шт) | G11: Стоимость единицы наименования | H11: Стоимость запчастей, руб.
A12: Расходные материалы | B12: =B3 -> 3,2 DI-D | C12: МКПП | D12: Моторное масло | E12: Mobil-1 5W50 | F12: 9.3 | G12: ='[2]Масла и технические жидкости'!$C$4 -> 522 | H12: =F12*G12 -> 4854.6
D13: Масляный фильтр | E13: 1230A046 | F13: 1 | G13: =[2]Запчасти!$C$155 -> 858 | H13: =F13*G13 -> 858
D14: Салонный фильтр | E14: 7803A028 | F14: 1 | G14: =[2]Запчасти!$C$149 -> 1310 | H14: =F14*G14 -> 1310
D15: Топливный фильтр | E15: 1770A053 | F15: 1 | G15: =[2]Запчасти!$C$157 -> 1782 | H15: =F15*G15 -> 1782
H16: =F16*G16 -> 0
H17: =F17*G17 -> 0
H18: =F18*G18 -> 0
H19: =F19*G19 -> 0
H20: =F20*G20 -> 0
H21: =F21*G21 -> 0
D22: Итого | H22: =SUM(H12:H21) -> 8804.6
C23: АКПП | D23: Моторное масло | E23: Mobil-1 5W50 | F23: 9.3 | G23: ='[2]Масла и технические жидкости'!$C$4 -> 522 | H23: =F23*G23 -> 4854.6
D24: Масляный фильтр | E24: 1230A046 | F24: 1 | G24: =[2]Запчасти!$C$155 -> 858 | H24: =F24*G24 -> 858
D25: Салонный фильтр | E25: 7803A028 | F25: 1 | G25: =[2]Запчасти!$C$149 -> 1310 | H25: =F25*G25 -> 1310
D26: Топливный фильтр | E26: 1770A053 | F26: 1 | G26: =[2]Запчасти!$C$157 -> 1782 | H26: =F26*G26 -> 1782
H27: =F27*G27 -> 0
H28: =F28*G28 -> 0
H29: =F29*G29 -> 0
H30: =F30*G30 -> 0
H31: =F31*G31 -> 0
H32: =F32*G32 -> 0
D33: Итого | H33: =SUM(H23:H32) -> 8804.6
B34: 3 | C34: МКПП | D34: Моторное масло | E34: ='[2]Масла и технические жидкости'!$B$5 -> Mobil-1 0W40 | F34: 4.9 | G34: ='[2]Масла и технические жидкости'!$C$5 -> 711.46 | H34: =F34*G34 -> 3486.154
D35: Масляный фильтр | E35: =[2]Запчасти!$B$148 -> MD352626 | F35: 1 | G35: =[2]Запчасти!$C$148 -> 753 | H35: =F35*G35 -> 753
D36: Салонный фильтр | E36: =[2]Запчасти!$B$149 -> 7803A028 | F36: 1 | G36: =[2]Запчасти!$C$149 -> 1310 | H36: =F36*G36 -> 1310
H37: =F37*G37 -> 0
H38: =F38*G38 -> 0
H39: =F39*G39 -> 0
H40: =F40*G40 -> 0
H41: =F41*G41 -> 0
H42: =F42*G42 -> 0
H43: =F43*G43 -> 0
D44: Итого | H44: =SUM(H34:H43) -> 5549.154
C45: АКПП | D45: Моторное масло | E45: ='[2]Масла и технические жидкости'!$B$5 -> Mobil-1 0W40 | F45: 4.9 | G45: ='[2]Масла и технические жидкости'!$C$5 -> 711.46 | H45: =F45*G45 -> 3486.154
D46: Масляный фильтр | E46: =[2]Запчасти!$B$148 -> MD352626 | F46: 1 | G46: =[2]Запчасти!$C$148 -> 753 | H46: =F46*G46 -> 753
D47: Салонный фильтр | E47: =[2]Запчасти!$B$149 -> 7803A028 | F47: 1 | G47: =[2]Запчасти!$C$149 -> 1310 | H47: =F47*G47 -> 1310
H48: =F48*G48 -> 0
H49: =F49*G49 -> 0
H50: =F50*G50 -> 0
H51: =F51*G51 -> 0
H52: =F52*G52 -> 0
H53: =F53*G53 -> 0
H54: =F54*G54 -> 0
D55: Итого | H55: =SUM(H45:H54) -> 5549.154
B56: =B7 -> 3,8 MIVEC | C56: МКПП | H56: =F56*G56 -> 0
H57: =F57*G57 -> 0
H58: =F58*G58 -> 0
H59: =F59*G59 -> 0
H60: =F60*G60 -> 0
H61: =F61*G61 -> 0
H62: =F62*G62 -> 0
H63: =F63*G63 -> 0
H64: =F64*G64 -> 0
H65: =F65*G65 -> 0
D66: Итого | H66: =SUM(H56:H65) -> 0
C67: АКПП | D67: Моторное масло | E67: =ТО15000!E67 -> Mobil-1 0W40 | F67: =ТО15000!F67 -> 4.9 | G67: =ТО15000!G67 -> 711.46 | H67: =F67*G67 -> 3486.154
D68: Масляный фильтр | E68: =ТО15000!E68 -> MD352626 | F68: =ТО15000!F68 -> 1 | G68: =ТО15000!G68 -> 753 | H68: =F68*G68 -> 753
D69: Салонный фильтр | E69: =ТО15000!E69 -> 7803A028 | F69: =ТО15000!F69 -> 1 | G69: =ТО15000!G69 -> 1310 | H69: =F69*G69 -> 1310
H70: =F70*G70 -> 0
H71: =F71*G71 -> 0
H72: =F72*G72 -> 0
H73: =F73*G73 -> 0
H74: =F74*G74 -> 0
H75: =F75*G75 -> 0
H76: =F76*G76 -> 0
D77: Итого | H77: =SUM(H67:H76) -> 5549.154
A78: Стоимость ТО+расходные материалы, руб. | B78: =B12 -> 3,2 DI-D | C78: МКПП | H78: =H22+G3 -> 13552.7
C79: АКПП | H79: =H33+G4 -> 13552.7
B80: 3 | C80: МКПП | H80: =H44+G5 -> 9547.554
C81: АКПП | H81: =H55+G6 -> 9547.554
B82: =B56 -> 3,8 MIVEC | C82: МКПП
C83: АКПП | H83: =H77+G8 -> 9547.554
A84: Стоимость ТО + расходные материалы + рекомендованные работы, руб. | B84: =B78 -> 3,2 DI-D | C84: МКПП | H84: =H78+G9+G10 -> 18800.6
C85: АКПП | H85: =H79+G9+G10 -> 18800.6
B86: 3 | C86: МКПП | H86: =H80+G9+G10 -> 14795.454
C87: АКПП | H87: =H81+G9+G10 -> 14795.454
B88: =B82 -> 3,8 MIVEC | C88: МКПП
C89: АКПП | H89: =H83+G9+G10 -> 14795.454

Sheet ТО300000
A1: =ТО15000!A1 -> Pajero IV (BK) | D1: ТО300000
D2: Норма времени, н/ч | E2: Стоимость нормочаса, руб. | G2: Стоимость работ, руб.
A3: Обязательные работы | B3: =ТО285000!B3 -> 3,2 DI-D | C3: МКПП | D3: 4.8 | E3: =ТО15000!E3 -> 2499 | G3: =D3*E3 -> 11995.2
C4: АКПП | D4: 4.6 | G4: =D4*E3 -> 11495.4
B5: 3 | C5: МКПП | D5: 4.3 | G5: =D5*E3 -> 10745.7
C6: АКПП | D6: 4.3 | G6: =D6*E3 -> 10745.7
B7: =ТО285000!B7 -> 3,8 MIVEC | C7: МКПП
C8: АКПП | D8: 4.3 | G8: =D8*E3 -> 10745.7
A9: Рекомендованные работы
B10: Мотор-тестер | D10: =ТО15000!D10 -> 0.5 | E10: =ТО15000!E10 -> 2499 | G10: =D10*E10 -> 1249.5
D11: Вид | E11: Наименование/кат.номер | F11: Количество, л(шт) | G11: Стоимость единицы наименования | H11: Стоимость запчастей, руб.
A12: Расходные материалы | B12: =B3 -> 3,2 DI-D | C12: МКПП | D12: Моторное масло | E12: Mobil-1 5W50 | F12: 9.3 | G12: ='[2]Масла и технические жидкости'!$C$4 -> 522 | H12: =F12*G12 -> 4854.6
D13: Масляный фильтр | E13: 1230A046 | F13: 1 | G13: =[2]Запчасти!$C$155 -> 858 | H13: =F13*G13 -> 858
D14: Салонный фильтр | E14: 7803A028 | F14: 1 | G14: =[2]Запчасти!$C$149 -> 1310 | H14: =F14*G14 -> 1310
D15: Топливный фильтр | E15: 1770A053 | F15: 1 | G15: =[2]Запчасти!$C$157 -> 1782 | H15: =F15*G15 -> 1782
D16: Жидкость гидропривода тормозов и сцепления | E16: Mobil DOT4 | F16: 1 | G16: ='[2]Масла и технические жидкости'!$C$6 -> 275 | H16: =F16*G16 -> 275
D17: Воздушный фильтр | E17: MR404847 | F17: 1 | G17: =[2]Запчасти!$C$156 -> 1993 | H17: =F17*G17 -> 1993
D18: Охлаждающая жидкость | E18: ='[2]Масла и технические жидкости'!$B$14 -> Antifreeze Extra | F18: 11 | G18: ='[2]Масла и технические жидкости'!$C$14 -> 332 | H18: =F18*G18 -> 3652
H19: =F19*G19 -> 0
H20: =F20*G20 -> 0
D21: Итого | H21: =SUM(H12:H20) -> 14724.6
C22: АКПП | D22: Моторное масло | E22: Mobil-1 5W50 | F22: 9.3 | G22: ='[2]Масла и технические жидкости'!$C$4 -> 522 | H22: =F22*G22 -> 4854.6
D23: Масляный фильтр | E23: 1230A046 | F23: 1 | G23: =[2]Запчасти!$C$155 -> 858 | H23: =F23*G23 -> 858
D24: Салонный фильтр | E24: 7803A028 | F24: 1 | G24: =[2]Запчасти!$C$149 -> 1310 | H24: =F24*G24 -> 1310
D25: Топливный фильтр | E25: 1770A053 | F25: 1 | G25: =[2]Запчасти!$C$157 -> 1782 | H25: =F25*G25 -> 1782
D26: Жидкость гидропривода тормозов | E26: Mobil DOT4 | F26: 1 | G26: ='[2]Масла и технические жидкости'!$C$6 -> 275 | H26: =F26*G26 -> 275
D27: Воздушный фильтр | E27: MR404847 | F27: 1 | G27: =[2]Запчасти!$C$156 -> 1993 | H27: =F27*G27 -> 1993
D28: Охлаждающая жидкость | E28: ='[2]Масла и технические жидкости'!$B$14 -> Antifreeze Extra | F28: 11 | G28: ='[2]Масла и технические жидкости'!$C$14 -> 332 | H28: =F28*G28 -> 3652
H29: =F29*G29 -> 0
H30: =F30*G30 -> 0
D31: Итого | H31: =SUM(H22:H30) -> 14724.6
B32: 3 | C32: МКПП | D32: Моторное масло | E32: Mobil-1 0W40 | F32: 4.9 | G32: ='[2]Масла и технические жидкости'!$C$5 -> 711.46 | H32: =F32*G32 -> 3486.154
D33: Масляный фильтр | E33: =[2]Запчасти!$B$194 -> MD352626 | F33: 1 | G33: =[2]Запчасти!$C$194 -> 753 | H33: =F33*G33 -> 753
D34: Салонный фильтр | E34: =[2]Запчасти!$B$195 -> 7803A028 | F34: 1 | G34: =[2]Запчасти!$C$195 -> 1310 | H34: =F34*G34 -> 1310
D35: Свечи зажигания | E35: =[2]Запчасти!$B$198 -> 1822A002 | F35: 6 | G35: =[2]Запчасти!$C$198 -> 1099 | H35: =F35*G35 -> 6594
D36: Охлаждающая жидкость | E36: ='[2]Масла и технические жидкости'!$B$14 -> Antifreeze Extra | F36: 11 | G36: ='[2]Масла и технические жидкости'!$C$14 -> 332 | H36: =F36*G36 -> 3652
D37: Жидкость гидропривода тормозов | E37: ='[2]Масла и технические жидкости'!$B$6 -> Mobil DOT4 | F37: 1 | G37: ='[2]Масла и технические жидкости'!$C$6 -> 275 | H37: =F37*G37 -> 275
D38: Воздушный фильтр | E38: =[2]Запчасти!$B$150 -> MR571476 | F38: 1 | G38: =[2]Запчасти!$C$150 -> 2159 | H38: =F38*G38 -> 2159
D39: Прокладка впускного коллектора | E39: =[2]Запчасти!$B$161 -> MD199282 | F39: 1 | G39: =[2]Запчасти!$C$161 -> 557 | H39: =F39*G39 -> 557
H40: =F40*G40 -> 0
H41: =F41*G41 -> 0
D42: Итого | H42: =SUM(H32:H41) -> 18786.154
C43: АКПП | D43: Моторное масло | E43: Mobil-1 0W40 | F43: 4.9 | G43: ='[2]Масла и технические жидкости'!$C$5 -> 711.46 | H43: =F43*G43 -> 3486.154
D44: Масляный фильтр | E44: =[2]Запчасти!$B$194 -> MD352626 | F44: 1 | G44: =[2]Запчасти!$C$194 -> 753 | H44: =F44*G44 -> 753
D45: Салонный фильтр | E45: =[2]Запчасти!$B$195 -> 7803A028 | F45: 1 | G45: =[2]Запчасти!$C$195 -> 1310 | H45: =F45*G45 -> 1310
D46: Свечи зажигания | E46: =[2]Запчасти!$B$198 -> 1822A002 | F46: 6 | G46: =[2]Запчасти!$C$198 -> 1099 | H46: =F46*G46 -> 6594
D47: Охлаждающая жидкость | E47: =E37 -> Mobil DOT4 | F47: 11 | G47: =G36 -> 332 | H47: =F47*G47 -> 3652
D48: Жидкость гидропривода тормозов | E48: =E38 -> MR571476 | F48: 1 | G48: =G37 -> 275 | H48: =F48*G48 -> 275
D49: Воздушный фильтр | E49: =[2]Запчасти!$B$150 -> MR571476 | F49: 1 | G49: =G38 -> 2159 | H49: =F49*G49 -> 2159
D50: Прокладка впускного коллектора | E50: =E39 -> MD199282 | F50: 1 | G50: =G39 -> 557 | H50: =F50*G50 -> 557
H51: =F51*G51 -> 0
H52: =F52*G52 -> 0
D53: Итого | H53: =SUM(H43:H52) -> 18786.154
B54: =B7 -> 3,8 MIVEC | C54: МКПП | H54: =F54*G54 -> 0
H55: =F55*G55 -> 0
H56: =F56*G56 -> 0
H57: =F57*G57 -> 0
H58: =F58*G58 -> 0
H59: =F59*G59 -> 0
H60: =F60*G60 -> 0
H61: =F61*G61 -> 0
H62: =F62*G62 -> 0
H63: =F63*G63 -> 0
D64: Итого | H64: =SUM(H54:H63) -> 0
C65: АКПП | D65: Моторное масло | E65: =ТО15000!E67 -> Mobil-1 0W40 | F65: =ТО15000!F67 -> 4.9 | G65: =ТО15000!G67 -> 711.46 | H65: =F65*G65 -> 3486.154
D66: Масляный фильтр | E66: =ТО15000!E68 -> MD352626 | F66: =ТО15000!F68 -> 1 | G66: =ТО15000!G68 -> 753 | H66: =F66*G66 -> 753
D67: Салонный фильтр | E67: =ТО15000!E69 -> 7803A028 | F67: =ТО15000!F69 -> 1 | G67: =ТО15000!G69 -> 1310 | H67: =F67*G67 -> 1310
D68: Свечи зажигания | E68: =ТО60000!E67 -> 1822A002 | F68: =ТО60000!F67 -> 6 | G68: =ТО60000!G67 -> 1099 | H68: =F68*G68 -> 6594
D69: Охлаждающая жидкость | E69: =ТО60000!E68 -> Antifreeze Extra | F69: =ТО60000!F68 -> 11 | G69: =ТО60000!G68 -> 332 | H69: =F69*G69 -> 3652
D70: Жидкость гидропривода тормозов и сцепления | E70: =ТО30000!E65 -> Mobil DOT4 | F70: =ТО30000!F65 -> 1 | G70: =ТО30000!G65 -> 275 | H70: =F70*G70 -> 275
D71: Воздушный фильтр | E71: =ТО30000!E66 -> MR571476 | F71: =ТО30000!F66 -> 1 | G71: =ТО30000!G66 -> 2159 | H71: =F71*G71 -> 2159
D72: Прокладка впускного коллектора | E72: =[2]Запчасти!$B$160 -> MR561584 | F72: 1 | G72: =[2]Запчасти!$C$160 -> 523 | H72: =F72*G72 -> 523
H73: =F73*G73 -> 0
H74: =F74*G74 -> 0
D75: Итого | H75: =SUM(H65:H74) -> 18752.154
A76: Стоимость ТО+расходные материалы, руб. | B76: =B12 -> 3,2 DI-D | C76: МКПП | H76: =H21+G3 -> 26719.8
C77: АКПП | H77: =H31+G4 -> 26220
B78: 3 | C78: МКПП | H78: =H42+G5 -> 29531.854
C79: АКПП | H79: =H53+G6 -> 29531.854
B80: =B54 -> 3,8 MIVEC | C80: МКПП
C81: АКПП | H81: =H75+G8 -> 29497.854
A82: Стоимость ТО + расходные материалы + рекомендованные работы, руб. | B82: =B76 -> 3,2 DI-D | C82: МКПП | H82: =H76+G10 -> 27969.3
C83: АКПП | H83: =H77+G10 -> 27469.5
B84: 3 | C84: МКПП | H84: =H78+G10 -> 30781.354
C85: АКПП | H85: =H79+G10 -> 30781.354
B86: =B80 -> 3,8 MIVEC | C86: МКПП
C87: АКПП | H87: =H81+G10 -> 30747.354
